BEGIN:VCALENDAR
VERSION:2.0
PRODID:-//Ainsley&#039;s Angels of America - ECPv6.15.20//NONSGML v1.0//EN
CALSCALE:GREGORIAN
METHOD:PUBLISH
X-WR-CALNAME:Ainsley&#039;s Angels of America
X-ORIGINAL-URL:https://ainsleysangels.org
X-WR-CALDESC:Events for Ainsley&#039;s Angels of America
REFRESH-INTERVAL;VALUE=DURATION:PT1H
X-Robots-Tag:noindex
X-PUBLISHED-TTL:PT1H
BEGIN:VTIMEZONE
TZID:America/New_York
BEGIN:DAYLIGHT
TZOFFSETFROM:-0500
TZOFFSETTO:-0400
TZNAME:EDT
DTSTART:20220313T070000
END:DAYLIGHT
BEGIN:STANDARD
TZOFFSETFROM:-0400
TZOFFSETTO:-0500
TZNAME:EST
DTSTART:20221106T060000
END:STANDARD
BEGIN:DAYLIGHT
TZOFFSETFROM:-0500
TZOFFSETTO:-0400
TZNAME:EDT
DTSTART:20230312T070000
END:DAYLIGHT
BEGIN:STANDARD
TZOFFSETFROM:-0400
TZOFFSETTO:-0500
TZNAME:EST
DTSTART:20231105T060000
END:STANDARD
BEGIN:DAYLIGHT
TZOFFSETFROM:-0500
TZOFFSETTO:-0400
TZNAME:EDT
DTSTART:20240310T070000
END:DAYLIGHT
BEGIN:STANDARD
TZOFFSETFROM:-0400
TZOFFSETTO:-0500
TZNAME:EST
DTSTART:20241103T060000
END:STANDARD
END:VTIMEZONE
BEGIN:VEVENT
DTSTART;TZID=America/New_York:20230708T080000
DTEND;TZID=America/New_York:20230708T080000
DTSTAMP:20260421T134605
CREATED:20230521T123924Z
LAST-MODIFIED:20230521T123924Z
UID:10000690-1688803200-1688803200@ainsleysangels.org
SUMMARY:Miles on the Mall July Meet Up
DESCRIPTION:Join us on the National Mall for an hour of rolling. Run/walk/hang for an hour!\nJuly 8th.\nWe will meet at 7:30am\nMeet up location: Madison Dr NW (back side of the Natural History Museum)\n\nWe’re excited to partner with FLEX for this meet up! Don’t miss out.\nAs always\, please RSVP so we know you’re coming!\n\nhttps://forms.office.com/Pages/ResponsePage.aspx?id=VJ2yuIQuqkaf74KfE9HJYLJKbSY8xTdPn2x7IFhWrNpUMUs1SkZEREUyTDBHMFdUT1JYWU0yNVVMMC4u
URL:https://ainsleysangels.org/single-event/miles-on-the-mall-july-meet-up/
LOCATION:1300 Constitution Ave. NW\, Washington\, DC 20560\, 1300 Constitution Ave. NW\,\, Washington\, DC\, 20560
CATEGORIES:Maryland,National Capital Region,NCR
ATTACH;FMTTYPE=:
END:VEVENT
END:VCALENDAR