BEGIN:VCALENDAR
VERSION:2.0
PRODID:-//Ainsley&#039;s Angels of America - ECPv6.15.20//NONSGML v1.0//EN
CALSCALE:GREGORIAN
METHOD:PUBLISH
X-WR-CALNAME:Ainsley&#039;s Angels of America
X-ORIGINAL-URL:https://ainsleysangels.org
X-WR-CALDESC:Events for Ainsley&#039;s Angels of America
REFRESH-INTERVAL;VALUE=DURATION:PT1H
X-Robots-Tag:noindex
X-PUBLISHED-TTL:PT1H
BEGIN:VTIMEZONE
TZID:America/New_York
BEGIN:DAYLIGHT
TZOFFSETFROM:-0500
TZOFFSETTO:-0400
TZNAME:EDT
DTSTART:20250309T070000
END:DAYLIGHT
BEGIN:STANDARD
TZOFFSETFROM:-0400
TZOFFSETTO:-0500
TZNAME:EST
DTSTART:20251102T060000
END:STANDARD
BEGIN:DAYLIGHT
TZOFFSETFROM:-0500
TZOFFSETTO:-0400
TZNAME:EDT
DTSTART:20260308T070000
END:DAYLIGHT
BEGIN:STANDARD
TZOFFSETFROM:-0400
TZOFFSETTO:-0500
TZNAME:EST
DTSTART:20261101T060000
END:STANDARD
BEGIN:DAYLIGHT
TZOFFSETFROM:-0500
TZOFFSETTO:-0400
TZNAME:EDT
DTSTART:20270314T070000
END:DAYLIGHT
BEGIN:STANDARD
TZOFFSETFROM:-0400
TZOFFSETTO:-0500
TZNAME:EST
DTSTART:20271107T060000
END:STANDARD
END:VTIMEZONE
BEGIN:VEVENT
DTSTART;TZID=America/New_York:20261016T080000
DTEND;TZID=America/New_York:20261018T170000
DTSTAMP:20260419T184941
CREATED:20260216T201833Z
LAST-MODIFIED:20260216T201833Z
UID:10001401-1792137600-1792342800@ainsleysangels.org
SUMMARY:Bethlehem Running Festival
DESCRIPTION:This is a weekend of fun with 5K\, 10K\, and Half Marathon!
URL:https://ainsleysangels.org/single-event/bethlehem-running-festival/
LOCATION:IN
CATEGORIES:Pennsylvania,Southeast Pennsylvania
ATTACH;FMTTYPE=:
END:VEVENT
BEGIN:VEVENT
DTSTART;VALUE=DATE:20261018
DTEND;VALUE=DATE:20261019
DTSTAMP:20260419T184941
CREATED:20260105T161142Z
LAST-MODIFIED:20260105T161142Z
UID:10001365-1792281600-1792367999@ainsleysangels.org
SUMMARY:Hopyard 5k
DESCRIPTION:
URL:https://ainsleysangels.org/single-event/hopyard-5k/
LOCATION:IN
CATEGORIES:Fredericksburg
ATTACH;FMTTYPE=:
END:VEVENT
BEGIN:VEVENT
DTSTART;TZID=America/New_York:20261018T080000
DTEND;TZID=America/New_York:20261018T170000
DTSTAMP:20260419T184941
CREATED:20260308T150432Z
LAST-MODIFIED:20260308T150432Z
UID:10001442-1792310400-1792342800@ainsleysangels.org
SUMMARY:Detroit Free Press half and full marathon
DESCRIPTION:
URL:https://ainsleysangels.org/single-event/detroit-free-press-half-and-full-marathon/
LOCATION:IN
CATEGORIES:Southeast Michigan
ATTACH;FMTTYPE=:
END:VEVENT
BEGIN:VEVENT
DTSTART;VALUE=DATE:20261019
DTEND;VALUE=DATE:20261020
DTSTAMP:20260419T184941
CREATED:20240714T205925Z
LAST-MODIFIED:20240714T205925Z
UID:10001018-1792368000-1792454399@ainsleysangels.org
SUMMARY:Madison\, WI Never Miss a Monday! with Fleet Feet
DESCRIPTION:Never Miss a Monday! with Fleet Feet\nWhere: Fleet Feet (8440 Old Sauk Rd\, Middleton\, WI 53562)\nWhen: Mondays (starting May 13th) at 6pm\nRegister: Please email madison@ainsleysangels.org if you plan to attend!\n\nThis event will be recurring every Monday at 6pm weather permitting and not on holidays. Please let us know if you will be joining us!
URL:https://ainsleysangels.org/single-event/madison-wi-never-miss-a-monday-with-fleet-feet/2026-10-19/
LOCATION:IN
ATTACH;FMTTYPE=:
END:VEVENT
END:VCALENDAR