BEGIN:VCALENDAR
VERSION:2.0
PRODID:-//Ainsley&#039;s Angels of America - ECPv6.15.20//NONSGML v1.0//EN
CALSCALE:GREGORIAN
METHOD:PUBLISH
X-ORIGINAL-URL:https://ainsleysangels.org
X-WR-CALDESC:Events for Ainsley&#039;s Angels of America
REFRESH-INTERVAL;VALUE=DURATION:PT1H
X-Robots-Tag:noindex
X-PUBLISHED-TTL:PT1H
BEGIN:VTIMEZONE
TZID:America/New_York
BEGIN:DAYLIGHT
TZOFFSETFROM:-0500
TZOFFSETTO:-0400
TZNAME:EDT
DTSTART:20250309T070000
END:DAYLIGHT
BEGIN:STANDARD
TZOFFSETFROM:-0400
TZOFFSETTO:-0500
TZNAME:EST
DTSTART:20251102T060000
END:STANDARD
BEGIN:DAYLIGHT
TZOFFSETFROM:-0500
TZOFFSETTO:-0400
TZNAME:EDT
DTSTART:20260308T070000
END:DAYLIGHT
BEGIN:STANDARD
TZOFFSETFROM:-0400
TZOFFSETTO:-0500
TZNAME:EST
DTSTART:20261101T060000
END:STANDARD
BEGIN:DAYLIGHT
TZOFFSETFROM:-0500
TZOFFSETTO:-0400
TZNAME:EDT
DTSTART:20270314T070000
END:DAYLIGHT
BEGIN:STANDARD
TZOFFSETFROM:-0400
TZOFFSETTO:-0500
TZNAME:EST
DTSTART:20271107T060000
END:STANDARD
END:VTIMEZONE
BEGIN:VEVENT
DTSTART;TZID=America/New_York:20260920T083000
DTEND;TZID=America/New_York:20260920T113000
DTSTAMP:20260421T164231
CREATED:20251231T022205Z
LAST-MODIFIED:20251231T022205Z
UID:10001348-1789893000-1789903800@ainsleysangels.org
SUMMARY:Ocean City Half Marathon & 5K
DESCRIPTION:Date of September 20 is pending .   Registration info coming soon.
URL:https://ainsleysangels.org/single-event/ocean-city-half-marathon-5k/
LOCATION:Ocean City Music Pier\, Moorlyn Terrace & 825 Boardwalk\, Ocean City\, New Jersey\, 08226
CATEGORIES:New Jersey,South Jersey
ATTACH;FMTTYPE=:
END:VEVENT
BEGIN:VEVENT
DTSTART;VALUE=DATE:20260921
DTEND;VALUE=DATE:20260922
DTSTAMP:20260421T164231
CREATED:20240714T205925Z
LAST-MODIFIED:20240714T205925Z
UID:10001014-1789948800-1790035199@ainsleysangels.org
SUMMARY:Madison\, WI Never Miss a Monday! with Fleet Feet
DESCRIPTION:Never Miss a Monday! with Fleet Feet\nWhere: Fleet Feet (8440 Old Sauk Rd\, Middleton\, WI 53562)\nWhen: Mondays (starting May 13th) at 6pm\nRegister: Please email madison@ainsleysangels.org if you plan to attend!\n\nThis event will be recurring every Monday at 6pm weather permitting and not on holidays. Please let us know if you will be joining us!
URL:https://ainsleysangels.org/single-event/madison-wi-never-miss-a-monday-with-fleet-feet/2026-09-21/
ATTACH;FMTTYPE=:
END:VEVENT
BEGIN:VEVENT
DTSTART;TZID=America/New_York:20260926T063000
DTEND;TZID=America/New_York:20260926T130000
DTSTAMP:20260421T164231
CREATED:20260215T174816Z
LAST-MODIFIED:20260215T174816Z
UID:10001395-1790404200-1790427600@ainsleysangels.org
SUMMARY:Mad Dash 5k
DESCRIPTION:Place\n2300 Sycamore Street \nMonroe\, LA US 71201 \n\n\n\nDescription\n\n\nJoin us at Forsythe Park\, 2300 Sycamore Street\, Monroe\, LA 71201 for the 2nd annual MAD Dash 5k & One-Mile Fun Run! \nOnline registration will close on September 20\, 2026\, at 11:59pm. In-person registration is available during packet pick up on Thursday\, September 24th and Friday\, September 25th. You can pick up your packets between 9 a.m. and 6 p.m. (location to be determined). \nRace day registration will be available on Saturday\, September 26\, 2026\, at the registration tent. \n\n\n\nMAD Dash 5k \nNELA Monroe Ainsley’s Angels will be participating in the event. If you would like to run/roll with our Ainsley’s please contact nelouisiana@ainsleysangels.org
URL:https://ainsleysangels.org/single-event/mad-dash-5k/
LOCATION:forsythe park\, 2300 sycamore st\, monroe\, Louisiana\, 71201
CATEGORIES:Northeast Louisiana
ATTACH;FMTTYPE=:
END:VEVENT
END:VCALENDAR