BEGIN:VCALENDAR
VERSION:2.0
PRODID:-//Ainsley&#039;s Angels of America - ECPv6.15.20//NONSGML v1.0//EN
CALSCALE:GREGORIAN
METHOD:PUBLISH
X-WR-CALNAME:Ainsley&#039;s Angels of America
X-ORIGINAL-URL:https://ainsleysangels.org
X-WR-CALDESC:Events for Ainsley&#039;s Angels of America
REFRESH-INTERVAL;VALUE=DURATION:PT1H
X-Robots-Tag:noindex
X-PUBLISHED-TTL:PT1H
BEGIN:VTIMEZONE
TZID:America/New_York
BEGIN:DAYLIGHT
TZOFFSETFROM:-0500
TZOFFSETTO:-0400
TZNAME:EDT
DTSTART:20250309T070000
END:DAYLIGHT
BEGIN:STANDARD
TZOFFSETFROM:-0400
TZOFFSETTO:-0500
TZNAME:EST
DTSTART:20251102T060000
END:STANDARD
BEGIN:DAYLIGHT
TZOFFSETFROM:-0500
TZOFFSETTO:-0400
TZNAME:EDT
DTSTART:20260308T070000
END:DAYLIGHT
BEGIN:STANDARD
TZOFFSETFROM:-0400
TZOFFSETTO:-0500
TZNAME:EST
DTSTART:20261101T060000
END:STANDARD
BEGIN:DAYLIGHT
TZOFFSETFROM:-0500
TZOFFSETTO:-0400
TZNAME:EDT
DTSTART:20270314T070000
END:DAYLIGHT
BEGIN:STANDARD
TZOFFSETFROM:-0400
TZOFFSETTO:-0500
TZNAME:EST
DTSTART:20271107T060000
END:STANDARD
END:VTIMEZONE
BEGIN:VEVENT
DTSTART;TZID=America/New_York:20260823T130000
DTEND;TZID=America/New_York:20260823T153000
DTSTAMP:20260419T162318
CREATED:20260105T160920Z
LAST-MODIFIED:20260105T160920Z
UID:10001362-1787490000-1787499000@ainsleysangels.org
SUMMARY:Movie
DESCRIPTION:
URL:https://ainsleysangels.org/single-event/movie/
LOCATION:IN
CATEGORIES:Fredericksburg
ATTACH;FMTTYPE=:
END:VEVENT
BEGIN:VEVENT
DTSTART;VALUE=DATE:20260824
DTEND;VALUE=DATE:20260825
DTSTAMP:20260419T162318
CREATED:20240714T205925Z
LAST-MODIFIED:20240714T205925Z
UID:10001010-1787529600-1787615999@ainsleysangels.org
SUMMARY:Madison\, WI Never Miss a Monday! with Fleet Feet
DESCRIPTION:Never Miss a Monday! with Fleet Feet\nWhere: Fleet Feet (8440 Old Sauk Rd\, Middleton\, WI 53562)\nWhen: Mondays (starting May 13th) at 6pm\nRegister: Please email madison@ainsleysangels.org if you plan to attend!\n\nThis event will be recurring every Monday at 6pm weather permitting and not on holidays. Please let us know if you will be joining us!
URL:https://ainsleysangels.org/single-event/madison-wi-never-miss-a-monday-with-fleet-feet/2026-08-24/
LOCATION:IN
ATTACH;FMTTYPE=:
END:VEVENT
BEGIN:VEVENT
DTSTART;TZID=America/New_York:20260826T080000
DTEND;TZID=America/New_York:20260826T170000
DTSTAMP:20260419T162318
CREATED:20260219T001042Z
LAST-MODIFIED:20260219T001042Z
UID:10001407-1787731200-1787763600@ainsleysangels.org
SUMMARY:Great Pumpkin Challenge
DESCRIPTION:
URL:https://ainsleysangels.org/single-event/great-pumpkin-challenge/
LOCATION:IN
CATEGORIES:Albany / ADK
ATTACH;FMTTYPE=:
END:VEVENT
END:VCALENDAR