BEGIN:VCALENDAR
VERSION:2.0
PRODID:-//Ainsley&#039;s Angels of America - ECPv6.15.20//NONSGML v1.0//EN
CALSCALE:GREGORIAN
METHOD:PUBLISH
X-ORIGINAL-URL:https://ainsleysangels.org
X-WR-CALDESC:Events for Ainsley&#039;s Angels of America
REFRESH-INTERVAL;VALUE=DURATION:PT1H
X-Robots-Tag:noindex
X-PUBLISHED-TTL:PT1H
BEGIN:VTIMEZONE
TZID:America/New_York
BEGIN:DAYLIGHT
TZOFFSETFROM:-0500
TZOFFSETTO:-0400
TZNAME:EDT
DTSTART:20250309T070000
END:DAYLIGHT
BEGIN:STANDARD
TZOFFSETFROM:-0400
TZOFFSETTO:-0500
TZNAME:EST
DTSTART:20251102T060000
END:STANDARD
BEGIN:DAYLIGHT
TZOFFSETFROM:-0500
TZOFFSETTO:-0400
TZNAME:EDT
DTSTART:20260308T070000
END:DAYLIGHT
BEGIN:STANDARD
TZOFFSETFROM:-0400
TZOFFSETTO:-0500
TZNAME:EST
DTSTART:20261101T060000
END:STANDARD
BEGIN:DAYLIGHT
TZOFFSETFROM:-0500
TZOFFSETTO:-0400
TZNAME:EDT
DTSTART:20270314T070000
END:DAYLIGHT
BEGIN:STANDARD
TZOFFSETFROM:-0400
TZOFFSETTO:-0500
TZNAME:EST
DTSTART:20271107T060000
END:STANDARD
END:VTIMEZONE
BEGIN:VEVENT
DTSTART;VALUE=DATE:20260727
DTEND;VALUE=DATE:20260728
DTSTAMP:20260421T133613
CREATED:20240714T205925Z
LAST-MODIFIED:20240714T205925Z
UID:10001006-1785110400-1785196799@ainsleysangels.org
SUMMARY:Madison\, WI Never Miss a Monday! with Fleet Feet
DESCRIPTION:Never Miss a Monday! with Fleet Feet\nWhere: Fleet Feet (8440 Old Sauk Rd\, Middleton\, WI 53562)\nWhen: Mondays (starting May 13th) at 6pm\nRegister: Please email madison@ainsleysangels.org if you plan to attend!\n\nThis event will be recurring every Monday at 6pm weather permitting and not on holidays. Please let us know if you will be joining us!
URL:https://ainsleysangels.org/single-event/madison-wi-never-miss-a-monday-with-fleet-feet/2026-07-27/
ATTACH;FMTTYPE=:
END:VEVENT
BEGIN:VEVENT
DTSTART;TZID=America/New_York:20260801T070000
DTEND;TZID=America/New_York:20260801T120000
DTSTAMP:20260421T133613
CREATED:20260419T231303Z
LAST-MODIFIED:20260419T231303Z
UID:10001455-1785567600-1785585600@ainsleysangels.org
SUMMARY:Ainsley's Angels runs Royal Beast
DESCRIPTION:Want to join us for some miles at the Royal Beast? Run as many miles as you like. We will set up our tent and have food and drink for everyone to enjoy. This is a good venue to get some miles in if you are training for the Air Force or Marine Corps Marathons. Contact Kristy or Misty and let us know if you will be joining us. We have a code for riders.
URL:https://ainsleysangels.org/single-event/ainsleys-angels-runs-royal-beast/
LOCATION:Southeastway Park\, 5624 S Carroll Rd\, New Palestine\, IN\, United States
CATEGORIES:Indiana,North Central Indiana
ATTACH;FMTTYPE=:
END:VEVENT
BEGIN:VEVENT
DTSTART;TZID=America/New_York:20260801T080000
DTEND;TZID=America/New_York:20260801T170000
DTSTAMP:20260421T133613
CREATED:20260308T145829Z
LAST-MODIFIED:20260308T145829Z
UID:10001436-1785571200-1785603600@ainsleysangels.org
SUMMARY:Kayla O'Mara 5k  Goodrich
DESCRIPTION:
URL:https://ainsleysangels.org/single-event/kayla-omara-5k-goodrich/
CATEGORIES:Southeast Michigan
ATTACH;FMTTYPE=:
END:VEVENT
END:VCALENDAR