BEGIN:VCALENDAR
VERSION:2.0
PRODID:-//Ainsley&#039;s Angels of America - ECPv6.15.20//NONSGML v1.0//EN
CALSCALE:GREGORIAN
METHOD:PUBLISH
X-WR-CALNAME:Ainsley&#039;s Angels of America
X-ORIGINAL-URL:https://ainsleysangels.org
X-WR-CALDESC:Events for Ainsley&#039;s Angels of America
REFRESH-INTERVAL;VALUE=DURATION:PT1H
X-Robots-Tag:noindex
X-PUBLISHED-TTL:PT1H
BEGIN:VTIMEZONE
TZID:America/New_York
BEGIN:DAYLIGHT
TZOFFSETFROM:-0500
TZOFFSETTO:-0400
TZNAME:EDT
DTSTART:20240310T070000
END:DAYLIGHT
BEGIN:STANDARD
TZOFFSETFROM:-0400
TZOFFSETTO:-0500
TZNAME:EST
DTSTART:20241103T060000
END:STANDARD
BEGIN:DAYLIGHT
TZOFFSETFROM:-0500
TZOFFSETTO:-0400
TZNAME:EDT
DTSTART:20250309T070000
END:DAYLIGHT
BEGIN:STANDARD
TZOFFSETFROM:-0400
TZOFFSETTO:-0500
TZNAME:EST
DTSTART:20251102T060000
END:STANDARD
BEGIN:DAYLIGHT
TZOFFSETFROM:-0500
TZOFFSETTO:-0400
TZNAME:EDT
DTSTART:20260308T070000
END:DAYLIGHT
BEGIN:STANDARD
TZOFFSETFROM:-0400
TZOFFSETTO:-0500
TZNAME:EST
DTSTART:20261101T060000
END:STANDARD
END:VTIMEZONE
BEGIN:VEVENT
DTSTART;TZID=America/New_York:20250504T053000
DTEND;TZID=America/New_York:20250504T170000
DTSTAMP:20260419T222039
CREATED:20250210T183221Z
LAST-MODIFIED:20250210T190242Z
UID:10001284-1746336600-1746378000@ainsleysangels.org
SUMMARY:OC Marathon/Half Marathon
DESCRIPTION:May 4\, 2025 – 5:30 AM \nThe 26.2 mile tour of beautiful Orange County. Named the RRCA National Marathon Championship. \n  \nMay 4\, 2025 – 6:30 AM \nIt’s the perfect distance to enjoy the post-race party.
URL:https://ainsleysangels.org/single-event/oc-marathon-half-marathon/
CATEGORIES:California,Southern California
ATTACH;FMTTYPE=:
END:VEVENT
BEGIN:VEVENT
DTSTART;VALUE=DATE:20250505
DTEND;VALUE=DATE:20250506
DTSTAMP:20260419T222039
CREATED:20240714T205925Z
LAST-MODIFIED:20240714T205925Z
UID:10000942-1746403200-1746489599@ainsleysangels.org
SUMMARY:Madison\, WI Never Miss a Monday! with Fleet Feet
DESCRIPTION:Never Miss a Monday! with Fleet Feet\nWhere: Fleet Feet (8440 Old Sauk Rd\, Middleton\, WI 53562)\nWhen: Mondays (starting May 13th) at 6pm\nRegister: Please email madison@ainsleysangels.org if you plan to attend!\n\nThis event will be recurring every Monday at 6pm weather permitting and not on holidays. Please let us know if you will be joining us!
URL:https://ainsleysangels.org/single-event/madison-wi-never-miss-a-monday-with-fleet-feet/2025-05-05/
ATTACH;FMTTYPE=:
END:VEVENT
BEGIN:VEVENT
DTSTART;TZID=America/New_York:20250510T063000
DTEND;TZID=America/New_York:20250510T090000
DTSTAMP:20260419T222039
CREATED:20250427T223329Z
LAST-MODIFIED:20250427T223329Z
UID:10001301-1746858600-1746867600@ainsleysangels.org
SUMMARY:River Valley Ainsley's Angels in the RunWalkArkansas 5k
DESCRIPTION:Help us celebrate our clinic participants in their movement journey!  The River Valley Ainsley’s Angels have been working with this group through their clinic and we will celebrate with them in their 5k finisher!
URL:https://ainsleysangels.org/single-event/river-valley-ainsleys-angels-in-the-runwalkarkansas-5k/
CATEGORIES:River Valley
ATTACH;FMTTYPE=:
END:VEVENT
BEGIN:VEVENT
DTSTART;TZID=America/New_York:20250510T070000
DTEND;TZID=America/New_York:20250510T130000
DTSTAMP:20260419T222039
CREATED:20250120T170938Z
LAST-MODIFIED:20250120T170938Z
UID:10001248-1746860400-1746882000@ainsleysangels.org
SUMMARY:19th CHKD RunWalk for the Kids
DESCRIPTION:Race Info\nWear your best SUPER HERO cape in honor of our community heroes\, military heroes\, CHKD heroes\, patients or a special hero in your life. Get more information about schedules\, rules\, and more! \n5K Awards / Team Prizes\n5K winners in each age group and overall top place will receive a gift certificate to Running\, Etc. Learn more about the different team awards and prizes
URL:https://ainsleysangels.org/single-event/19th-chkd-runwalk-for-the-kids/
LOCATION:Norfolk Waterside\, 1 Waterside Dr\, Norfolk\, VA\, 23510
CATEGORIES:Hampton Roads
ATTACH;FMTTYPE=:
END:VEVENT
BEGIN:VEVENT
DTSTART;TZID=America/New_York:20250510T073000
DTEND;TZID=America/New_York:20250510T103000
DTSTAMP:20260419T222039
CREATED:20250504T170855Z
LAST-MODIFIED:20250504T170855Z
UID:10001304-1746862200-1746873000@ainsleysangels.org
SUMMARY:New River Splash Triathlon\, Duathlon\, and 5K
DESCRIPTION:Our Angels are excited to roll in the 5K distance for this event\, which is part of the Jacksonville Onslow Sports Commission’s race series! Email us with details for how to get signed up at easterncarolina@ainsleysangels.org
URL:https://ainsleysangels.org/single-event/new-river-splash-triathlon-duathlon-and-5k/
CATEGORIES:Eastern Carolina,North Carolina
ATTACH;FMTTYPE=:
END:VEVENT
BEGIN:VEVENT
DTSTART;TZID=America/New_York:20250510T080000
DTEND;TZID=America/New_York:20250510T100000
DTSTAMP:20260419T222039
CREATED:20250125T003038Z
LAST-MODIFIED:20250125T003038Z
UID:10001260-1746864000-1746871200@ainsleysangels.org
SUMMARY:GNOLA YMCA Healthy Kids' Day 5K
DESCRIPTION:2nd Annual HKD5K starts and finishes at the YMCA with the route running through neighboring Terra Bella.  YMCA’s nationally recognized “HEALTHY KIDS DAY” events will immediately follow race.
URL:https://ainsleysangels.org/single-event/gnola-ymca-healthy-kids-day-5k/
CATEGORIES:Greater New Orleans,Louisiana
ATTACH;FMTTYPE=:
END:VEVENT
END:VCALENDAR