BEGIN:VCALENDAR
VERSION:2.0
PRODID:-//Ainsley&#039;s Angels of America - ECPv6.15.20//NONSGML v1.0//EN
CALSCALE:GREGORIAN
METHOD:PUBLISH
X-WR-CALNAME:Ainsley&#039;s Angels of America
X-ORIGINAL-URL:https://ainsleysangels.org
X-WR-CALDESC:Events for Ainsley&#039;s Angels of America
REFRESH-INTERVAL;VALUE=DURATION:PT1H
X-Robots-Tag:noindex
X-PUBLISHED-TTL:PT1H
BEGIN:VTIMEZONE
TZID:America/New_York
BEGIN:DAYLIGHT
TZOFFSETFROM:-0500
TZOFFSETTO:-0400
TZNAME:EDT
DTSTART:20240310T070000
END:DAYLIGHT
BEGIN:STANDARD
TZOFFSETFROM:-0400
TZOFFSETTO:-0500
TZNAME:EST
DTSTART:20241103T060000
END:STANDARD
BEGIN:DAYLIGHT
TZOFFSETFROM:-0500
TZOFFSETTO:-0400
TZNAME:EDT
DTSTART:20250309T070000
END:DAYLIGHT
BEGIN:STANDARD
TZOFFSETFROM:-0400
TZOFFSETTO:-0500
TZNAME:EST
DTSTART:20251102T060000
END:STANDARD
BEGIN:DAYLIGHT
TZOFFSETFROM:-0500
TZOFFSETTO:-0400
TZNAME:EDT
DTSTART:20260308T070000
END:DAYLIGHT
BEGIN:STANDARD
TZOFFSETFROM:-0400
TZOFFSETTO:-0500
TZNAME:EST
DTSTART:20261101T060000
END:STANDARD
END:VTIMEZONE
BEGIN:VEVENT
DTSTART;VALUE=DATE:20250428
DTEND;VALUE=DATE:20250429
DTSTAMP:20260420T001046
CREATED:20240714T205925Z
LAST-MODIFIED:20240714T205925Z
UID:10000941-1745798400-1745884799@ainsleysangels.org
SUMMARY:Madison\, WI Never Miss a Monday! with Fleet Feet
DESCRIPTION:Never Miss a Monday! with Fleet Feet\nWhere: Fleet Feet (8440 Old Sauk Rd\, Middleton\, WI 53562)\nWhen: Mondays (starting May 13th) at 6pm\nRegister: Please email madison@ainsleysangels.org if you plan to attend!\n\nThis event will be recurring every Monday at 6pm weather permitting and not on holidays. Please let us know if you will be joining us!
URL:https://ainsleysangels.org/single-event/madison-wi-never-miss-a-monday-with-fleet-feet/2025-04-28/
ATTACH;FMTTYPE=:
END:VEVENT
BEGIN:VEVENT
DTSTART;TZID=America/New_York:20250502T170000
DTEND;TZID=America/New_York:20250502T203000
DTSTAMP:20260420T001046
CREATED:20250428T113029Z
LAST-MODIFIED:20250501T000931Z
UID:10001303-1746205200-1746217800@ainsleysangels.org
SUMMARY:Max's Moon Run 5K  - Suwanee Town Center
DESCRIPTION:Event Details \nMax’s Moon Run is Friday\, May 2nd at Suwanee Town Center\, 330 Town Center Avenue\, Suwanee\, GA 30024 \nPacket Pick-Up \n 6-8 p.m. April 30th\, Packet Pick-up at Big Peach Running \nWhere: 320 Town Center Ave\, Suwanee\, GA 30024 \nRACE DAY SCHEDULE \n5 p.m.- walk-up registrations opens \n6:30 p.m.- Surprise Presentation & Warm-Ups \n7 p.m. Fun Run for kids ages 12 and under \n7:10 p.m. 5k \n8:30 Awards \nScoot Teasley and his band will be performing on the on the big stage all night! There will be vendors\, food trucks\, kid activities- including complimentary face painting\, glow accessories\, and inflatables – something for everyone! Bring a blanket or folding chair and settle in for a night of fun\, benefitting the Maximus Janton Foundation\, which serves the special needs community.n
URL:https://ainsleysangels.org/single-event/maxs-moon-run-5k-suwanee-town-center/
LOCATION:Suwanee Town Center\, 320 Town Center Ave\, Suwanee\, GA\, 30024
CATEGORIES:North Georgia
ATTACH;FMTTYPE=:
END:VEVENT
BEGIN:VEVENT
DTSTART;TZID=America/New_York:20250503T073000
DTEND;TZID=America/New_York:20250503T090000
DTSTAMP:20260420T001046
CREATED:20250427T222356Z
LAST-MODIFIED:20250427T222443Z
UID:10001300-1746257400-1746262800@ainsleysangels.org
SUMMARY:River Valley Ainsley's Angels in the Everyday Heroes 5k\, 1 Mile Walk
DESCRIPTION:Please join us for our 13th Annual Everyday Superhero 5K for Sat May 3rd\, at 8AM. This is a one-day fundraising run/walk to benefit the Morgan Nick Foundation\, raising funds to help educate and empower children to stay safe from abduction and harm. \n 
URL:https://ainsleysangels.org/single-event/40375/
CATEGORIES:River Valley
ATTACH;FMTTYPE=:
END:VEVENT
BEGIN:VEVENT
DTSTART;TZID=America/New_York:20250503T073000
DTEND;TZID=America/New_York:20250503T150000
DTSTAMP:20260420T001046
CREATED:20250126T223414Z
LAST-MODIFIED:20250126T223414Z
UID:10001276-1746257400-1746284400@ainsleysangels.org
SUMMARY:AAA runs the Mini
DESCRIPTION:Come join us for the party!! This is the 49th Indy Mini Marathon. The Expo is open 5/1 & 5/2. Come see us when you pick up your packet for hugs\, selfies and gear purchase opportunities! We will have a family dinner the evening of 5/2 for everyone to break bread\, meet new pink family you haven’t met and enjoy each other’s company. On May 3rd\, we will start right after the hand crank division at the front. Come be part of one of the most iconic 1/2 marathons in this part of the country! Run on the historic Indianapolis Motor Speedway at the half-way point of the 1/2 Marathon. There are lots of individuals and entertainment on the course for you to enjoy as you run through the flat streets of Indianapolis\, Indiana. Contact Kristy or Misty now if you plan on participating–you need to use the link we send you to register if you plan on being in an Angel team. We hope to see you all there!!!! ncAAAAA
URL:https://ainsleysangels.org/single-event/aaa-runs-the-mini/
LOCATION:NCAA Hall of Champions\, 700 W Washington St\, Indianapolis\, IN\, 46204\, United States
CATEGORIES:Indiana,North Central Indiana
ATTACH;FMTTYPE=:
END:VEVENT
BEGIN:VEVENT
DTSTART;TZID=America/New_York:20250503T160000
DTEND;TZID=America/New_York:20250503T183000
DTSTAMP:20260420T001046
CREATED:20241120T001755Z
LAST-MODIFIED:20241120T002019Z
UID:10001193-1746288000-1746297000@ainsleysangels.org
SUMMARY:Innsbrook Mile
DESCRIPTION:Come run and ride to promote inclusion. \nIn addition to providing a fun family night of racing\, the proceeds of this event go directly to producing free fitness programs in Richmond’s lowest-opportunity neighborhoods and $1\,000+ will be donated back to local school’s physical education departments. \nEmail richmond@ainsleysangels.org or call Chris Wray at 804-481-0337 to signup. \n 
URL:https://ainsleysangels.org/single-event/innsbrook-mile/
CATEGORIES:Richmond,Virginia
ATTACH;FMTTYPE=:
END:VEVENT
END:VCALENDAR