BEGIN:VCALENDAR
VERSION:2.0
PRODID:-//Ainsley&#039;s Angels of America - ECPv6.15.20//NONSGML v1.0//EN
CALSCALE:GREGORIAN
METHOD:PUBLISH
X-ORIGINAL-URL:https://ainsleysangels.org
X-WR-CALDESC:Events for Ainsley&#039;s Angels of America
REFRESH-INTERVAL;VALUE=DURATION:PT1H
X-Robots-Tag:noindex
X-PUBLISHED-TTL:PT1H
BEGIN:VTIMEZONE
TZID:America/New_York
BEGIN:DAYLIGHT
TZOFFSETFROM:-0500
TZOFFSETTO:-0400
TZNAME:EDT
DTSTART:20240310T070000
END:DAYLIGHT
BEGIN:STANDARD
TZOFFSETFROM:-0400
TZOFFSETTO:-0500
TZNAME:EST
DTSTART:20241103T060000
END:STANDARD
BEGIN:DAYLIGHT
TZOFFSETFROM:-0500
TZOFFSETTO:-0400
TZNAME:EDT
DTSTART:20250309T070000
END:DAYLIGHT
BEGIN:STANDARD
TZOFFSETFROM:-0400
TZOFFSETTO:-0500
TZNAME:EST
DTSTART:20251102T060000
END:STANDARD
BEGIN:DAYLIGHT
TZOFFSETFROM:-0500
TZOFFSETTO:-0400
TZNAME:EDT
DTSTART:20260308T070000
END:DAYLIGHT
BEGIN:STANDARD
TZOFFSETFROM:-0400
TZOFFSETTO:-0500
TZNAME:EST
DTSTART:20261101T060000
END:STANDARD
END:VTIMEZONE
BEGIN:VEVENT
DTSTART;VALUE=DATE:20250414
DTEND;VALUE=DATE:20250415
DTSTAMP:20260419T191322
CREATED:20240714T205925Z
LAST-MODIFIED:20240714T205925Z
UID:10000939-1744588800-1744675199@ainsleysangels.org
SUMMARY:Madison\, WI Never Miss a Monday! with Fleet Feet
DESCRIPTION:Never Miss a Monday! with Fleet Feet\nWhere: Fleet Feet (8440 Old Sauk Rd\, Middleton\, WI 53562)\nWhen: Mondays (starting May 13th) at 6pm\nRegister: Please email madison@ainsleysangels.org if you plan to attend!\n\nThis event will be recurring every Monday at 6pm weather permitting and not on holidays. Please let us know if you will be joining us!
URL:https://ainsleysangels.org/single-event/madison-wi-never-miss-a-monday-with-fleet-feet/2025-04-14/
ATTACH;FMTTYPE=:
END:VEVENT
BEGIN:VEVENT
DTSTART;TZID=America/New_York:20250417T140000
DTEND;TZID=America/New_York:20250417T170000
DTSTAMP:20260419T191322
CREATED:20250125T000330Z
LAST-MODIFIED:20250125T000537Z
UID:10001257-1744898400-1744909200@ainsleysangels.org
SUMMARY:GNOLA Crescent City Classic Expo
DESCRIPTION:Start your CCC experience on the right foot at the free 2-day Health & Fitness Expo! Located in the Hyatt Regency New Orleans Hotel in Downtown New Orleans\, the Health & Fitness Expo features exhibitors showcasing the latest in running apparel\, shoes\, exercise equipment\, nutritional and wellness products\, fitness services\, and much more.
URL:https://ainsleysangels.org/single-event/gnola-crescent-city-classic-expo-2/
CATEGORIES:Greater New Orleans,Louisiana
ATTACH;FMTTYPE=:
END:VEVENT
BEGIN:VEVENT
DTSTART;TZID=America/New_York:20250418T100000
DTEND;TZID=America/New_York:20250418T190000
DTSTAMP:20260419T191322
CREATED:20250124T235932Z
LAST-MODIFIED:20250125T000142Z
UID:10001255-1744970400-1745002800@ainsleysangels.org
SUMMARY:GNOLA Crescent City Classic Expo
DESCRIPTION:Start your CCC experience on the right foot at the free 2-day Health & Fitness Expo! Located in the Hyatt Regency New Orleans Hotel in Downtown New Orleans. The Health & Fitness Expo features exhibitors showcasing the latest in running apparel\, shoes\, exercise equipment\, nutritional and wellness products\, fitness services\, and much more.
URL:https://ainsleysangels.org/single-event/gnola-crescent-city-classic-expo/
CATEGORIES:Greater New Orleans,Louisiana
ATTACH;FMTTYPE=:
END:VEVENT
BEGIN:VEVENT
DTSTART;TZID=America/New_York:20250419T080000
DTEND;TZID=America/New_York:20250419T130000
DTSTAMP:20260419T191322
CREATED:20250125T001147Z
LAST-MODIFIED:20250125T001349Z
UID:10001258-1745049600-1745067600@ainsleysangels.org
SUMMARY:GNOLA Crescent City Classic 10k
DESCRIPTION:GNOLA will be rolling in one of the largest races in the South which winds through New Orleans\, with over 10\,000 runners and walkers on the course!
URL:https://ainsleysangels.org/single-event/gnola-crescent-city-classic-10k/
CATEGORIES:Greater New Orleans,Louisiana
ATTACH;FMTTYPE=:
END:VEVENT
BEGIN:VEVENT
DTSTART;TZID=America/New_York:20250419T110000
DTEND;TZID=America/New_York:20250419T123000
DTSTAMP:20260419T191322
CREATED:20250131T013918Z
LAST-MODIFIED:20250131T013918Z
UID:10001277-1745060400-1745065800@ainsleysangels.org
SUMMARY:NCI runs Easter Egg 5K
DESCRIPTION:Is Downtown at the Beautiful White River State Park!*New in 2025 – Indoor Waiting at NIFS!!!Hip Hop Hooray!!!Run/Walk a 5K on April 19th and Finish right into the Easter Egg Party!Bring the Whole Family for aHoppy Good Eggy Time!Doesn’t Matter if You are a Fast Bunny\, Slow Bunny or Just a Hoppy Bunny….Easter Egg Hunt for All Ages to Enjoy!Little Kids Dasher Egg HuntersGrade Schooler Kids Dasher Egg Hunters5k Kids Egg Hunters5k All Ages Egg HuntersAll New 5K Adults Only (21+) Egg Hunters Presented By Easley Winery!Winning Egg Prizes for All Ages! (Loads & Loads of Prizes for Kids & Adults)\n*Must be registered for the Kids Dash to participate in the Kids Dash Egg Hunt.*Must be registered for the 5K to participate in the 5K Egg Hunt.5K Registration Includes Hoppy Swag!5K Starts at 11:00amEaster Shirt – Black Sublimated Tech T-Shirt*New Easter Race Bibs with Adorable Fun Surprising Easter Names!Easter Egg Finishers Medal!Chipped Timed 5kAge group Awards & PrizesYummy Cupcakes!!!Easter Egg Hunt for Adults and Children (Some Eggs Redeem for Prizes!!!)Free Photos with Fun Backdrops and Picture FramesLive Music with DJ Jazzy JettSaturday April 19 Hoppy Race Schedule9:30am Race Day Packet Pickup Opens10:25am 1st Kids Dash Egg Hunt – Recommended for Ages 6 & Under!10:35am 2nd Kids Dash Egg Hunt – Recommended for Ages 7 -12!10:45am Kids 80 Yard Dash – Race for More Easter Eggs!11:00am 5K Starts!Easter Party Begins (Live Music\, Cupcakes = Yummy)11:30am 1st 5K Egg Hunt All Ages….11:45am 2nd 5K Egg Hunt All Ages…11:45am Overall & Age Groups are Announced!12:00pm 3rd and Final 5K Egg Hunt All Ages…12:15pm Adults Egg Hunt – Adults Only (21+)…That’s All Folks – Have a Hoppy Easter Sunday! whi
URL:https://ainsleysangels.org/single-event/nci-runs-easter-egg-5k-2/
LOCATION:White River State Park\, 650 West Washington Street\, Indianapolis\, IN\, 46204\, United States
CATEGORIES:Indiana,North Central Indiana
ATTACH;FMTTYPE=:
END:VEVENT
BEGIN:VEVENT
DTSTART;TZID=America/New_York:20250419T180000
DTEND;TZID=America/New_York:20250419T200000
DTSTAMP:20260419T191322
CREATED:20250125T002506Z
LAST-MODIFIED:20250125T002506Z
UID:10001259-1745085600-1745092800@ainsleysangels.org
SUMMARY:GNOLA Egg My Yard Fundraiser
DESCRIPTION:Annual fundraiser for GNOLA: pre-purchase your plastic eggs and leave the egg hiding to us! What a fun surprise for your kids to find the next day!
URL:https://ainsleysangels.org/single-event/gnola-egg-my-yard-fundraiser/
CATEGORIES:Greater New Orleans,Louisiana
ATTACH;FMTTYPE=:
END:VEVENT
END:VCALENDAR