BEGIN:VCALENDAR
VERSION:2.0
PRODID:-//Ainsley&#039;s Angels of America - ECPv6.15.20//NONSGML v1.0//EN
CALSCALE:GREGORIAN
METHOD:PUBLISH
X-WR-CALNAME:Ainsley&#039;s Angels of America
X-ORIGINAL-URL:https://ainsleysangels.org
X-WR-CALDESC:Events for Ainsley&#039;s Angels of America
REFRESH-INTERVAL;VALUE=DURATION:PT1H
X-Robots-Tag:noindex
X-PUBLISHED-TTL:PT1H
BEGIN:VTIMEZONE
TZID:America/New_York
BEGIN:DAYLIGHT
TZOFFSETFROM:-0500
TZOFFSETTO:-0400
TZNAME:EDT
DTSTART:20240310T070000
END:DAYLIGHT
BEGIN:STANDARD
TZOFFSETFROM:-0400
TZOFFSETTO:-0500
TZNAME:EST
DTSTART:20241103T060000
END:STANDARD
BEGIN:DAYLIGHT
TZOFFSETFROM:-0500
TZOFFSETTO:-0400
TZNAME:EDT
DTSTART:20250309T070000
END:DAYLIGHT
BEGIN:STANDARD
TZOFFSETFROM:-0400
TZOFFSETTO:-0500
TZNAME:EST
DTSTART:20251102T060000
END:STANDARD
BEGIN:DAYLIGHT
TZOFFSETFROM:-0500
TZOFFSETTO:-0400
TZNAME:EDT
DTSTART:20260308T070000
END:DAYLIGHT
BEGIN:STANDARD
TZOFFSETFROM:-0400
TZOFFSETTO:-0500
TZNAME:EST
DTSTART:20261101T060000
END:STANDARD
END:VTIMEZONE
BEGIN:VEVENT
DTSTART;TZID=America/New_York:20250406T103000
DTEND;TZID=America/New_York:20250406T173000
DTSTAMP:20260419T222046
CREATED:20250209T145507Z
LAST-MODIFIED:20250210T190017Z
UID:10001283-1743935400-1743960600@ainsleysangels.org
SUMMARY:Carlsbad 5000- World's Fastest 5K
DESCRIPTION:Schedule\nSaturday\, April 5\, 2025: Health & Fitness Expo \n10:00 AM – 3:00 PM \nSunday\, April 6\, 2025: Race Day \nRace Schedule\n7:00 AM: Masters Women\n7:50 AM: Masters Men\n8:40 AM: Open Women\n9:30 AM: Open Men\n10:30 AM: People’s Race\n11:45 PM: Junior Carlsbad – Kids 1 Mile\n12:00 PM: Junior Carlsbad – Kids 1/2 Mile\n12:30 PM: Elite Men\n12:35 PM: Elite Women\nAll races are timed. Race photos & results are included with registration.
URL:https://ainsleysangels.org/single-event/carlsbad-5000/
CATEGORIES:California,Southern California
ATTACH;FMTTYPE=:
END:VEVENT
BEGIN:VEVENT
DTSTART;VALUE=DATE:20250407
DTEND;VALUE=DATE:20250408
DTSTAMP:20260419T222046
CREATED:20240714T205925Z
LAST-MODIFIED:20240714T205925Z
UID:10000938-1743984000-1744070399@ainsleysangels.org
SUMMARY:Madison\, WI Never Miss a Monday! with Fleet Feet
DESCRIPTION:Never Miss a Monday! with Fleet Feet\nWhere: Fleet Feet (8440 Old Sauk Rd\, Middleton\, WI 53562)\nWhen: Mondays (starting May 13th) at 6pm\nRegister: Please email madison@ainsleysangels.org if you plan to attend!\n\nThis event will be recurring every Monday at 6pm weather permitting and not on holidays. Please let us know if you will be joining us!
URL:https://ainsleysangels.org/single-event/madison-wi-never-miss-a-monday-with-fleet-feet/2025-04-07/
ATTACH;FMTTYPE=:
END:VEVENT
BEGIN:VEVENT
DTSTART;TZID=America/New_York:20250412T060000
DTEND;TZID=America/New_York:20250412T060000
DTSTAMP:20260419T222046
CREATED:20241129T164719Z
LAST-MODIFIED:20241129T164719Z
UID:10001202-1744437600-1744437600@ainsleysangels.org
SUMMARY:Run Sunset Beach
DESCRIPTION:Race offers 5k\, 10k\, or half marathon.
URL:https://ainsleysangels.org/single-event/run-sunset-beach/
ATTACH;FMTTYPE=:
END:VEVENT
BEGIN:VEVENT
DTSTART;TZID=America/New_York:20250412T073000
DTEND;TZID=America/New_York:20250412T130000
DTSTAMP:20260419T222046
CREATED:20241119T134330Z
LAST-MODIFIED:20241119T134330Z
UID:10001192-1744443000-1744462800@ainsleysangels.org
SUMMARY:Monument Ave 10k
DESCRIPTION:Join us to help spread the message of inclusion while running one of RVA’s premier road races! \nContact us at richmond@ainsleysangels.org or contact Chris Wray at (804)481-0337 to register.
URL:https://ainsleysangels.org/single-event/monument-ave-10k/
CATEGORIES:Richmond
ATTACH;FMTTYPE=:
END:VEVENT
BEGIN:VEVENT
DTSTART;TZID=America/New_York:20250412T083000
DTEND;TZID=America/New_York:20250412T103000
DTSTAMP:20260419T222046
CREATED:20241003T174631Z
LAST-MODIFIED:20250117T195126Z
UID:10001177-1744446600-1744453800@ainsleysangels.org
SUMMARY:Biscuits and Bubbles 5K
DESCRIPTION:Join us in San Marco for the second annual Biscuits and Bubbles 5K- Supporting Haven Retreats! Haven Retreat’s mission is to create sustainability for foster and adoptive families. The after run celebration will be amazing with a Mimosa Bar\, beer and breakfast biscuits\, a bubble machine and DJ. Runner discount codes and Rider comp codes available (email jacksonville@ainsleysangels.org).
URL:https://ainsleysangels.org/single-event/biscuits-and-bubbles-5k/
LOCATION:Posting House\, 2018 Hendricks Ave\, Jacksonville\, FL\, 32207\, United States
CATEGORIES:Jacksonville
ATTACH;FMTTYPE=:
ORGANIZER;CN="Haven Retreats Inc":MAILTO:info@havenretreatsinc.org ;
END:VEVENT
BEGIN:VEVENT
DTSTART;TZID=America/New_York:20250412T100000
DTEND;TZID=America/New_York:20250412T120000
DTSTAMP:20260419T222046
CREATED:20250126T221925Z
LAST-MODIFIED:20250126T221925Z
UID:10001275-1744452000-1744459200@ainsleysangels.org
SUMMARY:NCI runs Gene Parks 5k
DESCRIPTION:If you enjoy running or walking\, come join the fun and be a part of the Russiaville Race!\nYou may pre-register (to assure that you receive a towel) or you can register the day of the race. Sign-ins are from 8:30-9:15am on race day at the Russiaville Lions Club at 555 North Liberty.. The Fun Run begins promptly at 9:15am and the 5K will follow at 10:00am. All runners in the Fun Run ages 12 & under will receive a medal. The course heads south of Russiaville and curves back.\nTowels will be given to pre-registered runners/walkers first and will be available on a first come\, first serve basis.\nWe are proud to have partnered with Ainsley’s Angels of America\, a non-profit group that aims to build awareness about America’s special needs community through inclusion in all aspects of life. They serve as advocates to provide education and participation as active members in their local communities. All of the funds from the Fun Run will go to benefit this amazing group. ALL RIDERS RIDE FREE IN BOTH RACES. Please contact Kristy or Misty for to be in a duo team and for rider code.\nParking: Please park at the Jeff Stout Community Center and walk to the Lions Club for registration and the start of the race.
URL:https://ainsleysangels.org/single-event/nci-runs-gene-parks-5k-3/
LOCATION:Jeff Stout Community Center\, 650 N West Street\, Russiaville\, IN\, 46979\, United States
CATEGORIES:Indiana,North Central Indiana
ATTACH;FMTTYPE=:
END:VEVENT
END:VCALENDAR