BEGIN:VCALENDAR
VERSION:2.0
PRODID:-//Ainsley&#039;s Angels of America - ECPv6.15.20//NONSGML v1.0//EN
CALSCALE:GREGORIAN
METHOD:PUBLISH
X-WR-CALNAME:Ainsley&#039;s Angels of America
X-ORIGINAL-URL:https://ainsleysangels.org
X-WR-CALDESC:Events for Ainsley&#039;s Angels of America
REFRESH-INTERVAL;VALUE=DURATION:PT1H
X-Robots-Tag:noindex
X-PUBLISHED-TTL:PT1H
BEGIN:VTIMEZONE
TZID:America/New_York
BEGIN:DAYLIGHT
TZOFFSETFROM:-0500
TZOFFSETTO:-0400
TZNAME:EDT
DTSTART:20240310T070000
END:DAYLIGHT
BEGIN:STANDARD
TZOFFSETFROM:-0400
TZOFFSETTO:-0500
TZNAME:EST
DTSTART:20241103T060000
END:STANDARD
BEGIN:DAYLIGHT
TZOFFSETFROM:-0500
TZOFFSETTO:-0400
TZNAME:EDT
DTSTART:20250309T070000
END:DAYLIGHT
BEGIN:STANDARD
TZOFFSETFROM:-0400
TZOFFSETTO:-0500
TZNAME:EST
DTSTART:20251102T060000
END:STANDARD
BEGIN:DAYLIGHT
TZOFFSETFROM:-0500
TZOFFSETTO:-0400
TZNAME:EDT
DTSTART:20260308T070000
END:DAYLIGHT
BEGIN:STANDARD
TZOFFSETFROM:-0400
TZOFFSETTO:-0500
TZNAME:EST
DTSTART:20261101T060000
END:STANDARD
END:VTIMEZONE
BEGIN:VEVENT
DTSTART;TZID=America/New_York:20250307T080000
DTEND;TZID=America/New_York:20250309T170000
DTSTAMP:20260420T062525
CREATED:20250120T162548Z
LAST-MODIFIED:20250120T162642Z
UID:10001245-1741334400-1741539600@ainsleysangels.org
SUMMARY:Coast Guard Marathon Weekend
DESCRIPTION:The United States Coast Guard invites you to join us in-person or virtually for the 2025 Coast Guard Marathon\, Half Marathon\, 5k\, 1k or one of our Semper Paratus Challenges in Elizabeth City\, NC\, The Harbor of Hospitality\, an officially designated Coast Guard City\, and 2024 Great American Defense Community Award Recipient. These races are open to all participants\, including all branches of the military and the running community at large.
URL:https://ainsleysangels.org/single-event/coast-guard-marathon-weekend-2/
LOCATION:Waterfront Park\, Elizabeth City\, 508 S Water St\, Elizabeth City\, North Carolina\, 27909
CATEGORIES:Hampton Roads,Virginia
ATTACH;FMTTYPE=:
END:VEVENT
BEGIN:VEVENT
DTSTART;TZID=America/New_York:20250307T080000
DTEND;TZID=America/New_York:20250329T170000
DTSTAMP:20260420T062525
CREATED:20250126T192427Z
LAST-MODIFIED:20250126T192427Z
UID:10001270-1741334400-1743267600@ainsleysangels.org
SUMMARY:Art by Ainsley's Angels - Kokomo Art Association
DESCRIPTION:Help us celebrate Inclusion Without Limits at Artworks Gallery on First Friday\, March 7th promoting our Ainsley’s Angels art on display. The artwork will be featured through the month of March. Visit Artworks Gallery (210 N Main Street\, Kokomo\, IN) during regular business hours from noon to 4pm Monday – Saturday in March to view the amazing artwork of all types that our amazing Angels (runners\, riders\, guardians\, and allies) have submitted for display! There will be a reception and auction of the art on March 29 at Artworks from 3-5 pm.
URL:https://ainsleysangels.org/single-event/art-by-ainsleys-angels-kokomo-art-association/
LOCATION:Artworks Gallery\, 210 N Main St\, Kokomo\, IN\, 46901\, United States
CATEGORIES:Indiana,North Central Indiana
ATTACH;FMTTYPE=:
END:VEVENT
BEGIN:VEVENT
DTSTART;TZID=America/New_York:20250307T180000
DTEND;TZID=America/New_York:20250309T140000
DTSTAMP:20260420T062525
CREATED:20250126T204135Z
LAST-MODIFIED:20250126T204135Z
UID:10001271-1741370400-1741528800@ainsleysangels.org
SUMMARY:NCI 4x4x48 challenge
DESCRIPTION:It’s that time of year again! Come be part of this 48hr event – 4 miles every 4 hrs for 48 hrs. Legs start at 6pm on Friday\, March 7th and end at 2pm on Sunday\, March 9th.  Come run a leg\, come be part of a duo team or simply come out to support those running and rolling. If you want to be in a duo team\, please contact Kristy or Misty. There will be a bounce house for the kiddos to enjoy. Come enjoy the Ark Animals again this year!  You can register or make donations via the link below.
URL:https://ainsleysangels.org/single-event/nci-4x4x48-challenge/
LOCATION:Crossfit Kokomo\, 1108 S Dixon Rd\, Kokomo\, 46902
CATEGORIES:Indiana,North Central Indiana
ATTACH;FMTTYPE=:
END:VEVENT
BEGIN:VEVENT
DTSTART;VALUE=DATE:20250310
DTEND;VALUE=DATE:20250311
DTSTAMP:20260420T062525
CREATED:20240714T205925Z
LAST-MODIFIED:20240714T205925Z
UID:10000934-1741564800-1741651199@ainsleysangels.org
SUMMARY:Madison\, WI Never Miss a Monday! with Fleet Feet
DESCRIPTION:Never Miss a Monday! with Fleet Feet\nWhere: Fleet Feet (8440 Old Sauk Rd\, Middleton\, WI 53562)\nWhen: Mondays (starting May 13th) at 6pm\nRegister: Please email madison@ainsleysangels.org if you plan to attend!\n\nThis event will be recurring every Monday at 6pm weather permitting and not on holidays. Please let us know if you will be joining us!
URL:https://ainsleysangels.org/single-event/madison-wi-never-miss-a-monday-with-fleet-feet/2025-03-10/
ATTACH;FMTTYPE=:
END:VEVENT
BEGIN:VEVENT
DTSTART;TZID=America/New_York:20250314T080000
DTEND;TZID=America/New_York:20250316T170000
DTSTAMP:20260420T062525
CREATED:20250120T163955Z
LAST-MODIFIED:20250120T163955Z
UID:10001246-1741939200-1742144400@ainsleysangels.org
SUMMARY:YUENGLING SHAMROCK MARATHON
DESCRIPTION:The 53rd running of the Yuengling Shamrock Marathon Weekend will take place in Virginia Beach\, Virginia on March 14-16\, 2025.  This St. Paddy’s Day tradition has a race distance for every goal: Marathon\, Half Marathon\, 8K\, and challenges. No matter the distance\, you’ll experience the best of Coastal Virginia on our flat\, fast\, and scenic course before you cross the finish line overlooking the Atlantic Ocean. The party continues after the race at our post race celebration on the beach with Yuengling Beer and live music.
URL:https://ainsleysangels.org/single-event/yuengling-shamrock-marathon/
LOCATION:31 Atlantic Ave – Oceanfront\, Virginia Beach\, 3001 Atlantic Avenue\, Virginia Beach\, VA\, 23451\, United States
CATEGORIES:Hampton Roads,Virginia
ATTACH;FMTTYPE=:
END:VEVENT
BEGIN:VEVENT
DTSTART;TZID=America/New_York:20250315T060000
DTEND;TZID=America/New_York:20250315T100000
DTSTAMP:20260420T062525
CREATED:20250102T223418Z
LAST-MODIFIED:20250102T223418Z
UID:10001236-1742018400-1742032800@ainsleysangels.org
SUMMARY:Run the Rainbow
DESCRIPTION:This race series offers multiple distances. It benefits Children’s Hospital in Jackson\, MS and runs right through the hospital property. The after party is super fun. Let the ambassador know by March 3\, 2025 if you want to participate.
URL:https://ainsleysangels.org/single-event/run-the-rainbow/
LOCATION:200 Commerce St Jackson\, MS\, 200 Commerce St\, Jackson\, MS
CATEGORIES:Central Mississippi,Mississippi
ATTACH;FMTTYPE=:
END:VEVENT
BEGIN:VEVENT
DTSTART;TZID=America/New_York:20250315T083000
DTEND;TZID=America/New_York:20250315T093000
DTSTAMP:20260420T062526
CREATED:20250101T203801Z
LAST-MODIFIED:20250101T203801Z
UID:10001212-1742027400-1742031000@ainsleysangels.org
SUMMARY:Adrenaline 5k\, Haddonfield
DESCRIPTION:Once again\, we will be taking over with a pink wave as we have been doing every year since our first ever race in 2016. This is an easy\, mostly flat 5k that runs through the business and residential area of historic Haddonfield\, NJ. The perfect race for the first time rider and runner. \nOur meeting point & race start/finish is in front of Haddonfield High School. \nThe perfect St. Patrick Day pre-party. \nPACKET PICKUP: \nMarch 10th-14th from 10AM – 7PM at RunningCo. of Haddonfield\, 121 Kings Highway East\, Haddonfield\, NJ  08033. \nRace Day Packet Pickup at Haddonfield High School starting at 7AM. \n  \n 
URL:https://ainsleysangels.org/single-event/adrenaline-5k-haddonfield/
LOCATION:Haddonfield High school\, 401 E. Kings Highway\, Haddonfield\, NJ\, 08033\, United States
CATEGORIES:New Jersey,South Jersey
ATTACH;FMTTYPE=:
END:VEVENT
BEGIN:VEVENT
DTSTART;TZID=America/New_York:20250315T090000
DTEND;TZID=America/New_York:20250315T170000
DTSTAMP:20260420T062526
CREATED:20250209T144916Z
LAST-MODIFIED:20250210T185804Z
UID:10001282-1742029200-1742058000@ainsleysangels.org
SUMMARY:San Diego Leprechaun Run
DESCRIPTION:Leprechaun Run Details:\nJoin us for the 7th Annual San Diego Leprechaun Run 5K & Kids 1 Mile on Saturday\, March 15\, 2025! All participants receive a Leprechaun Run t-shirt\, finisher medal\, chip timing\, free photos and a complimentary drink! Run through the streets of downtown Pacific Beach\, finish under the rainbow and enjoy your drink to start your St. Patrick’s Day party! Bonus: Complete Leprechaun Run\, Pacific Beach Half Marathon & 5K and San Diego Santa Run all in 2025 and receive the huge challenger finisher bling! \n\n\n\n\n\nDates/Time\nDate: Saturday\, March 15\, 2025 \n5K Run: 9:00am \nKids 1 Mile Run: 10:30am \nLocation: Pacific Beach
URL:https://ainsleysangels.org/single-event/san-diego-leprechaun-run/
LOCATION:Pacific Beach
CATEGORIES:California,Southern California
ATTACH;FMTTYPE=:
END:VEVENT
BEGIN:VEVENT
DTSTART;TZID=America/New_York:20250315T100000
DTEND;TZID=America/New_York:20250315T170000
DTSTAMP:20260420T062526
CREATED:20250126T211638Z
LAST-MODIFIED:20250126T212437Z
UID:10001274-1742032800-1742058000@ainsleysangels.org
SUMMARY:NCI Shamrock Beer Run Fundraiser
DESCRIPTION:Do you have some time to donate and support one of our supporting race directors?  This is a great opportunity for Guardian Angels and Allies to donate some time and help raise some funds for the ambassadorship.  If you can pour beer or water\, hand out cups\, have a good time and enjoy the festive environment of this race\, we would love to have you as a volunteer.  This is always a big party and the time flies once the race starts.  Please reach out to Kristy or Misty if you are available.
URL:https://ainsleysangels.org/single-event/nci-shamrock-beer-run-fundraiser/
LOCATION:Historic Military Park\, 601 W. New York\, Indianapolis\, IN\, 46202\, United States
CATEGORIES:Indiana,North Central Indiana
ATTACH;FMTTYPE=:
END:VEVENT
BEGIN:VEVENT
DTSTART;TZID=America/New_York:20250315T120000
DTEND;TZID=America/New_York:20250315T120000
DTSTAMP:20260420T062526
CREATED:20250122T212717Z
LAST-MODIFIED:20250122T212756Z
UID:10001252-1742040000-1742040000@ainsleysangels.org
SUMMARY:GNOLA Covington Celtic Club St. Patrick's Parade
DESCRIPTION:Come roll with us as we paint downtown Covington pink for their annual St. Patrick’s Day Parade!
URL:https://ainsleysangels.org/single-event/gnola-covington-celtic-club-st-patricks-parade/
CATEGORIES:Greater New Orleans,Louisiana
ATTACH;FMTTYPE=:
END:VEVENT
END:VCALENDAR