BEGIN:VCALENDAR
VERSION:2.0
PRODID:-//Ainsley&#039;s Angels of America - ECPv6.15.20//NONSGML v1.0//EN
CALSCALE:GREGORIAN
METHOD:PUBLISH
X-WR-CALNAME:Ainsley&#039;s Angels of America
X-ORIGINAL-URL:https://ainsleysangels.org
X-WR-CALDESC:Events for Ainsley&#039;s Angels of America
REFRESH-INTERVAL;VALUE=DURATION:PT1H
X-Robots-Tag:noindex
X-PUBLISHED-TTL:PT1H
BEGIN:VTIMEZONE
TZID:America/New_York
BEGIN:DAYLIGHT
TZOFFSETFROM:-0500
TZOFFSETTO:-0400
TZNAME:EDT
DTSTART:20240310T070000
END:DAYLIGHT
BEGIN:STANDARD
TZOFFSETFROM:-0400
TZOFFSETTO:-0500
TZNAME:EST
DTSTART:20241103T060000
END:STANDARD
BEGIN:DAYLIGHT
TZOFFSETFROM:-0500
TZOFFSETTO:-0400
TZNAME:EDT
DTSTART:20250309T070000
END:DAYLIGHT
BEGIN:STANDARD
TZOFFSETFROM:-0400
TZOFFSETTO:-0500
TZNAME:EST
DTSTART:20251102T060000
END:STANDARD
BEGIN:DAYLIGHT
TZOFFSETFROM:-0500
TZOFFSETTO:-0400
TZNAME:EDT
DTSTART:20260308T070000
END:DAYLIGHT
BEGIN:STANDARD
TZOFFSETFROM:-0400
TZOFFSETTO:-0500
TZNAME:EST
DTSTART:20261101T060000
END:STANDARD
END:VTIMEZONE
BEGIN:VTIMEZONE
TZID:America/New_York
BEGIN:DAYLIGHT
TZOFFSETFROM:-0500
TZOFFSETTO:-0400
TZNAME:EDT
DTSTART:20240310T070000
END:DAYLIGHT
BEGIN:STANDARD
TZOFFSETFROM:-0400
TZOFFSETTO:-0500
TZNAME:EST
DTSTART:20241103T060000
END:STANDARD
BEGIN:DAYLIGHT
TZOFFSETFROM:-0500
TZOFFSETTO:-0400
TZNAME:EDT
DTSTART:20250309T070000
END:DAYLIGHT
BEGIN:STANDARD
TZOFFSETFROM:-0400
TZOFFSETTO:-0500
TZNAME:EST
DTSTART:20251102T060000
END:STANDARD
BEGIN:DAYLIGHT
TZOFFSETFROM:-0500
TZOFFSETTO:-0400
TZNAME:EDT
DTSTART:20260308T070000
END:DAYLIGHT
BEGIN:STANDARD
TZOFFSETFROM:-0400
TZOFFSETTO:-0500
TZNAME:EST
DTSTART:20261101T060000
END:STANDARD
END:VTIMEZONE
BEGIN:VEVENT
DTSTART;VALUE=DATE:20250120
DTEND;VALUE=DATE:20250121
DTSTAMP:20260420T220436
CREATED:20240714T205925Z
LAST-MODIFIED:20240714T205925Z
UID:10000927-1737331200-1737417599@ainsleysangels.org
SUMMARY:Madison\, WI Never Miss a Monday! with Fleet Feet
DESCRIPTION:Never Miss a Monday! with Fleet Feet\nWhere: Fleet Feet (8440 Old Sauk Rd\, Middleton\, WI 53562)\nWhen: Mondays (starting May 13th) at 6pm\nRegister: Please email madison@ainsleysangels.org if you plan to attend!\n\nThis event will be recurring every Monday at 6pm weather permitting and not on holidays. Please let us know if you will be joining us!
URL:https://ainsleysangels.org/single-event/madison-wi-never-miss-a-monday-with-fleet-feet/2025-01-20/
ATTACH;FMTTYPE=:
END:VEVENT
BEGIN:VEVENT
DTSTART;TZID=America/New_York:20250125T080000
DTEND;TZID=America/New_York:20250125T100000
DTSTAMP:20260420T220436
CREATED:20250118T002459Z
LAST-MODIFIED:20250122T204116Z
UID:10001242-1737792000-1737799200@ainsleysangels.org
SUMMARY:GNOLA Laketown Distance Festival-Kenner\, LA
DESCRIPTION:5K/10K/10M rolling on and along the levee of Lake Pontchartrain
URL:https://ainsleysangels.org/single-event/laketown-distance-festival/
CATEGORIES:Greater New Orleans,Louisiana
ATTACH;FMTTYPE=:
ORGANIZER;CN="Ainsley's Angels in New Orleans":MAILTO:NewOrleans@ainsleysangels.org
END:VEVENT
BEGIN:VEVENT
DTSTART;TZID=America/New_York:20250125T080000
DTEND;TZID=America/New_York:20250125T103000
DTSTAMP:20260420T220436
CREATED:20250114T130056Z
LAST-MODIFIED:20250115T143820Z
UID:10001176-1737792000-1737801000@ainsleysangels.org
SUMMARY:Wolfson Children's Challenge 5K
DESCRIPTION:In the past\, this was a 55K Relay\, but this year\, it will be a 5K and Teams will run together. Each individual’s time will be calculated into the team’s overall time.  The route will take us over the Acosta Bridge and past the children’s hospital. Don’t worry\, there will still be family-friendly activities and time to honor the patients that this race supports! Contact Ambassador Kim for registration codes (jacksonville@ainsleysangels.org)
URL:https://ainsleysangels.org/single-event/wolfson-childrens-challenge-55k-relay-5/
LOCATION:Winston Family YMCA\, 221 Riverside Ave\, Jacksonville\, FL\, 32202\, United States
CATEGORIES:Jacksonville
ATTACH;FMTTYPE=:
END:VEVENT
END:VCALENDAR