BEGIN:VCALENDAR
VERSION:2.0
PRODID:-//Ainsley&#039;s Angels of America - ECPv6.15.20//NONSGML v1.0//EN
CALSCALE:GREGORIAN
METHOD:PUBLISH
X-ORIGINAL-URL:https://ainsleysangels.org
X-WR-CALDESC:Events for Ainsley&#039;s Angels of America
REFRESH-INTERVAL;VALUE=DURATION:PT1H
X-Robots-Tag:noindex
X-PUBLISHED-TTL:PT1H
BEGIN:VTIMEZONE
TZID:America/New_York
BEGIN:DAYLIGHT
TZOFFSETFROM:-0500
TZOFFSETTO:-0400
TZNAME:EDT
DTSTART:20230312T070000
END:DAYLIGHT
BEGIN:STANDARD
TZOFFSETFROM:-0400
TZOFFSETTO:-0500
TZNAME:EST
DTSTART:20231105T060000
END:STANDARD
BEGIN:DAYLIGHT
TZOFFSETFROM:-0500
TZOFFSETTO:-0400
TZNAME:EDT
DTSTART:20240310T070000
END:DAYLIGHT
BEGIN:STANDARD
TZOFFSETFROM:-0400
TZOFFSETTO:-0500
TZNAME:EST
DTSTART:20241103T060000
END:STANDARD
BEGIN:DAYLIGHT
TZOFFSETFROM:-0500
TZOFFSETTO:-0400
TZNAME:EDT
DTSTART:20250309T070000
END:DAYLIGHT
BEGIN:STANDARD
TZOFFSETFROM:-0400
TZOFFSETTO:-0500
TZNAME:EST
DTSTART:20251102T060000
END:STANDARD
BEGIN:DAYLIGHT
TZOFFSETFROM:-0500
TZOFFSETTO:-0400
TZNAME:EDT
DTSTART:20260308T070000
END:DAYLIGHT
BEGIN:STANDARD
TZOFFSETFROM:-0400
TZOFFSETTO:-0500
TZNAME:EST
DTSTART:20261101T060000
END:STANDARD
END:VTIMEZONE
BEGIN:VEVENT
DTSTART;VALUE=DATE:20241230
DTEND;VALUE=DATE:20241231
DTSTAMP:20260420T070536
CREATED:20240714T205925Z
LAST-MODIFIED:20240714T205925Z
UID:10000924-1735516800-1735603199@ainsleysangels.org
SUMMARY:Madison\, WI Never Miss a Monday! with Fleet Feet
DESCRIPTION:Never Miss a Monday! with Fleet Feet\nWhere: Fleet Feet (8440 Old Sauk Rd\, Middleton\, WI 53562)\nWhen: Mondays (starting May 13th) at 6pm\nRegister: Please email madison@ainsleysangels.org if you plan to attend!\n\nThis event will be recurring every Monday at 6pm weather permitting and not on holidays. Please let us know if you will be joining us!
URL:https://ainsleysangels.org/single-event/madison-wi-never-miss-a-monday-with-fleet-feet/2024-12-30/
ATTACH;FMTTYPE=:
END:VEVENT
BEGIN:VEVENT
DTSTART;TZID=America/New_York:20250101T080000
DTEND;TZID=America/New_York:20250101T110000
DTSTAMP:20260420T070536
CREATED:20250126T204755Z
LAST-MODIFIED:20250126T204755Z
UID:10001272-1735718400-1735729200@ainsleysangels.org
SUMMARY:NCI Cheers to New Years Fundraiser
DESCRIPTION:Our friends at Fun-Races.com have invited us to volunteer at their Cheers to New Years race.  If you have some time to donate we will be running packet pick-up\, passing out medals and help with some clean up.  Contact Kristy or Misty if you are interested.
URL:https://ainsleysangels.org/single-event/nci-cheers-to-new-years-fundraiser/
LOCATION:Big Lug Canteen\, 1435 E. 86th Street\, Indianapolis\, IN\, 46240\, United States
CATEGORIES:Indiana,North Central Indiana
ATTACH;FMTTYPE=:
END:VEVENT
BEGIN:VEVENT
DTSTART;TZID=America/New_York:20250101T110000
DTEND;TZID=America/New_York:20250101T130000
DTSTAMP:20260420T070536
CREATED:20241119T124911Z
LAST-MODIFIED:20241119T124911Z
UID:10001190-1735729200-1735736400@ainsleysangels.org
SUMMARY:First Day 5k
DESCRIPTION:Start your year off right with brisk 5k to celebrate inclusion! \nPlease send reach out to richmond@ainsleysangels.com or  to Chris Wray at (804) 481-0337 to register.
URL:https://ainsleysangels.org/single-event/first-day-5k/
LOCATION:ACAC – Midlothian\, 11621 Robious Rd\, Midlothian\, VA\, 23113\, United States
CATEGORIES:Richmond
ATTACH;FMTTYPE=:
END:VEVENT
END:VCALENDAR