BEGIN:VCALENDAR
VERSION:2.0
PRODID:-//Ainsley&#039;s Angels of America - ECPv6.15.20//NONSGML v1.0//EN
CALSCALE:GREGORIAN
METHOD:PUBLISH
X-WR-CALNAME:Ainsley&#039;s Angels of America
X-ORIGINAL-URL:https://ainsleysangels.org
X-WR-CALDESC:Events for Ainsley&#039;s Angels of America
REFRESH-INTERVAL;VALUE=DURATION:PT1H
X-Robots-Tag:noindex
X-PUBLISHED-TTL:PT1H
BEGIN:VTIMEZONE
TZID:America/New_York
BEGIN:DAYLIGHT
TZOFFSETFROM:-0500
TZOFFSETTO:-0400
TZNAME:EDT
DTSTART:20230312T070000
END:DAYLIGHT
BEGIN:STANDARD
TZOFFSETFROM:-0400
TZOFFSETTO:-0500
TZNAME:EST
DTSTART:20231105T060000
END:STANDARD
BEGIN:DAYLIGHT
TZOFFSETFROM:-0500
TZOFFSETTO:-0400
TZNAME:EDT
DTSTART:20240310T070000
END:DAYLIGHT
BEGIN:STANDARD
TZOFFSETFROM:-0400
TZOFFSETTO:-0500
TZNAME:EST
DTSTART:20241103T060000
END:STANDARD
BEGIN:DAYLIGHT
TZOFFSETFROM:-0500
TZOFFSETTO:-0400
TZNAME:EDT
DTSTART:20250309T070000
END:DAYLIGHT
BEGIN:STANDARD
TZOFFSETFROM:-0400
TZOFFSETTO:-0500
TZNAME:EST
DTSTART:20251102T060000
END:STANDARD
END:VTIMEZONE
BEGIN:VEVENT
DTSTART;TZID=America/New_York:20241215T073000
DTEND;TZID=America/New_York:20241215T110000
DTSTAMP:20260420T214544
CREATED:20241112T021417Z
LAST-MODIFIED:20241112T021417Z
UID:10001187-1734247800-1734260400@ainsleysangels.org
SUMMARY:7th Annual Frosty 5K (Ainsley's Angels Race Series Event)
DESCRIPTION:Please join us in supporting our “sister Ambassadorship” of Ainsley’s Angels in SENC at this AMAZINGLY fun annual event!
URL:https://ainsleysangels.org/single-event/7th-annual-frosty-5k-ainsleys-angels-race-series-event-2/
CATEGORIES:Eastern Carolina,North Carolina
ATTACH;FMTTYPE=:
END:VEVENT
BEGIN:VEVENT
DTSTART;TZID=America/New_York:20241215T073000
DTEND;TZID=America/New_York:20241215T120000
DTSTAMP:20260420T214544
CREATED:20241020T200326Z
LAST-MODIFIED:20241020T200326Z
UID:10001184-1734247800-1734264000@ainsleysangels.org
SUMMARY:7th Annual Frosty 5K (Ainsley's Angels Race Series Event)
DESCRIPTION:Join us in Wilmington NC on Dec. 15th as our “sister Ambassadorship”\, Ainsley’s Angels in Southeast NC hosts this AMAZING annual event! All “In-Person” Angel Riders register at no cost and Angel Runners can sign up for $25 (which is $5 off of the regular registration cost).
URL:https://ainsleysangels.org/single-event/7th-annual-frosty-5k-ainsleys-angels-race-series-event/
CATEGORIES:Eastern Carolina,North Carolina
ATTACH;FMTTYPE=:
END:VEVENT
BEGIN:VEVENT
DTSTART;VALUE=DATE:20241216
DTEND;VALUE=DATE:20241217
DTSTAMP:20260420T214544
CREATED:20240714T205925Z
LAST-MODIFIED:20240714T205925Z
UID:10000922-1734307200-1734393599@ainsleysangels.org
SUMMARY:Madison\, WI Never Miss a Monday! with Fleet Feet
DESCRIPTION:Never Miss a Monday! with Fleet Feet\nWhere: Fleet Feet (8440 Old Sauk Rd\, Middleton\, WI 53562)\nWhen: Mondays (starting May 13th) at 6pm\nRegister: Please email madison@ainsleysangels.org if you plan to attend!\n\nThis event will be recurring every Monday at 6pm weather permitting and not on holidays. Please let us know if you will be joining us!
URL:https://ainsleysangels.org/single-event/madison-wi-never-miss-a-monday-with-fleet-feet/2024-12-16/
ATTACH;FMTTYPE=:
END:VEVENT
END:VCALENDAR