BEGIN:VCALENDAR
VERSION:2.0
PRODID:-//Ainsley&#039;s Angels of America - ECPv6.15.20//NONSGML v1.0//EN
CALSCALE:GREGORIAN
METHOD:PUBLISH
X-ORIGINAL-URL:https://ainsleysangels.org
X-WR-CALDESC:Events for Ainsley&#039;s Angels of America
REFRESH-INTERVAL;VALUE=DURATION:PT1H
X-Robots-Tag:noindex
X-PUBLISHED-TTL:PT1H
BEGIN:VTIMEZONE
TZID:America/New_York
BEGIN:DAYLIGHT
TZOFFSETFROM:-0500
TZOFFSETTO:-0400
TZNAME:EDT
DTSTART:20230312T070000
END:DAYLIGHT
BEGIN:STANDARD
TZOFFSETFROM:-0400
TZOFFSETTO:-0500
TZNAME:EST
DTSTART:20231105T060000
END:STANDARD
BEGIN:DAYLIGHT
TZOFFSETFROM:-0500
TZOFFSETTO:-0400
TZNAME:EDT
DTSTART:20240310T070000
END:DAYLIGHT
BEGIN:STANDARD
TZOFFSETFROM:-0400
TZOFFSETTO:-0500
TZNAME:EST
DTSTART:20241103T060000
END:STANDARD
BEGIN:DAYLIGHT
TZOFFSETFROM:-0500
TZOFFSETTO:-0400
TZNAME:EDT
DTSTART:20250309T070000
END:DAYLIGHT
BEGIN:STANDARD
TZOFFSETFROM:-0400
TZOFFSETTO:-0500
TZNAME:EST
DTSTART:20251102T060000
END:STANDARD
END:VTIMEZONE
BEGIN:VTIMEZONE
TZID:America/Chicago
BEGIN:DAYLIGHT
TZOFFSETFROM:-0600
TZOFFSETTO:-0500
TZNAME:CDT
DTSTART:20230312T080000
END:DAYLIGHT
BEGIN:STANDARD
TZOFFSETFROM:-0500
TZOFFSETTO:-0600
TZNAME:CST
DTSTART:20231105T070000
END:STANDARD
BEGIN:DAYLIGHT
TZOFFSETFROM:-0600
TZOFFSETTO:-0500
TZNAME:CDT
DTSTART:20240310T080000
END:DAYLIGHT
BEGIN:STANDARD
TZOFFSETFROM:-0500
TZOFFSETTO:-0600
TZNAME:CST
DTSTART:20241103T070000
END:STANDARD
BEGIN:DAYLIGHT
TZOFFSETFROM:-0600
TZOFFSETTO:-0500
TZNAME:CDT
DTSTART:20250309T080000
END:DAYLIGHT
BEGIN:STANDARD
TZOFFSETFROM:-0500
TZOFFSETTO:-0600
TZNAME:CST
DTSTART:20251102T070000
END:STANDARD
END:VTIMEZONE
BEGIN:VEVENT
DTSTART;VALUE=DATE:20241028
DTEND;VALUE=DATE:20241029
DTSTAMP:20260419T224846
CREATED:20240714T205925Z
LAST-MODIFIED:20240714T205925Z
UID:10000915-1730073600-1730159999@ainsleysangels.org
SUMMARY:Madison\, WI Never Miss a Monday! with Fleet Feet
DESCRIPTION:Never Miss a Monday! with Fleet Feet\nWhere: Fleet Feet (8440 Old Sauk Rd\, Middleton\, WI 53562)\nWhen: Mondays (starting May 13th) at 6pm\nRegister: Please email madison@ainsleysangels.org if you plan to attend!\n\nThis event will be recurring every Monday at 6pm weather permitting and not on holidays. Please let us know if you will be joining us!
URL:https://ainsleysangels.org/single-event/madison-wi-never-miss-a-monday-with-fleet-feet/2024-10-28/
ATTACH;FMTTYPE=:
END:VEVENT
BEGIN:VEVENT
DTSTART;TZID=America/Chicago:20241102T030000
DTEND;TZID=America/Chicago:20241102T080000
DTSTAMP:20260419T224846
CREATED:20240323T085424Z
LAST-MODIFIED:20240323T092211Z
UID:10000838-1730516400-1730534400@ainsleysangels.org
SUMMARY:Rollin On The River 5K
DESCRIPTION:Come join us for a family friendly 5k at the Ike Hamilton Expo Center Parking Lot in West Monroe\, LA. Race Day packet pick up is onsite from 3:00 pm to 5:00 pm. The race starts at 5:30 pm. Packets consist of a race specific shirt and each finisher will receive a race specific medal. The race is open to all runners and walkers. Several hotels are located near the race venue. This is one of many Race Series Races put on by Ainsley’s Angels of America. \nTo register: click the Website link below. \nFor race questions email: nelouisiana@AinsleysAngels.org \nFor more information about Ainsley’s Angels visit: https://AinsleysAngels.org.
URL:https://ainsleysangels.org/single-event/rollin-on-the-river/
LOCATION:West Monroe\, LA
CATEGORIES:Louisiana,Northeast Louisiana
ATTACH;FMTTYPE=:
END:VEVENT
BEGIN:VEVENT
DTSTART;TZID=America/New_York:20241102T070000
DTEND;TZID=America/New_York:20241102T170000
DTSTAMP:20260419T224846
CREATED:20231114T002824Z
LAST-MODIFIED:20231114T002824Z
UID:10000738-1730530800-1730566800@ainsleysangels.org
SUMMARY:Thrive Half Marathon/5K
DESCRIPTION:
URL:https://ainsleysangels.org/single-event/thrive-half-marathon-5k/
LOCATION:1600 Vacation Road\, San Diego
ATTACH;FMTTYPE=:
END:VEVENT
BEGIN:VEVENT
DTSTART;TZID=America/New_York:20241102T073000
DTEND;TZID=America/New_York:20241102T110000
DTSTAMP:20260419T224846
CREATED:20241020T194801Z
LAST-MODIFIED:20241020T194801Z
UID:10001181-1730532600-1730545200@ainsleysangels.org
SUMMARY:The Fuzzy Peach Trail Run 5K (JOSC Race Series Event)
DESCRIPTION:Due to the nature of the course (being a trail)\, we are only able to utilzie certain styles of our race chairs. Please let our Local Ambassador Michelle know as soon as possible if you are a Rider who is interested in rolling in this trail event!
URL:https://ainsleysangels.org/single-event/the-fuzzy-peach-trail-run-5k-josc-race-series-event/
CATEGORIES:Eastern Carolina,North Carolina
ATTACH;FMTTYPE=:
END:VEVENT
END:VCALENDAR