BEGIN:VCALENDAR
VERSION:2.0
PRODID:-//Ainsley&#039;s Angels of America - ECPv6.15.20//NONSGML v1.0//EN
CALSCALE:GREGORIAN
METHOD:PUBLISH
X-ORIGINAL-URL:https://ainsleysangels.org
X-WR-CALDESC:Events for Ainsley&#039;s Angels of America
REFRESH-INTERVAL;VALUE=DURATION:PT1H
X-Robots-Tag:noindex
X-PUBLISHED-TTL:PT1H
BEGIN:VTIMEZONE
TZID:America/New_York
BEGIN:DAYLIGHT
TZOFFSETFROM:-0500
TZOFFSETTO:-0400
TZNAME:EDT
DTSTART:20230312T070000
END:DAYLIGHT
BEGIN:STANDARD
TZOFFSETFROM:-0400
TZOFFSETTO:-0500
TZNAME:EST
DTSTART:20231105T060000
END:STANDARD
BEGIN:DAYLIGHT
TZOFFSETFROM:-0500
TZOFFSETTO:-0400
TZNAME:EDT
DTSTART:20240310T070000
END:DAYLIGHT
BEGIN:STANDARD
TZOFFSETFROM:-0400
TZOFFSETTO:-0500
TZNAME:EST
DTSTART:20241103T060000
END:STANDARD
BEGIN:DAYLIGHT
TZOFFSETFROM:-0500
TZOFFSETTO:-0400
TZNAME:EDT
DTSTART:20250309T070000
END:DAYLIGHT
BEGIN:STANDARD
TZOFFSETFROM:-0400
TZOFFSETTO:-0500
TZNAME:EST
DTSTART:20251102T060000
END:STANDARD
END:VTIMEZONE
BEGIN:VEVENT
DTSTART;VALUE=DATE:20240930
DTEND;VALUE=DATE:20241001
DTSTAMP:20260420T043026
CREATED:20240714T205925Z
LAST-MODIFIED:20240714T205925Z
UID:10000911-1727654400-1727740799@ainsleysangels.org
SUMMARY:Madison\, WI Never Miss a Monday! with Fleet Feet
DESCRIPTION:Never Miss a Monday! with Fleet Feet\nWhere: Fleet Feet (8440 Old Sauk Rd\, Middleton\, WI 53562)\nWhen: Mondays (starting May 13th) at 6pm\nRegister: Please email madison@ainsleysangels.org if you plan to attend!\n\nThis event will be recurring every Monday at 6pm weather permitting and not on holidays. Please let us know if you will be joining us!
URL:https://ainsleysangels.org/single-event/madison-wi-never-miss-a-monday-with-fleet-feet/2024-09-30/
ATTACH;FMTTYPE=:
END:VEVENT
BEGIN:VEVENT
DTSTART;TZID=America/New_York:20241005T073000
DTEND;TZID=America/New_York:20241005T110000
DTSTAMP:20260420T043026
CREATED:20241020T194209Z
LAST-MODIFIED:20241020T194209Z
UID:10001179-1728113400-1728126000@ainsleysangels.org
SUMMARY:Movin' Mullet 5K (JOSC Race Series Event)
DESCRIPTION:
URL:https://ainsleysangels.org/single-event/movin-mullet-5k-josc-race-series-event/
CATEGORIES:Eastern Carolina,North Carolina
ATTACH;FMTTYPE=:
END:VEVENT
BEGIN:VEVENT
DTSTART;TZID=America/New_York:20241005T073000
DTEND;TZID=America/New_York:20241005T113000
DTSTAMP:20260420T043026
CREATED:20240204T010339Z
LAST-MODIFIED:20240204T010339Z
UID:10000790-1728113400-1728127800@ainsleysangels.org
SUMMARY:5k for the Arc
DESCRIPTION:Join us for the 15th Annual Williamsburg Landing 5k for The Arc!  100% of proceeds benefit The Arc of Greater Williamsburg’s mission to improve the quality of life for people with intellectual and developmental disabilities in our community.  This year marks the 48th year The Arc of Greater Williamsburg has proudly served people in our community. The Arc’s support services provide educational\, vocational\, health and wellness\, life skills\, cultural\, social\, and recreational programs. In addition\, we provide much needed respite for families and caregivers.  Visit our website at www.thearcgw.org for more information! \nREGISTRATION: Online registration closes at midnight on Tuesday\, October 1.  Same day registration begins at 7:30am. Raffle tickets for amazing prizes will be sold!  All entrants registered by 9/23/24 will receive a T-shirt in the requested size\, and all others will receive a T-shirt while supplies last.   \nSCHEDULE: \n7:30am: Race Day Registration and Packet Pickup\n8:30am: One Mile Fun Run\n9:00am: 5k Run and 5k Walk\n10:15am: Awards Ceremony and Door Prizes \nCOURSE:  Nestled in the tree covered hills surrounding Williamsburg\, this out-and-back course traverses the 137 acre campus of Williamsburg Landing\, which neighbors College Creek.  Registration will be at the William A. Doig Health Club and Spa.\nAWARDS:  Prizes will be awarded for top finishers in different age categories \nRace Contact Info\nIf you have any questions about this race\, please contact the race director at anna.whiston@thearcgw.org
URL:https://ainsleysangels.org/single-event/5k-for-the-arc/
LOCATION:Arc 5k The Mall\, 3000 The Mall\, Williamsburg\, VA\, 23185
CATEGORIES:Hampton Roads
ATTACH;FMTTYPE=:
END:VEVENT
BEGIN:VEVENT
DTSTART;TZID=America/New_York:20241005T080000
DTEND;TZID=America/New_York:20241005T110000
DTSTAMP:20260420T043026
CREATED:20240903T014052Z
LAST-MODIFIED:20240903T014052Z
UID:10001168-1728115200-1728126000@ainsleysangels.org
SUMMARY:Earn Your Wings 5K and Handcycle
DESCRIPTION:Date – October 5th\, 2024\nTime\n\n\nPacket Pickup @ 8am\n\n\n5k Start @ 9am\n\n\n1 Mile Fun Run Start @ 9:45am\n\n\nLocation – Anderson Regional Airport\nAddress – 5805 Airport Rd\, Anderson\, SC 29626\n*  Shirt Deadline is September 18th\, 2024\, after that sizes are not guaranteed.\n**  All proceeds go towards building and expanding the playground at Anderson Regional Airport.e
URL:https://ainsleysangels.org/single-event/earn-your-wings-5k-and-handcycle/
CATEGORIES:South Carolina,Upstate
ATTACH;FMTTYPE=:
END:VEVENT
BEGIN:VEVENT
DTSTART;TZID=America/New_York:20241005T180000
DTEND;TZID=America/New_York:20241005T220000
DTSTAMP:20260420T043026
CREATED:20240805T140322Z
LAST-MODIFIED:20240805T140322Z
UID:10001162-1728151200-1728165600@ainsleysangels.org
SUMMARY:Twilight Run 5K (Tomball\, Texas)
DESCRIPTION:Come run with us at the Twilight Race in Tomball\, Texas!!!!!
URL:https://ainsleysangels.org/single-event/twilight-run-5k-tomball-texas/
LOCATION:20235 Cypress Rose Hill Rd\, Tomball\, TX 77377\, 20235 Cypress Rose Hill Rd\, Tomball\, TX\, 77377\, United States
CATEGORIES:Central Texas - Austin
ATTACH;FMTTYPE=:
END:VEVENT
END:VCALENDAR