BEGIN:VCALENDAR
VERSION:2.0
PRODID:-//Ainsley&#039;s Angels of America - ECPv6.15.20//NONSGML v1.0//EN
CALSCALE:GREGORIAN
METHOD:PUBLISH
X-ORIGINAL-URL:https://ainsleysangels.org
X-WR-CALDESC:Events for Ainsley&#039;s Angels of America
REFRESH-INTERVAL;VALUE=DURATION:PT1H
X-Robots-Tag:noindex
X-PUBLISHED-TTL:PT1H
BEGIN:VTIMEZONE
TZID:America/New_York
BEGIN:DAYLIGHT
TZOFFSETFROM:-0500
TZOFFSETTO:-0400
TZNAME:EDT
DTSTART:20230312T070000
END:DAYLIGHT
BEGIN:STANDARD
TZOFFSETFROM:-0400
TZOFFSETTO:-0500
TZNAME:EST
DTSTART:20231105T060000
END:STANDARD
BEGIN:DAYLIGHT
TZOFFSETFROM:-0500
TZOFFSETTO:-0400
TZNAME:EDT
DTSTART:20240310T070000
END:DAYLIGHT
BEGIN:STANDARD
TZOFFSETFROM:-0400
TZOFFSETTO:-0500
TZNAME:EST
DTSTART:20241103T060000
END:STANDARD
BEGIN:DAYLIGHT
TZOFFSETFROM:-0500
TZOFFSETTO:-0400
TZNAME:EDT
DTSTART:20250309T070000
END:DAYLIGHT
BEGIN:STANDARD
TZOFFSETFROM:-0400
TZOFFSETTO:-0500
TZNAME:EST
DTSTART:20251102T060000
END:STANDARD
END:VTIMEZONE
BEGIN:VEVENT
DTSTART;TZID=America/New_York:20240922T070000
DTEND;TZID=America/New_York:20240922T120000
DTSTAMP:20260420T054840
CREATED:20240805T135714Z
LAST-MODIFIED:20240805T135714Z
UID:10001161-1726988400-1727006400@ainsleysangels.org
SUMMARY:Casa Super Hero Run 15th Annual Race
DESCRIPTION:15th Annual\nCASA SUPERHERO RUN\nHosted by CASA of Travis County\, CASA of Williamson County\, CASA of Bastrop\, Fayette\, and Lee Counties & CASA of Central Texas (Caldwell\, Comal\, Guadalupe & Hays Counties). CASA speaks up for children who have experienced abuse or neglect by empowering our community to volunteer as advocates for them in the court system.
URL:https://ainsleysangels.org/single-event/casa-super-hero-run-15th-annual-race/
LOCATION:Casa\, 9201 Circuit of the Americas Blvd\, Austin\, TX\, 78617\, United States
CATEGORIES:Central Texas - Austin
ATTACH;FMTTYPE=:
END:VEVENT
BEGIN:VEVENT
DTSTART;VALUE=DATE:20240923
DTEND;VALUE=DATE:20240924
DTSTAMP:20260420T054840
CREATED:20240714T205925Z
LAST-MODIFIED:20240714T205925Z
UID:10000910-1727049600-1727135999@ainsleysangels.org
SUMMARY:Madison\, WI Never Miss a Monday! with Fleet Feet
DESCRIPTION:Never Miss a Monday! with Fleet Feet\nWhere: Fleet Feet (8440 Old Sauk Rd\, Middleton\, WI 53562)\nWhen: Mondays (starting May 13th) at 6pm\nRegister: Please email madison@ainsleysangels.org if you plan to attend!\n\nThis event will be recurring every Monday at 6pm weather permitting and not on holidays. Please let us know if you will be joining us!
URL:https://ainsleysangels.org/single-event/madison-wi-never-miss-a-monday-with-fleet-feet/2024-09-23/
ATTACH;FMTTYPE=:
END:VEVENT
BEGIN:VEVENT
DTSTART;TZID=America/New_York:20240928T063000
DTEND;TZID=America/New_York:20240928T110000
DTSTAMP:20260420T054840
CREATED:20240809T184306Z
LAST-MODIFIED:20240809T184306Z
UID:10001166-1727505000-1727521200@ainsleysangels.org
SUMMARY:Great Pumpkin Run 5k Lonoke\, AR 9-28-24
DESCRIPTION:NeLA Ainsley’s monroe will be participating at this race while also participating with  Arkansas Ainsley’s. Come join us for a fun filled event. Riders if interested please Email Nelouisiana@ainsleysangles.org to get signed up.  Runners will need to sign up and the link is included further down. \nThe following if from the race website: \nThis event will take place at the Train Depot in Lonoke that offers a professionally chip-timed race and a 1 mile family fun run. The course takes runners\, walkers and trotters on a USATF certified course winding its way throughout Lonoke neighborhoods that loops back to the Finish Line. \nThe cost for the in-person event is $25 per person if registering before 11:59 p.m. EST on August 15th\, and price increases to $30 until  (additional increase in fees for same-day registration) and $10 (same-day registration fees increase) for the 1M Family Trot. Proceeds from all events benefit foster children housed at Lonoke Open Arms. \nRegistration Fee includes chipped-bib and an event shirt. \n1M Family Trotters will receive a shirt\, pumpkin and a participation medal at the Finish Line. \nWe offer a Virtual Run option for those that cannot make it to the event. \nPacket Pick Up: \nPacket Pick Up and Registration : We are offering early packet pickup at Rock City Running in Little Rock on Thursday\, September 26th\, from 11 a.m. to 6 p.m. We will have packet pickup on Friday\, 4-7pm at the Train Depot in Lonoke. We encourage you to pick up your packet early.You may pick up for others with a copy or picture of their photo ID. All other packets will be picked up by participants on Race Day between 6:30-7:45 am at the Packet Pick Up table by the Start Line. \n*Race day registration will be available race day. \nhttps://runsignup.com/Race/AR/Lonoke/TheGreatPumpkinRun5kloneoakeo \n  \n  \nAinsleys Race day schedule: \n6am trailer arrives time subject to change \n6:30 runners riders arrive time subject to change \n7:00 pictures final instructions \n7:30 move to start line \n8am start
URL:https://ainsleysangels.org/single-event/great-pumpkin-run-5k-lonoke-ar-9-28-24/
CATEGORIES:Northeast Louisiana
ATTACH;FMTTYPE=:
END:VEVENT
BEGIN:VEVENT
DTSTART;TZID=America/New_York:20240928T070000
DTEND;TZID=America/New_York:20240928T120000
DTSTAMP:20260420T054840
CREATED:20240507T161247Z
LAST-MODIFIED:20240507T161247Z
UID:10000859-1727506800-1727524800@ainsleysangels.org
SUMMARY:Pink Ribbon Run
DESCRIPTION:Join Coastal Race Productions and the Grand Strand Running Club as we strive to ensure that #NoOneFightsAlone. \nCoastal Race Production’s Race Directors have opened up their race and are allowing us to come and have some fun. For Safety of the rider and runner\, Coastal Race Productions has asked that we roll in the 10K\, due to narrow roads and space on the course being limited. Let me know if your rider would like to roll so we can make arrangements.
URL:https://ainsleysangels.org/single-event/pink-ribbon-run-2/
LOCATION:Barefoot Resorts and Marina\, Village Crossing Blvd\, North Myrtle Beach\, SC\, 29582\, United States
CATEGORIES:Coastal Carolina,South Carolina
ATTACH;FMTTYPE=:
END:VEVENT
BEGIN:VEVENT
DTSTART;TZID=America/New_York:20240928T080000
DTEND;TZID=America/New_York:20240928T170000
DTSTAMP:20260420T054840
CREATED:20240229T010039Z
LAST-MODIFIED:20240229T010039Z
UID:10000822-1727510400-1727542800@ainsleysangels.org
SUMMARY:The Great Pumpkin
DESCRIPTION:
URL:https://ainsleysangels.org/single-event/the-great-pumpkin/2024-09-28/1/
LOCATION:Saratoga State Park\, Orenda Pavilion\, Saratoga Springs\, NY
CATEGORIES:Albany / ADK,Buffalo
ATTACH;FMTTYPE=:
ORGANIZER;CN="Saratoga Bridges":MAILTO:info@saratogabridges.org
END:VEVENT
BEGIN:VEVENT
DTSTART;TZID=America/New_York:20240928T083000
DTEND;TZID=America/New_York:20240928T123000
DTSTAMP:20260420T054840
CREATED:20240326T015402Z
LAST-MODIFIED:20240326T015505Z
UID:10000845-1727512200-1727526600@ainsleysangels.org
SUMMARY:10th Annual Go Green for Cerebral Palsy 10k\, 5k\, 1 mile fun run
DESCRIPTION:10th Annual Go Green for Cerebral Palsy 10k\, 5k\, 1 mile fun run\, walk or roll virtual option \nSaturday September 28\, 2024  8:30am \nJake’ s on the Lake\, Centre \n  \nSheri Green and her daughter Grayson put this race on each year to help bring specialized equipment into the classrooms where it is needed the most in the Cherokee County\, Al school district. Fun and flat course with door prizes for just about everyone who comes!
URL:https://ainsleysangels.org/single-event/10th-annual-go-green-for-cerebral-palsy-10k-5k-1-mile-fun-run/
CATEGORIES:Alabama,Northeast Alabama
ATTACH;FMTTYPE=:
END:VEVENT
BEGIN:VEVENT
DTSTART;TZID=America/New_York:20240928T093000
DTEND;TZID=America/New_York:20240928T103000
DTSTAMP:20260420T054840
CREATED:20240229T010039Z
LAST-MODIFIED:20240229T010039Z
UID:10000823-1727515800-1727519400@ainsleysangels.org
SUMMARY:The Great Pumpkin
DESCRIPTION:
URL:https://ainsleysangels.org/single-event/the-great-pumpkin/2024-09-28/2/
LOCATION:Saratoga State Park\, Orenda Pavilion\, Saratoga Springs\, NY
CATEGORIES:Albany / ADK,Buffalo
ATTACH;FMTTYPE=:
ORGANIZER;CN="Saratoga Bridges":MAILTO:info@saratogabridges.org
END:VEVENT
END:VCALENDAR