BEGIN:VCALENDAR
VERSION:2.0
PRODID:-//Ainsley&#039;s Angels of America - ECPv6.15.20//NONSGML v1.0//EN
CALSCALE:GREGORIAN
METHOD:PUBLISH
X-ORIGINAL-URL:https://ainsleysangels.org
X-WR-CALDESC:Events for Ainsley&#039;s Angels of America
REFRESH-INTERVAL;VALUE=DURATION:PT1H
X-Robots-Tag:noindex
X-PUBLISHED-TTL:PT1H
BEGIN:VTIMEZONE
TZID:America/New_York
BEGIN:DAYLIGHT
TZOFFSETFROM:-0500
TZOFFSETTO:-0400
TZNAME:EDT
DTSTART:20230312T070000
END:DAYLIGHT
BEGIN:STANDARD
TZOFFSETFROM:-0400
TZOFFSETTO:-0500
TZNAME:EST
DTSTART:20231105T060000
END:STANDARD
BEGIN:DAYLIGHT
TZOFFSETFROM:-0500
TZOFFSETTO:-0400
TZNAME:EDT
DTSTART:20240310T070000
END:DAYLIGHT
BEGIN:STANDARD
TZOFFSETFROM:-0400
TZOFFSETTO:-0500
TZNAME:EST
DTSTART:20241103T060000
END:STANDARD
BEGIN:DAYLIGHT
TZOFFSETFROM:-0500
TZOFFSETTO:-0400
TZNAME:EDT
DTSTART:20250309T070000
END:DAYLIGHT
BEGIN:STANDARD
TZOFFSETFROM:-0400
TZOFFSETTO:-0500
TZNAME:EST
DTSTART:20251102T060000
END:STANDARD
END:VTIMEZONE
BEGIN:VEVENT
DTSTART;TZID=America/New_York:20240908T080000
DTEND;TZID=America/New_York:20240908T110000
DTSTAMP:20260420T175545
CREATED:20240310T205421Z
LAST-MODIFIED:20240603T101806Z
UID:10000832-1725782400-1725793200@ainsleysangels.org
SUMMARY:Travis Manion 9/11 Heroes Run 5k
DESCRIPTION:  \n  \nThis event will take place at Cooper River park. Run/Walk/Ruck \n  \nTo register:  https://runsignup.com/Race/NJ/Pennsauken/911HeroesRunPennsaukenNJ
URL:https://ainsleysangels.org/single-event/travis-manion-9-11-heroes-run-5k/
LOCATION:Coopr River Park\, 1301 North Park Drive\, Pennsauken\, NJ\, 08109\, United States
CATEGORIES:New Jersey,South Jersey
ATTACH;FMTTYPE=:
END:VEVENT
BEGIN:VEVENT
DTSTART;TZID=America/New_York:20240908T080000
DTEND;TZID=America/New_York:20240908T110000
DTSTAMP:20260420T175545
CREATED:20240323T194442Z
LAST-MODIFIED:20240323T194516Z
UID:10000842-1725782400-1725793200@ainsleysangels.org
SUMMARY:9/11 Heros Run - Denver
DESCRIPTION:
URL:https://ainsleysangels.org/single-event/9-11-heros-run-denver/
CATEGORIES:Colorado Springs,Denver
ATTACH;FMTTYPE=:
END:VEVENT
BEGIN:VEVENT
DTSTART;VALUE=DATE:20240909
DTEND;VALUE=DATE:20240910
DTSTAMP:20260420T175545
CREATED:20240714T205925Z
LAST-MODIFIED:20240714T205925Z
UID:10000908-1725840000-1725926399@ainsleysangels.org
SUMMARY:Madison\, WI Never Miss a Monday! with Fleet Feet
DESCRIPTION:Never Miss a Monday! with Fleet Feet\nWhere: Fleet Feet (8440 Old Sauk Rd\, Middleton\, WI 53562)\nWhen: Mondays (starting May 13th) at 6pm\nRegister: Please email madison@ainsleysangels.org if you plan to attend!\n\nThis event will be recurring every Monday at 6pm weather permitting and not on holidays. Please let us know if you will be joining us!
URL:https://ainsleysangels.org/single-event/madison-wi-never-miss-a-monday-with-fleet-feet/2024-09-09/
ATTACH;FMTTYPE=:
END:VEVENT
BEGIN:VEVENT
DTSTART;TZID=America/New_York:20240914T060000
DTEND;TZID=America/New_York:20240914T120000
DTSTAMP:20260420T175545
CREATED:20240515T233044Z
LAST-MODIFIED:20240515T233044Z
UID:10000870-1726293600-1726315200@ainsleysangels.org
SUMMARY:Marine Corps Half Marathon
DESCRIPTION:Registration site and details will be added soon\, but mark your calendar now for Sept. 14th and make plans to join us as we celebrate 12 years of #INCLUSIONWITHOUTLIMITS in Eastern Carolina!
URL:https://ainsleysangels.org/single-event/marine-corps-half-marathon/
CATEGORIES:Eastern Carolina,North Carolina
ATTACH;FMTTYPE=:
END:VEVENT
BEGIN:VEVENT
DTSTART;TZID=America/New_York:20240914T083000
DTEND;TZID=America/New_York:20240914T110000
DTSTAMP:20260420T175545
CREATED:20240908T101723Z
LAST-MODIFIED:20240908T101723Z
UID:10001169-1726302600-1726311600@ainsleysangels.org
SUMMARY:Race for Inclusion 5K
DESCRIPTION:Join the 2024 Race for Inclusion\, Special Olympics’ Florida Challenge to build a world of inclusion and acceptance.  How perfect since Ainsley’s Angels has a like-minded mission!  Contact Ambassador Kim for runner and rider discount codes (jacksonville@ainsleysangels.org).
URL:https://ainsleysangels.org/single-event/race-for-inclusion-5k/
LOCATION:CSX Campus\, 500 Waters Street\, Jacksonville\, FL\, 32202\, United States
CATEGORIES:Jacksonville
ATTACH;FMTTYPE=:
ORGANIZER;CN="Special Olympics Florida":MAILTO:ashleycetin@sofl.org
END:VEVENT
END:VCALENDAR