BEGIN:VCALENDAR
VERSION:2.0
PRODID:-//Ainsley&#039;s Angels of America - ECPv6.15.20//NONSGML v1.0//EN
CALSCALE:GREGORIAN
METHOD:PUBLISH
X-WR-CALNAME:Ainsley&#039;s Angels of America
X-ORIGINAL-URL:https://ainsleysangels.org
X-WR-CALDESC:Events for Ainsley&#039;s Angels of America
REFRESH-INTERVAL;VALUE=DURATION:PT1H
X-Robots-Tag:noindex
X-PUBLISHED-TTL:PT1H
BEGIN:VTIMEZONE
TZID:America/New_York
BEGIN:DAYLIGHT
TZOFFSETFROM:-0500
TZOFFSETTO:-0400
TZNAME:EDT
DTSTART:20230312T070000
END:DAYLIGHT
BEGIN:STANDARD
TZOFFSETFROM:-0400
TZOFFSETTO:-0500
TZNAME:EST
DTSTART:20231105T060000
END:STANDARD
BEGIN:DAYLIGHT
TZOFFSETFROM:-0500
TZOFFSETTO:-0400
TZNAME:EDT
DTSTART:20240310T070000
END:DAYLIGHT
BEGIN:STANDARD
TZOFFSETFROM:-0400
TZOFFSETTO:-0500
TZNAME:EST
DTSTART:20241103T060000
END:STANDARD
BEGIN:DAYLIGHT
TZOFFSETFROM:-0500
TZOFFSETTO:-0400
TZNAME:EDT
DTSTART:20250309T070000
END:DAYLIGHT
BEGIN:STANDARD
TZOFFSETFROM:-0400
TZOFFSETTO:-0500
TZNAME:EST
DTSTART:20251102T060000
END:STANDARD
END:VTIMEZONE
BEGIN:VEVENT
DTSTART;TZID=America/New_York:20240616T080000
DTEND;TZID=America/New_York:20240616T170000
DTSTAMP:20260420T180859
CREATED:20240123T163838Z
LAST-MODIFIED:20240123T163903Z
UID:10000771-1718524800-1718557200@ainsleysangels.org
SUMMARY:Brady's Bridge 5k Day TBD
DESCRIPTION:Heroes come in all shapes and sizes.\nAfter watching our son as he has persevered with strength and joy over the last few years\,\nwe found our hero.\nSo\, grab your cape\, your costume\, or your very own hero\nand join us for our 9th Annual Super Family Fund Run!\n  \nThis Race is in June\, we do not have the day of the race yet.
URL:https://ainsleysangels.org/single-event/bradys-bridge-5k-day-tbd/
CATEGORIES:Central Texas - Austin
ATTACH;FMTTYPE=:
ORGANIZER;CN="Brady's Bridge":MAILTO:http://bradysbridge.org/contact/
END:VEVENT
BEGIN:VEVENT
DTSTART;TZID=America/New_York:20240622T070000
DTEND;TZID=America/New_York:20240622T110000
DTSTAMP:20260420T180859
CREATED:20240326T014108Z
LAST-MODIFIED:20240326T014108Z
UID:10000844-1719039600-1719054000@ainsleysangels.org
SUMMARY:Miles For Molly
DESCRIPTION:5k and fun run \nSaturday June 22\, 2024 7am \nTurning Point United Methodist Church in Locust Fork \n  \nhelp celebrate Molly turning 16 with a fun race and fast finish downhill! lots of fun and cake to be had afterwards!!
URL:https://ainsleysangels.org/single-event/miles-for-molly/
CATEGORIES:Alabama,Northeast Alabama
ATTACH;FMTTYPE=:
END:VEVENT
BEGIN:VEVENT
DTSTART;TZID=America/New_York:20240622T180000
DTEND;TZID=America/New_York:20240622T193000
DTSTAMP:20260420T180859
CREATED:20240329T121621Z
LAST-MODIFIED:20240329T121816Z
UID:10000846-1719079200-1719084600@ainsleysangels.org
SUMMARY:Summer Splash 5k
DESCRIPTION:
URL:https://ainsleysangels.org/single-event/summer-splash-5k/
LOCATION:Dogwood Park Cookeville\, TN
CATEGORIES:Tennessee,Upper Cumberland
ATTACH;FMTTYPE=:
END:VEVENT
END:VCALENDAR