BEGIN:VCALENDAR
VERSION:2.0
PRODID:-//Ainsley&#039;s Angels of America - ECPv6.15.20//NONSGML v1.0//EN
CALSCALE:GREGORIAN
METHOD:PUBLISH
X-ORIGINAL-URL:https://ainsleysangels.org
X-WR-CALDESC:Events for Ainsley&#039;s Angels of America
REFRESH-INTERVAL;VALUE=DURATION:PT1H
X-Robots-Tag:noindex
X-PUBLISHED-TTL:PT1H
BEGIN:VTIMEZONE
TZID:America/New_York
BEGIN:DAYLIGHT
TZOFFSETFROM:-0500
TZOFFSETTO:-0400
TZNAME:EDT
DTSTART:20230312T070000
END:DAYLIGHT
BEGIN:STANDARD
TZOFFSETFROM:-0400
TZOFFSETTO:-0500
TZNAME:EST
DTSTART:20231105T060000
END:STANDARD
BEGIN:DAYLIGHT
TZOFFSETFROM:-0500
TZOFFSETTO:-0400
TZNAME:EDT
DTSTART:20240310T070000
END:DAYLIGHT
BEGIN:STANDARD
TZOFFSETFROM:-0400
TZOFFSETTO:-0500
TZNAME:EST
DTSTART:20241103T060000
END:STANDARD
BEGIN:DAYLIGHT
TZOFFSETFROM:-0500
TZOFFSETTO:-0400
TZNAME:EDT
DTSTART:20250309T070000
END:DAYLIGHT
BEGIN:STANDARD
TZOFFSETFROM:-0400
TZOFFSETTO:-0500
TZNAME:EST
DTSTART:20251102T060000
END:STANDARD
END:VTIMEZONE
BEGIN:VEVENT
DTSTART;TZID=America/New_York:20240420T070000
DTEND;TZID=America/New_York:20240421T133000
DTSTAMP:20260421T005905
CREATED:20240130T031742Z
LAST-MODIFIED:20240402T003458Z
UID:10000776-1713596400-1713706200@ainsleysangels.org
SUMMARY:Tidewater Striders 5miler\, Half\, Marathon
DESCRIPTION:Welcome to the Tidewater Striders Marathon and Half Marathon Home to one of the Flattest and fastest Marathons in the country and the Fastest in Virginia!!!! \nWebsite Find my Marathon rates The Tidewater Strider Marathon as the 47th fastest Marathon in the Country and the Fastest Marathon in Virginia! https://findmymarathon.com/race-detail.php?zname=Tidewater%20Strider%20Marathon \nIn 2021 The Tidewater Strider BQ invitational and The Strider Marathon both ran on the same course and were ranked #2 and #35 in the country for their Boston Qualifying percentage!! \nCOURSE: This is a Marathon and Half Marathon course on the closed 2-lane roadway at the Dismal Swamp Trail Park in Chesapeake. The full Marathon course will be USATF Certified course and that means its a Boston Qualifying race\nPACKET PICKUP:  Early Packet pick-up will be at Point 2 running company in Chesapeake Friday\, April 19sth from 3-6pm! Race day pick-up will be from 6:15 -7:30 am!\nFLUIDS AND FOOD: There will be 4 aid stations with water for the half Marathon and 9 water stations for the full.\nAMENITIES & POST-RACE:  Finishers receive a Medal and Premium Long Sleeve Shirt. Onsite hospitality & refreshments. Post-race party onsite!\nTIME LIMITS: The Full Marathon will start at 7 am and Half Marathon will start at 7:30 AM! The finish line will close at 1:30 PM. Walkers may arrange an early start or self-time after 1:30 PM.\nAWARDS: Top 3 overall Males and Females and top 3 overall Masters Male & Female the top 3 males and females in 10-year age groups will receive awards!\nREGISTRATION:  Registration will be open until April 21\, 2024.\nLEGACY RUNNERS/STRIDERS PLUS: Discounts available thru April 21.\nCLUB MEMBERSHIP DISCOUNTS: A Club membership discount of $5.00 is available up thru April 23. Discounts are automatically applied on the payment page during registration. You should use the account you used to register for the club to apply for this discount. We will also attempt to match on name/date of birth.
URL:https://ainsleysangels.org/single-event/strider-5k-half-marathon/
LOCATION:Dismal Swamp Park\, Chesapeake\, Virginia\, 51427 George Washington Hwy S\, Chesapeake\, Virginia\, 23323
CATEGORIES:Hampton Roads
ATTACH;FMTTYPE=:
END:VEVENT
BEGIN:VEVENT
DTSTART;TZID=America/New_York:20240421T080000
DTEND;TZID=America/New_York:20240421T080000
DTSTAMP:20260421T005905
CREATED:20240227T182025Z
LAST-MODIFIED:20240227T182025Z
UID:10000805-1713686400-1713686400@ainsleysangels.org
SUMMARY:Bucky's Race for Rehab 5k
DESCRIPTION:Where: 702 Walnut St Madison\, WI US 53705\n\nWhen: 8am\nRegistration: https://runsignup.com/Race/WI/Madison/BuckysRaceforRehab2023
URL:https://ainsleysangels.org/single-event/buckys-race-for-rehab-5k/
LOCATION:702 Walnut St Madison\, WI US 53705\, 702 Walnut St Madison\, WI US 53705
ATTACH;FMTTYPE=:
END:VEVENT
BEGIN:VEVENT
DTSTART;TZID=America/New_York:20240421T090000
DTEND;TZID=America/New_York:20240421T110000
DTSTAMP:20260421T005905
CREATED:20240323T193052Z
LAST-MODIFIED:20240323T193358Z
UID:10000839-1713690000-1713697200@ainsleysangels.org
SUMMARY:Rockin' on the River 5K- Littleton
DESCRIPTION:
URL:https://ainsleysangels.org/single-event/rockin-on-the-river-5k-littleton/
CATEGORIES:Colorado Springs,Denver
ATTACH;FMTTYPE=:
END:VEVENT
BEGIN:VEVENT
DTSTART;TZID=America/New_York:20240427T063000
DTEND;TZID=America/New_York:20240427T180000
DTSTAMP:20260421T005905
CREATED:20240130T032642Z
LAST-MODIFIED:20240130T032822Z
UID:10000777-1714199400-1714240800@ainsleysangels.org
SUMMARY:Tour de Cure Mid Atlantic
DESCRIPTION:Tour de Cure is our premier cycling event for all ages and abilities. Choose the course that best suits you\, your family\, friends\, and coworkers. You will see beach cruisers\, to road bikes\, and all styles in between. Whether you are an occasional rider or an experienced cyclist\, the Tour de Cure has a little something for everyone. \nThe Tour de Cure: Mid-Atlantic event starts in the quaint and charming town of Smithfield\, then travels through the peaceful countryside of Isle of Wight and Surry Counties. All the routes will be well-marked and fully supported with bike mechanics\, volunteer route marshals\, rest stops with food and water\, cheering volunteers\, and more! When you return to the start/finish line\, you will enjoy a delicious post-ride meal\, adult beverage\, massage\, and finisher medal and delight in the music\, fun zone\, cheers\, and camaraderie around you. \nChampion Riders\, be sure to head over to the golden Champions Tent for your special thank-you gift. \nRed Riders\, be sure to stop by the Living Red Tent for your Red Rider jersey. \nChoose your distance and know that every mile helps make a difference. Whether you choose to ride in person or virtually\, all the roads we take will lead to the same destination – to fundraise for a cure and to improve the lives of all people affected by diabetes. \nAA will be participating in the 30 mile ride this year. Please contact Emily Cass prior to registering.
URL:https://ainsleysangels.org/single-event/tour-de-cure/
LOCATION:Windsor Castle Park\, 705 Cedar Street\, Smithfield\, VA\, 23430
CATEGORIES:Hampton Roads
ATTACH;FMTTYPE=:
END:VEVENT
BEGIN:VEVENT
DTSTART;TZID=America/New_York:20240427T080000
DTEND;TZID=America/New_York:20240427T170000
DTSTAMP:20260421T005905
CREATED:20240131T042121Z
LAST-MODIFIED:20240131T042121Z
UID:10000783-1714204800-1714237200@ainsleysangels.org
SUMMARY:Parkway Half Marathon
DESCRIPTION:The race that started our ambassadorship. This amazing race winds through the American River Parkway bike trail. Stunning views of the American River.
URL:https://ainsleysangels.org/single-event/parkway-half-marathon/
LOCATION:William Pond Park\, 5700 Arden Way\, Carmicheal\, CA\, 95608
CATEGORIES:Sacramento
ATTACH;FMTTYPE=:
END:VEVENT
END:VCALENDAR