BEGIN:VCALENDAR
VERSION:2.0
PRODID:-//Ainsley&#039;s Angels of America - ECPv6.15.20//NONSGML v1.0//EN
CALSCALE:GREGORIAN
METHOD:PUBLISH
X-ORIGINAL-URL:https://ainsleysangels.org
X-WR-CALDESC:Events for Ainsley&#039;s Angels of America
REFRESH-INTERVAL;VALUE=DURATION:PT1H
X-Robots-Tag:noindex
X-PUBLISHED-TTL:PT1H
BEGIN:VTIMEZONE
TZID:America/New_York
BEGIN:DAYLIGHT
TZOFFSETFROM:-0500
TZOFFSETTO:-0400
TZNAME:EDT
DTSTART:20230312T070000
END:DAYLIGHT
BEGIN:STANDARD
TZOFFSETFROM:-0400
TZOFFSETTO:-0500
TZNAME:EST
DTSTART:20231105T060000
END:STANDARD
BEGIN:DAYLIGHT
TZOFFSETFROM:-0500
TZOFFSETTO:-0400
TZNAME:EDT
DTSTART:20240310T070000
END:DAYLIGHT
BEGIN:STANDARD
TZOFFSETFROM:-0400
TZOFFSETTO:-0500
TZNAME:EST
DTSTART:20241103T060000
END:STANDARD
BEGIN:DAYLIGHT
TZOFFSETFROM:-0500
TZOFFSETTO:-0400
TZNAME:EDT
DTSTART:20250309T070000
END:DAYLIGHT
BEGIN:STANDARD
TZOFFSETFROM:-0400
TZOFFSETTO:-0500
TZNAME:EST
DTSTART:20251102T060000
END:STANDARD
END:VTIMEZONE
BEGIN:VEVENT
DTSTART;TZID=America/New_York:20240406T070000
DTEND;TZID=America/New_York:20240408T140000
DTSTAMP:20260421T115838
CREATED:20240130T025624Z
LAST-MODIFIED:20240130T031222Z
UID:10000775-1712386800-1712584800@ainsleysangels.org
SUMMARY:Coast Guard Marathon Weekend
DESCRIPTION:Come for the run and stay for the fun! The Coast Guard Marathon is an annual endurance event held the beginning of April in Elizabeth City\, North Carolina. First held in 2021 to celebrate the Coast Guard and the Officially Designated Coast Guard City of Elizabeth City\, the very first Coast Guard Marathon was held virtually due to pandemic closures.  The U.S. Coast Guard\, Elizabeth City Community\, and runners from all over the world were able to gather for the first in-person edition of the races in March of 2022. Although one of the newest of the Prestigious Military Races\, the Coast Guard Marathon has had participants from every Military Branch\, all 50 states\, and numerous countries throughout the world.  \nRace weekend features four event distances; a marathon\, half marathon\, 5K\, and 1K Kids’ Run as well as two Semper Paratus Challenge Series where runners can earn a challenge coin after completing the 5K and half marathon or marathon in one weekend. Other exciting events include our two-day Coast Guard Marathon Expo\, A Toast to the Coast Guard Dinner\, Finish Line Festival\, and After Party. \nOur fast and flat Boston Qualifying marathon course features a beautiful waterfront through a historic town filled with southern charm and the opportunity of a lifetime to run on the U.S. Coast Guard Base Elizabeth City runway. We look forward to sharing our Southern Hospitality!
URL:https://ainsleysangels.org/single-event/coast-guard-marathon-weekend/
LOCATION:Waterfront Park\, Elizabeth City\, 508 S Water St\, Elizabeth City\, North Carolina\, 27909
CATEGORIES:Hampton Roads
ATTACH;FMTTYPE=:
END:VEVENT
BEGIN:VEVENT
DTSTART;TZID=America/New_York:20240407T120000
DTEND;TZID=America/New_York:20240407T130000
DTSTAMP:20260421T115838
CREATED:20231111T154553Z
LAST-MODIFIED:20231111T155944Z
UID:10000731-1712491200-1712494800@ainsleysangels.org
SUMMARY:Carlsbad 5000 World's Fastest 5K (Carlsbad\, CA)
DESCRIPTION:The Carlsbad 5000 is a full day of road racing on the seaside streets of Carlsbad\, California. This iconic event features individual 5K races for all ages & abilities\, including Men’s & Women’s Masters Divisions (40 & Older)\, Men’s & Women’s Open Divisions (39 & Under)\, the Non-Competitive People’s Race (Joggers & Walkers\, All Ages)\, & the world’s fastest Elites. The post-race experience features the Carlsbad 5000 Health & Fitness Expo and the legendary Pizza Port Beer Garden.
URL:https://ainsleysangels.org/single-event/carlsbad-5000-worlds-fastest-5k-carlsbad-ca/
LOCATION:Carlsbad
ATTACH;FMTTYPE=:
END:VEVENT
BEGIN:VEVENT
DTSTART;TZID=America/New_York:20240413T090000
DTEND;TZID=America/New_York:20240413T110000
DTSTAMP:20260421T115838
CREATED:20240228T202941Z
LAST-MODIFIED:20240228T202941Z
UID:10000813-1712998800-1713006000@ainsleysangels.org
SUMMARY:Pirate Nurse 5k
DESCRIPTION:Description\nThe Pirate Nurse 5K has become a popular legacy event for current students\, and a welcomed opportunity for sponsors to show their support for nursing students. It’s also an opportunity for alumni to re-connect with the College of Nursing and show their support for future Pirate Nurses. In concert with nursing culture\, the charitable aspect of the event is integral to the ideal of service\, one of the hallmarks of nursing education at the ECU College of Nursing. \nAWARDS/CATEGORIES\nOverall male and female; top two finishes in each age category (divisions of 12 and under\, 13-19\, 20-29\, 30-39\, 40-49\, 50-59\, 60 and up) \nGIVEAWAY\nT-shirt and other gifts. Registration prices increase and no guaranteed t-shirts after March 24 so make sure you get registered early! \nCOURSE DESCRIPTION\nStarts in front of the College and winds through the Medical District and the Health Science Campus\, around Laupus Lake and finishes in front of the Health Science Building.
URL:https://ainsleysangels.org/single-event/pirate-nurse-5k/
LOCATION:ECU HEALTH SCIENCES CAMPUS\, 2205 West 5th Street\, Greenville\, NC
CATEGORIES:Greenville
ATTACH;FMTTYPE=:
END:VEVENT
BEGIN:VEVENT
DTSTART;TZID=America/New_York:20240413T100000
DTEND;TZID=America/New_York:20240413T113000
DTSTAMP:20260421T115838
CREATED:20240225T172825Z
LAST-MODIFIED:20240225T172825Z
UID:10000794-1713002400-1713007800@ainsleysangels.org
SUMMARY:NCI runs Gene Parks 5K
DESCRIPTION:effff
URL:https://ainsleysangels.org/single-event/nci-runs-gene-parks-5k-2/
LOCATION:Jeff Stout Community Center\, 650 N West Street\, Russiaville\, IN\, 46979\, United States
CATEGORIES:Indiana,North Central Indiana
ATTACH;FMTTYPE=image/jpeg:https://ainsleysangels.org/wp-content/uploads/2024/02/Gene-Parks-scaled.jpg
END:VEVENT
END:VCALENDAR