BEGIN:VCALENDAR
VERSION:2.0
PRODID:-//Ainsley&#039;s Angels of America - ECPv6.15.20//NONSGML v1.0//EN
CALSCALE:GREGORIAN
METHOD:PUBLISH
X-WR-CALNAME:Ainsley&#039;s Angels of America
X-ORIGINAL-URL:https://ainsleysangels.org
X-WR-CALDESC:Events for Ainsley&#039;s Angels of America
REFRESH-INTERVAL;VALUE=DURATION:PT1H
X-Robots-Tag:noindex
X-PUBLISHED-TTL:PT1H
BEGIN:VTIMEZONE
TZID:America/New_York
BEGIN:DAYLIGHT
TZOFFSETFROM:-0500
TZOFFSETTO:-0400
TZNAME:EDT
DTSTART:20230312T070000
END:DAYLIGHT
BEGIN:STANDARD
TZOFFSETFROM:-0400
TZOFFSETTO:-0500
TZNAME:EST
DTSTART:20231105T060000
END:STANDARD
BEGIN:DAYLIGHT
TZOFFSETFROM:-0500
TZOFFSETTO:-0400
TZNAME:EDT
DTSTART:20240310T070000
END:DAYLIGHT
BEGIN:STANDARD
TZOFFSETFROM:-0400
TZOFFSETTO:-0500
TZNAME:EST
DTSTART:20241103T060000
END:STANDARD
BEGIN:DAYLIGHT
TZOFFSETFROM:-0500
TZOFFSETTO:-0400
TZNAME:EDT
DTSTART:20250309T070000
END:DAYLIGHT
BEGIN:STANDARD
TZOFFSETFROM:-0400
TZOFFSETTO:-0500
TZNAME:EST
DTSTART:20251102T060000
END:STANDARD
END:VTIMEZONE
BEGIN:VEVENT
DTSTART;TZID=America/New_York:20240324T073000
DTEND;TZID=America/New_York:20240324T110000
DTSTAMP:20260421T020426
CREATED:20240310T203524Z
LAST-MODIFIED:20240310T203524Z
UID:10000829-1711265400-1711278000@ainsleysangels.org
SUMMARY:Philly Love Run Half Marathon & 7K
DESCRIPTION:A fun race thru the streets of Philly and Fairmont Park that starts & finishes in front of the world famous Philly Art Museum. \nEXPO/PACKET PICKUP \nFriday\, March 22nd 3:00 pm – 6:30 pm \nSaturday\, March 23rd 10:00 am – 4:00 pm \nPennsylvania Convention Center\, Hall F \nEnter on Arch and 12th Sts. \n 
URL:https://ainsleysangels.org/single-event/philly-love-run-half-marathon-7k/
LOCATION:Eakins Oval\, Philadelphia\, PA\, 2451 Benjamin Franklin Parkway\, Philadelphia\, PA\, 19130\, United States
CATEGORIES:New Jersey,South Jersey
ATTACH;FMTTYPE=:
END:VEVENT
BEGIN:VEVENT
DTSTART;TZID=America/New_York:20240324T110000
DTEND;TZID=America/New_York:20240324T113000
DTSTAMP:20260421T020426
CREATED:20240225T190608Z
LAST-MODIFIED:20240225T190608Z
UID:10000798-1711278000-1711279800@ainsleysangels.org
SUMMARY:Shamrock Shuffle 5k
DESCRIPTION:REGISTRATION: $28.00 (Race day $35.00). Adirondack Runner Members: $23.00 ($28.00 race day). Make checks payable to The Adirondack Runners. Mail to: Laurie Anderson\, 7 Westland Ave\, Queensbury\, NY 12804 \nCHECK IN & RACE DAY REGISTRATION: 8:00 am to 10:30 am in GF High School Gymnasium \nCOURSE: 5 mile loop\, fast course. Go to adkrunners.org for link to course \nPERKS: Long sleeve shirts to first 300 entrants registered by March 10\, 2024. \nSnacks after the race!! Awesome volunteers!
URL:https://ainsleysangels.org/single-event/shamrock-shuffle-5k/
LOCATION:Glens Falls High School\, 10 Quade Street\, Glens Falls\, NY\, United States
CATEGORIES:Albany / ADK
ATTACH;FMTTYPE=:
ORGANIZER;CN="The Adirondack Runners":MAILTO:info@adirondackrunners.org
END:VEVENT
BEGIN:VEVENT
DTSTART;TZID=America/New_York:20240330T090000
DTEND;TZID=America/New_York:20240330T090000
DTSTAMP:20260421T020426
CREATED:20240227T181749Z
LAST-MODIFIED:20240227T181749Z
UID:10000804-1711789200-1711789200@ainsleysangels.org
SUMMARY:Cottontail Classic 5k
DESCRIPTION:Where: McGaw Park (5236 Lacy Rd Fitchburg\, WI 53711)\n\nWhen: 9am\nRegistration: https://www.cottontailclassic.com/registration/
URL:https://ainsleysangels.org/single-event/cottontail-classic-5k/
LOCATION:McGaw Park\, McGaw Park 5236 Lacy Rd Fitchburg\, WI 53711
ATTACH;FMTTYPE=:
END:VEVENT
BEGIN:VEVENT
DTSTART;TZID=America/New_York:20240330T093000
DTEND;TZID=America/New_York:20240330T130000
DTSTAMP:20260421T020426
CREATED:20240225T170035Z
LAST-MODIFIED:20240225T170035Z
UID:10000793-1711791000-1711803600@ainsleysangels.org
SUMMARY:NCI run Easter Egg 5K
DESCRIPTION:10th Year Anniversary! Check out the fun below and let Kristy or Misty know if you want to be part of an Angel team.\nEaster Egg 5k run/walk is Downtown at the beautiful White River State Park!\nHip Hop Hooray!!!\nRun/Walk a 5K and Finish right into the Easter Egg Party!\nSo Eggcellent….\nEaster Egg Hunt for All Ages to Enjoy!\nLittle Kids Dasher Egg Hunters\nGrade Schooler Kids Dasher Egg Hunters\n5k Kids Egg Hunters\n5k All Ages Egg Hunters\nAll New 5K Adults Only (21+) Egg Hunters\nWinning Egg Prizes for All Ages!\nBring the Whole Family for a Hoppy Good Egging Time!\nBest part is treating yourself to a Yummy Cupcake and Wine/Beer (21+) or Root Beer!\nSaturday March 30\, 2024 Hoppy Race Schedule\n9:30am Race Day Packet Pickup Opens\n10:30am 1st Kids Dash Egg Hunt – Recommended for Ages 8 & Under!\n10:40am 2nd Kids Dash Egg Hunt – Recommended for Ages 9-12!\n10:50am Kids 80 Yard Dash – Race for More Easter Eggs!\n11:00am 5K Starts!\nEaster Party Begins (Live Music\, Cupcakes\, Beer/Wine or Root Beer = Yummy)\n11:30am 1st 5K Egg Hunt All Ages….\n11:45am 2nd 5K Egg Hunt All Ages…\n11:45am Overall & Age Groups are Announced!\n12:00pm 3rd and Final 5K Egg Hunt All Ages…\n12:15pm 4th Egg Hunt – Adults Only (21+)… With Adults Prizes – Presented By Easley Winery!\nThat’s All Folks – Have a Hoppy Easter Sunday!
URL:https://ainsleysangels.org/single-event/nci-run-easter-egg-5k/
LOCATION:Indiana State Museum\, 650 W Washington St\, Indianapolis\, IN\, 46204\, United States
CATEGORIES:Indiana,North Central Indiana
ATTACH;FMTTYPE=image/jpeg:https://ainsleysangels.org/wp-content/uploads/2024/02/easter-egg.jpg
END:VEVENT
END:VCALENDAR