BEGIN:VCALENDAR
VERSION:2.0
PRODID:-//Ainsley&#039;s Angels of America - ECPv6.15.20//NONSGML v1.0//EN
CALSCALE:GREGORIAN
METHOD:PUBLISH
X-WR-CALNAME:Ainsley&#039;s Angels of America
X-ORIGINAL-URL:https://ainsleysangels.org
X-WR-CALDESC:Events for Ainsley&#039;s Angels of America
REFRESH-INTERVAL;VALUE=DURATION:PT1H
X-Robots-Tag:noindex
X-PUBLISHED-TTL:PT1H
BEGIN:VTIMEZONE
TZID:America/New_York
BEGIN:DAYLIGHT
TZOFFSETFROM:-0500
TZOFFSETTO:-0400
TZNAME:EDT
DTSTART:20230312T070000
END:DAYLIGHT
BEGIN:STANDARD
TZOFFSETFROM:-0400
TZOFFSETTO:-0500
TZNAME:EST
DTSTART:20231105T060000
END:STANDARD
BEGIN:DAYLIGHT
TZOFFSETFROM:-0500
TZOFFSETTO:-0400
TZNAME:EDT
DTSTART:20240310T070000
END:DAYLIGHT
BEGIN:STANDARD
TZOFFSETFROM:-0400
TZOFFSETTO:-0500
TZNAME:EST
DTSTART:20241103T060000
END:STANDARD
BEGIN:DAYLIGHT
TZOFFSETFROM:-0500
TZOFFSETTO:-0400
TZNAME:EDT
DTSTART:20250309T070000
END:DAYLIGHT
BEGIN:STANDARD
TZOFFSETFROM:-0400
TZOFFSETTO:-0500
TZNAME:EST
DTSTART:20251102T060000
END:STANDARD
END:VTIMEZONE
BEGIN:VEVENT
DTSTART;TZID=America/New_York:20240316T073000
DTEND;TZID=America/New_York:20240317T120000
DTSTAMP:20260421T115808
CREATED:20240130T015634Z
LAST-MODIFIED:20240201T194204Z
UID:10000772-1710574200-1710676800@ainsleysangels.org
SUMMARY:Shamrock 8k\, Half\, Full Marathon
DESCRIPTION:The 52nd running of the Yuengling Shamrock Marathon Weekend will take place in Virginia Beach\, Virginia on March 15-17\, 2024. This St. Paddy’s Day tradition has a race distance for every goal: Marathon\, Half Marathon\, 8K\, and challenges. No matter the distance\, you’ll experience the best of Coastal Virginia on our flat\, fast\, and scenic course before you cross the finish line overlooking the Atlantic Ocean. The party continues after the race at our post race celebration on the beach with Yuengling Beer and live music.
URL:https://ainsleysangels.org/single-event/shamrock-8k-half-full-marathon/
LOCATION:31 Atlantic Ave – Oceanfront\, Virginia Beach\, 3001 Atlantic Avenue\, Virginia Beach\, VA\, 23451\, United States
CATEGORIES:Hampton Roads
ATTACH;FMTTYPE=:
END:VEVENT
BEGIN:VEVENT
DTSTART;TZID=America/New_York:20240323T083000
DTEND;TZID=America/New_York:20240323T113000
DTSTAMP:20260421T115808
CREATED:20231227T161107Z
LAST-MODIFIED:20231227T161107Z
UID:10000746-1711182600-1711193400@ainsleysangels.org
SUMMARY:EASTERN CAROLINA: 2024 Recovery Run 5K
DESCRIPTION:Due to the generosity of the race director and his support of the Ainsley’s Angels mission\, he will be providing our Angels with FREE registration codes for this event! \nThe Difference180 Recovery is hosting our 7th Annual Run for Recovery Awareness. The theme “Becoming Part of the Solution” will focus on what you can do as an individual to be a help in your community. Since the pandemic there has been an outbreak in drug addictions\, suicides\, depression and isolation. It is our mission to bring hope and healing to those who have been affected by these evil influences.\nOne of the key factors to help someone in recovery is to get them in a culture of a healthy “Family” or “Community”.  This is what we want to provide at the Difference 180 Recovery Meetings. We are a faith-based program.\nThere will be Finisher Medals issued out to all Registered Runners.  Also for 1st\, 2nd and 3rd place finishers for the 5K and 10K  will be an additional medal issued out for each age group.  Best Overall times will receive a trophy.\nThis year we have added a children’s 100 yard dash. This will start around 10am. This is for children from 4-10 years old. No awards will be given for this race. However\, we do have a special surprise for each of the finishers! 
URL:https://ainsleysangels.org/single-event/eastern-carolina-2024-recovery-run-5k/
CATEGORIES:Eastern Carolina,North Carolina
ATTACH;FMTTYPE=:
END:VEVENT
END:VCALENDAR