BEGIN:VCALENDAR
VERSION:2.0
PRODID:-//Ainsley&#039;s Angels of America - ECPv6.15.20//NONSGML v1.0//EN
CALSCALE:GREGORIAN
METHOD:PUBLISH
X-ORIGINAL-URL:https://ainsleysangels.org
X-WR-CALDESC:Events for Ainsley&#039;s Angels of America
REFRESH-INTERVAL;VALUE=DURATION:PT1H
X-Robots-Tag:noindex
X-PUBLISHED-TTL:PT1H
BEGIN:VTIMEZONE
TZID:America/New_York
BEGIN:DAYLIGHT
TZOFFSETFROM:-0500
TZOFFSETTO:-0400
TZNAME:EDT
DTSTART:20230312T070000
END:DAYLIGHT
BEGIN:STANDARD
TZOFFSETFROM:-0400
TZOFFSETTO:-0500
TZNAME:EST
DTSTART:20231105T060000
END:STANDARD
BEGIN:DAYLIGHT
TZOFFSETFROM:-0500
TZOFFSETTO:-0400
TZNAME:EDT
DTSTART:20240310T070000
END:DAYLIGHT
BEGIN:STANDARD
TZOFFSETFROM:-0400
TZOFFSETTO:-0500
TZNAME:EST
DTSTART:20241103T060000
END:STANDARD
BEGIN:DAYLIGHT
TZOFFSETFROM:-0500
TZOFFSETTO:-0400
TZNAME:EDT
DTSTART:20250309T070000
END:DAYLIGHT
BEGIN:STANDARD
TZOFFSETFROM:-0400
TZOFFSETTO:-0500
TZNAME:EST
DTSTART:20251102T060000
END:STANDARD
END:VTIMEZONE
BEGIN:VEVENT
DTSTART;TZID=America/New_York:20240301T080000
DTEND;TZID=America/New_York:20240303T170000
DTSTAMP:20260421T200134
CREATED:20240225T165058Z
LAST-MODIFIED:20240225T165058Z
UID:10000792-1709280000-1709485200@ainsleysangels.org
SUMMARY:NCI runs 4x4x48 Challenge
DESCRIPTION:Come out and support this awesome fundraiser for Ainsley’s Angels in North Central Indiana. We are being hosted by CrossFit Kokomo.\nThere are opportunities for runners to join Shannon Spencer and Lynne Herr to run 4 miles every 4 hours starting Friday\, 3/1 at 11pm ending on Sunday\, 3/3 at 7pm. You can run any number of legs up to joining the team on all 12 legs. We will have opportunities for riders to participate at 11am & 3pm on Sat\, 3/2 & Sun 3/3. We will have a Magic Show at 1pm on Saturday. We will be visited by the animals from Ark Therapy Animals at noon Saturday and 2pm on Sunday. Branded merchandise (lots of new) will be available for purchase 10:30am to 4pm Saturday and Sunday. Donations will also be accepted. If you have been thinking about joining us\, this is the perfect opportunity to come join us in a no pressure atmosphere. Come run a leg with or without a chariot or bring your loved one who could benefit from riding in a chariot and try them out. Please contact Kristy or Misty to let them know when you want to participate.ssfoss
URL:https://ainsleysangels.org/single-event/nci-runs-4x4x48-challenge/
LOCATION:Crossfit Kokomo\, 1108 S Dixon Rd\, Kokomo\, 46902
CATEGORIES:Indiana,North Central Indiana
ATTACH;FMTTYPE=image/jpeg:https://ainsleysangels.org/wp-content/uploads/2024/02/4-by-4.jpg
END:VEVENT
BEGIN:VEVENT
DTSTART;TZID=America/New_York:20240303T120000
DTEND;TZID=America/New_York:20240303T150000
DTSTAMP:20260421T200134
CREATED:20240123T162254Z
LAST-MODIFIED:20240123T162254Z
UID:10000770-1709467200-1709478000@ainsleysangels.org
SUMMARY:Chase the Chief 5K
DESCRIPTION:Chase the Chief 5k and Family Fun Run raise funds to support Georgetown’s local PE programs. Chase the Chief is a fitness initiative of the Georgetown Police Department. This event focuses on raising awareness about the devastating health\, social\, and economic impact of childhood obesity\, encouraging behavior change among children and families to combat obesity\, and exposing community members to fun physical activity.
URL:https://ainsleysangels.org/single-event/chase-the-chief-5k/
LOCATION:East View High School\, 4490 East University Ave\, Georgetown\, TX\, 78628\, United States
CATEGORIES:Central Texas - Austin
ATTACH;FMTTYPE=:
ORGANIZER;CN="Georgetown Police Department":MAILTO:pd@georgetown.org
END:VEVENT
BEGIN:VEVENT
DTSTART;TZID=America/New_York:20240304T180000
DTEND;TZID=America/New_York:20240304T180000
DTSTAMP:20260421T200134
CREATED:20240227T181318Z
LAST-MODIFIED:20240227T181318Z
UID:10000803-1709575200-1709575200@ainsleysangels.org
SUMMARY:RISING HEARTS Running on Native Lands Virtual 5k
DESCRIPTION:Where: Garver Feed Mill (3241 Garver Green\, Madison)\n\nWhen: 6pm\nRegistration: https://events.elitefeats.com/24nativelands#register-today The price is $15 for all riders/runners\, only if you want to register and donate to Rising Hearts\, and to receive an official race bib. *Registration is not necessary! Anyone is welcome to join!* 
URL:https://ainsleysangels.org/single-event/rising-hearts-running-on-native-lands-virtual-5k/
LOCATION:Garver Feed Mill\, 3241 Garver Green\, Madison
ATTACH;FMTTYPE=:
END:VEVENT
BEGIN:VEVENT
DTSTART;TZID=America/New_York:20240309T073000
DTEND;TZID=America/New_York:20240309T110000
DTSTAMP:20260421T200134
CREATED:20240228T200827Z
LAST-MODIFIED:20240228T200827Z
UID:10000810-1709969400-1709982000@ainsleysangels.org
SUMMARY:Live Well Half Marathon & Free 5k
DESCRIPTION:Description\nKinetic Physical Therapy and Wellness is hosting an event with local sponsors and support to help promote the health of the Pitt County area! We want to give competitive and first time runners a chance to experience the benefits of exercise and healthy living with a half marathon and a FREE 5k and 1 mile Fun Run! \nFeel free to arrive early or hang around to visit local partners for health and wellness in our community. \nThe 5k is a Free Event. We still ask that you register in advance to ensure that you receive a T-shirt.
URL:https://ainsleysangels.org/single-event/live-well-half-marathon-free-5k/
LOCATION:Greenville Town Common\, 105 E. First Street\, Greenville\, 27858\, United States
CATEGORIES:Greenville
ATTACH;FMTTYPE=:
END:VEVENT
END:VCALENDAR