BEGIN:VCALENDAR
VERSION:2.0
PRODID:-//Ainsley&#039;s Angels of America - ECPv6.15.20//NONSGML v1.0//EN
CALSCALE:GREGORIAN
METHOD:PUBLISH
X-ORIGINAL-URL:https://ainsleysangels.org
X-WR-CALDESC:Events for Ainsley&#039;s Angels of America
REFRESH-INTERVAL;VALUE=DURATION:PT1H
X-Robots-Tag:noindex
X-PUBLISHED-TTL:PT1H
BEGIN:VTIMEZONE
TZID:America/New_York
BEGIN:DAYLIGHT
TZOFFSETFROM:-0500
TZOFFSETTO:-0400
TZNAME:EDT
DTSTART:20230312T070000
END:DAYLIGHT
BEGIN:STANDARD
TZOFFSETFROM:-0400
TZOFFSETTO:-0500
TZNAME:EST
DTSTART:20231105T060000
END:STANDARD
BEGIN:DAYLIGHT
TZOFFSETFROM:-0500
TZOFFSETTO:-0400
TZNAME:EDT
DTSTART:20240310T070000
END:DAYLIGHT
BEGIN:STANDARD
TZOFFSETFROM:-0400
TZOFFSETTO:-0500
TZNAME:EST
DTSTART:20241103T060000
END:STANDARD
BEGIN:DAYLIGHT
TZOFFSETFROM:-0500
TZOFFSETTO:-0400
TZNAME:EDT
DTSTART:20250309T070000
END:DAYLIGHT
BEGIN:STANDARD
TZOFFSETFROM:-0400
TZOFFSETTO:-0500
TZNAME:EST
DTSTART:20251102T060000
END:STANDARD
END:VTIMEZONE
BEGIN:VEVENT
DTSTART;TZID=America/New_York:20240225T080000
DTEND;TZID=America/New_York:20240225T170000
DTSTAMP:20260421T103209
CREATED:20240131T040929Z
LAST-MODIFIED:20240131T040929Z
UID:10000781-1708848000-1708880400@ainsleysangels.org
SUMMARY:Davis Stampede
DESCRIPTION:Challenging 10k through Davis.
URL:https://ainsleysangels.org/single-event/davis-stampede/
LOCATION:Playfields Park\, 2500 Research Park Drive\, Davis\, CA\, 956158\, United States
CATEGORIES:Sacramento
ATTACH;FMTTYPE=:
END:VEVENT
BEGIN:VEVENT
DTSTART;TZID=America/New_York:20240225T090000
DTEND;TZID=America/New_York:20240225T130000
DTSTAMP:20260421T103209
CREATED:20231219T170820Z
LAST-MODIFIED:20231219T170820Z
UID:10000739-1708851600-1708866000@ainsleysangels.org
SUMMARY:Jacksonville Spartan Sprint 5K
DESCRIPTION:Jacksonville Angels had an amazing experience at Spartan in 2023 so we are bringing another team back in 2024!\n*Runners\, we still have space for you!  Donation of any size to Ainsley’s Angels in Jacksonville on our website will earn you a ticket to participate with our Ainsley’s Angels team.  Contact Ambassador Kim (Jacksonville@AinsleysAngels.org) for your code after you donate.\n*Riders must be 14 yrs and up to participate.  No need to complete every obstacle perfectly.  Only your best effort and a “together we shall” attitude is needed!  Contact Ambassador Kim for your registration code.
URL:https://ainsleysangels.org/single-event/jacksonville-spartan-sprint-5k/
LOCATION:Diamond D Ranch\, 5903-1Solomon Rd.\, Jacksonville\, FL\, 32234\, United States
CATEGORIES:Jacksonville
ATTACH;FMTTYPE=:
END:VEVENT
BEGIN:VEVENT
DTSTART;TZID=America/New_York:20240301T080000
DTEND;TZID=America/New_York:20240303T170000
DTSTAMP:20260421T103209
CREATED:20240225T165058Z
LAST-MODIFIED:20240225T165058Z
UID:10000792-1709280000-1709485200@ainsleysangels.org
SUMMARY:NCI runs 4x4x48 Challenge
DESCRIPTION:Come out and support this awesome fundraiser for Ainsley’s Angels in North Central Indiana. We are being hosted by CrossFit Kokomo.\nThere are opportunities for runners to join Shannon Spencer and Lynne Herr to run 4 miles every 4 hours starting Friday\, 3/1 at 11pm ending on Sunday\, 3/3 at 7pm. You can run any number of legs up to joining the team on all 12 legs. We will have opportunities for riders to participate at 11am & 3pm on Sat\, 3/2 & Sun 3/3. We will have a Magic Show at 1pm on Saturday. We will be visited by the animals from Ark Therapy Animals at noon Saturday and 2pm on Sunday. Branded merchandise (lots of new) will be available for purchase 10:30am to 4pm Saturday and Sunday. Donations will also be accepted. If you have been thinking about joining us\, this is the perfect opportunity to come join us in a no pressure atmosphere. Come run a leg with or without a chariot or bring your loved one who could benefit from riding in a chariot and try them out. Please contact Kristy or Misty to let them know when you want to participate.ssfoss
URL:https://ainsleysangels.org/single-event/nci-runs-4x4x48-challenge/
LOCATION:Crossfit Kokomo\, 1108 S Dixon Rd\, Kokomo\, 46902
CATEGORIES:Indiana,North Central Indiana
ATTACH;FMTTYPE=image/jpeg:https://ainsleysangels.org/wp-content/uploads/2024/02/4-by-4.jpg
END:VEVENT
BEGIN:VEVENT
DTSTART;TZID=America/New_York:20240302T063000
DTEND;TZID=America/New_York:20240302T110000
DTSTAMP:20260421T103209
CREATED:20231219T172325Z
LAST-MODIFIED:20231219T172325Z
UID:10000740-1709361000-1709377200@ainsleysangels.org
SUMMARY:Gate River Run
DESCRIPTION:Join in on the National 15K Championship right here in Jacksonville!  Riders-no age requirement as long as you are able to sit for a 9.3 mile distance (make sure you RSVP so we will know how many runners may participate).  Runners-please reach out if you are interested in pushing on one of our teams.  Jacksonville@AinsleysAngels.org
URL:https://ainsleysangels.org/single-event/gate-river-run/
LOCATION:EverBank Stadium\, 1 EverBank Field Dr\, Jacksonville\, FL\, 32202\, United States
CATEGORIES:Jacksonville
ATTACH;FMTTYPE=:
ORGANIZER;CN="1st Place Sports":MAILTO:events@1stplacesports.com
END:VEVENT
BEGIN:VEVENT
DTSTART;TZID=America/New_York:20240302T080000
DTEND;TZID=America/New_York:20240302T113000
DTSTAMP:20260421T103209
CREATED:20231227T155119Z
LAST-MODIFIED:20231227T155119Z
UID:10000745-1709366400-1709379000@ainsleysangels.org
SUMMARY:EASTERN CAROLINA: 10th Annual Run With Your Heart 5K/10K/15K
DESCRIPTION:Join us for the 10th Annual Ainsley’s Angels Race Series Run With Your Heart 5K/10K/15K event taking place in downtown Jacksonville NC at The Riverwalk Crossing Park on March 2\, 2024 as we kick off the 2024 Ainsley’s Angels Race Series! You won’t want to miss this AMAZING community event\, which is also a part of our local Jacksonville Onslow Sports Commission’s Race Series!
URL:https://ainsleysangels.org/single-event/eastern-carolina-10th-annual-run-with-your-heart-5k-10k-15k/
CATEGORIES:Eastern Carolina,North Carolina
ATTACH;FMTTYPE=:
END:VEVENT
BEGIN:VEVENT
DTSTART;TZID=America/New_York:20240302T120000
DTEND;TZID=America/New_York:20240302T130000
DTSTAMP:20260421T103209
CREATED:20240227T181017Z
LAST-MODIFIED:20240227T181017Z
UID:10000802-1709380800-1709384400@ainsleysangels.org
SUMMARY:Freeze for Food 5k
DESCRIPTION:What: Come join us to raise funds to support food programs of Madison’s Open Doors for Refugees. This year\, the race will host a food drive for the Goodman Community Center Fritz Food Pantry. On race day\, bring your non-perishable pantry donations to the Vilas Park Shelter where they will have a collection bin!\nWhere: Vilas Park Center (1602 Vilas Park Drive\, Madison\, WI 53715)\n\nWhen: Saturday\, March 2nd at 12pm\nRegistration: https://runsignup.com/Race/WI/Madison/RPCVFreezeForFood Please register for the In-Person 5k Event! The price is $20 for all riders/runners through 2/19 and increases to $30 after. People are welcome to sign up in teams of 3 for a reduced rate of $50 per team through 2/19 and $75 after.
URL:https://ainsleysangels.org/single-event/freeze-for-food-5k/
LOCATION:1602 Vilas Park Drive\, Madison\, WI 53715\, 1602 Vilas Park Drive\, Madison\, WI 53715
ATTACH;FMTTYPE=:
END:VEVENT
END:VCALENDAR