BEGIN:VCALENDAR
VERSION:2.0
PRODID:-//Ainsley&#039;s Angels of America - ECPv6.15.20//NONSGML v1.0//EN
CALSCALE:GREGORIAN
METHOD:PUBLISH
X-ORIGINAL-URL:https://ainsleysangels.org
X-WR-CALDESC:Events for Ainsley&#039;s Angels of America
REFRESH-INTERVAL;VALUE=DURATION:PT1H
X-Robots-Tag:noindex
X-PUBLISHED-TTL:PT1H
BEGIN:VTIMEZONE
TZID:America/New_York
BEGIN:DAYLIGHT
TZOFFSETFROM:-0500
TZOFFSETTO:-0400
TZNAME:EDT
DTSTART:20230312T070000
END:DAYLIGHT
BEGIN:STANDARD
TZOFFSETFROM:-0400
TZOFFSETTO:-0500
TZNAME:EST
DTSTART:20231105T060000
END:STANDARD
BEGIN:DAYLIGHT
TZOFFSETFROM:-0500
TZOFFSETTO:-0400
TZNAME:EDT
DTSTART:20240310T070000
END:DAYLIGHT
BEGIN:STANDARD
TZOFFSETFROM:-0400
TZOFFSETTO:-0500
TZNAME:EST
DTSTART:20241103T060000
END:STANDARD
BEGIN:DAYLIGHT
TZOFFSETFROM:-0500
TZOFFSETTO:-0400
TZNAME:EDT
DTSTART:20250309T070000
END:DAYLIGHT
BEGIN:STANDARD
TZOFFSETFROM:-0400
TZOFFSETTO:-0500
TZNAME:EST
DTSTART:20251102T060000
END:STANDARD
END:VTIMEZONE
BEGIN:VEVENT
DTSTART;TZID=America/New_York:20240217T090000
DTEND;TZID=America/New_York:20240217T110000
DTSTAMP:20260421T180952
CREATED:20240130T020902Z
LAST-MODIFIED:20240130T031301Z
UID:10000773-1708160400-1708167600@ainsleysangels.org
SUMMARY:Meet\, Greet & Roll
DESCRIPTION:Veteran Angel or New to AA but haven’t rolled?\nCome try out the chairs and roll with us around Fort Monroe. Meet at the parking lot corner of Stillwell Drive and Pullman Road. Runners – this is a great time to get in a training run! Cyclists – bring your bike if you want to try pulling a chair!
URL:https://ainsleysangels.org/single-event/meet-greet-roll/
LOCATION:Fort Monroe\, Hampton\, Hampton\, Va\, 23651
CATEGORIES:Hampton Roads
ATTACH;FMTTYPE=:
END:VEVENT
END:VCALENDAR