BEGIN:VCALENDAR
VERSION:2.0
PRODID:-//Ainsley&#039;s Angels of America - ECPv6.15.20//NONSGML v1.0//EN
CALSCALE:GREGORIAN
METHOD:PUBLISH
X-WR-CALNAME:Ainsley&#039;s Angels of America
X-ORIGINAL-URL:https://ainsleysangels.org
X-WR-CALDESC:Events for Ainsley&#039;s Angels of America
REFRESH-INTERVAL;VALUE=DURATION:PT1H
X-Robots-Tag:noindex
X-PUBLISHED-TTL:PT1H
BEGIN:VTIMEZONE
TZID:America/New_York
BEGIN:DAYLIGHT
TZOFFSETFROM:-0500
TZOFFSETTO:-0400
TZNAME:EDT
DTSTART:20230312T070000
END:DAYLIGHT
BEGIN:STANDARD
TZOFFSETFROM:-0400
TZOFFSETTO:-0500
TZNAME:EST
DTSTART:20231105T060000
END:STANDARD
BEGIN:DAYLIGHT
TZOFFSETFROM:-0500
TZOFFSETTO:-0400
TZNAME:EDT
DTSTART:20240310T070000
END:DAYLIGHT
BEGIN:STANDARD
TZOFFSETFROM:-0400
TZOFFSETTO:-0500
TZNAME:EST
DTSTART:20241103T060000
END:STANDARD
BEGIN:DAYLIGHT
TZOFFSETFROM:-0500
TZOFFSETTO:-0400
TZNAME:EDT
DTSTART:20250309T070000
END:DAYLIGHT
BEGIN:STANDARD
TZOFFSETFROM:-0400
TZOFFSETTO:-0500
TZNAME:EST
DTSTART:20251102T060000
END:STANDARD
END:VTIMEZONE
BEGIN:VEVENT
DTSTART;TZID=America/New_York:20240204T063000
DTEND;TZID=America/New_York:20240204T063000
DTSTAMP:20260422T014108
CREATED:20231111T153849Z
LAST-MODIFIED:20231111T160258Z
UID:10000729-1707028200-1707028200@ainsleysangels.org
SUMMARY:Surf City Marathon\, Half Marathon and 5K
DESCRIPTION:Marathon Start \nDate: Sunday\, February 4\nStart Time: 6:30am\nLocation: intersection of Pacific Coast Highway & Huntington Street \n5K Start \nDate: Sunday\, February 4\nStart Time: 7:00am\nLocation: intersection of Pacific Coast Highway & Huntington Street \nHalf Marathon Start \nDate: Sunday\, February 4\nStart Time: 7:45 am\nLocation: intersection of Pacific Coast Highway & Huntington Street
URL:https://ainsleysangels.org/single-event/surf-city-marathonhalf-marathon-and-5k/
LOCATION:intersection of Pacific Coast Highway & Huntington Street\, Huntington Beach\, CA\, United States
ATTACH;FMTTYPE=:
END:VEVENT
BEGIN:VEVENT
DTSTART;TZID=America/New_York:20240210T073000
DTEND;TZID=America/New_York:20240210T193000
DTSTAMP:20260422T014108
CREATED:20231227T154409Z
LAST-MODIFIED:20231227T154409Z
UID:10000744-1707550200-1707593400@ainsleysangels.org
SUMMARY:EASTERN CAROLINA: 4th Annual JDA 5K
DESCRIPTION:Who is ready for year #4!  This is a FREE event for ALL! \nEvery year we are blown away but the love and support that shows up for this event and we are so thankful for each and every one of you!  The Jessica’s Dance Academy (JDA) Staff\, Dancers\, and Families are SO SUPPORTIVE of our Ainsley’s Angels mission and host this race each year as a way to show support! \nAt JDA we believe movement is for everyone! We are all inclusive and we love supporting those who are as well. Ainsley’s Angels is a group that was founded on those same principles! This fun run is to help fundraise money for our friends and families with Ainsley’s Angels! All donations will go directly to our local chapter! Together We Shall help keep these families rolling with the wind! \nThere is no registration fee for this race\, just sign up and join us for a great time! Donations for our local Ainsley’s Angels Ambassadorship are as welcomed but are not required. \nThe race will start at the Emerald Isle Boat Ramp (Senator Jean Preston Memorial Park) and will be and out and back route. The path is stroller\, bike and pet friendly\, so it is a great event to get everyone in the family out! \nFor more information on Jessica’s Dance Academy\, visit the website at Jessica’s Dance Academy (jessicasdanceacademy.com)
URL:https://ainsleysangels.org/single-event/eastern-carolina-4th-annual-jda-5k/
CATEGORIES:Eastern Carolina,North Carolina
ATTACH;FMTTYPE=:
END:VEVENT
BEGIN:VEVENT
DTSTART;TZID=America/New_York:20240210T080000
DTEND;TZID=America/New_York:20240210T170000
DTSTAMP:20260422T014108
CREATED:20240131T040156Z
LAST-MODIFIED:20240131T040156Z
UID:10000780-1707552000-1707584400@ainsleysangels.org
SUMMARY:The Valentine Race
DESCRIPTION:Nice 4 miler around the Arden Park neighborhood in Sacramento
URL:https://ainsleysangels.org/single-event/the-valentine-race/
LOCATION:Country Club  Plaza Mall\, 2310 Watt Ave\, Sacramento\, 95825\, United States
CATEGORIES:Sacramento
ATTACH;FMTTYPE=:
END:VEVENT
END:VCALENDAR