BEGIN:VCALENDAR
VERSION:2.0
PRODID:-//Ainsley&#039;s Angels of America - ECPv6.15.20//NONSGML v1.0//EN
CALSCALE:GREGORIAN
METHOD:PUBLISH
X-WR-CALNAME:Ainsley&#039;s Angels of America
X-ORIGINAL-URL:https://ainsleysangels.org
X-WR-CALDESC:Events for Ainsley&#039;s Angels of America
REFRESH-INTERVAL;VALUE=DURATION:PT1H
X-Robots-Tag:noindex
X-PUBLISHED-TTL:PT1H
BEGIN:VTIMEZONE
TZID:America/New_York
BEGIN:DAYLIGHT
TZOFFSETFROM:-0500
TZOFFSETTO:-0400
TZNAME:EDT
DTSTART:20220313T070000
END:DAYLIGHT
BEGIN:STANDARD
TZOFFSETFROM:-0400
TZOFFSETTO:-0500
TZNAME:EST
DTSTART:20221106T060000
END:STANDARD
BEGIN:DAYLIGHT
TZOFFSETFROM:-0500
TZOFFSETTO:-0400
TZNAME:EDT
DTSTART:20230312T070000
END:DAYLIGHT
BEGIN:STANDARD
TZOFFSETFROM:-0400
TZOFFSETTO:-0500
TZNAME:EST
DTSTART:20231105T060000
END:STANDARD
BEGIN:DAYLIGHT
TZOFFSETFROM:-0500
TZOFFSETTO:-0400
TZNAME:EDT
DTSTART:20240310T070000
END:DAYLIGHT
BEGIN:STANDARD
TZOFFSETFROM:-0400
TZOFFSETTO:-0500
TZNAME:EST
DTSTART:20241103T060000
END:STANDARD
END:VTIMEZONE
BEGIN:VEVENT
DTSTART;TZID=America/New_York:20230917T063000
DTEND;TZID=America/New_York:20230917T170000
DTSTAMP:20260421T114833
CREATED:20230215T211138Z
LAST-MODIFIED:20230215T211138Z
UID:10000610-1694932200-1694970000@ainsleysangels.org
SUMMARY:SoCal: Surf City 10
DESCRIPTION:THE PERFECT CALIFORNIA RUNNING EXPERIENCE.\n\n\n\n\nFOR EVERYONE.\n\n\n\n\nNext September 17th\, Huntington Beach is once again home to one of the most beautiful running races in California – start and finish from Huntington Beach’s Pier Plaza. Run along the PCH and take in sandy beaches\, palm tree-studded hills\, wave surfing dolphins and more. \nWhatever your distance\, 10 miles\, 10k\, or 5k\, celebrate post-race Surf City style! Don’t miss out on California’s perfect 10. \n\n\n\n\n\nSUNDAY\, SEPTEMBER 17\nRACE START TIMES\n10 MILE – 6:30AM\n10K – 7:00AM\n5K – 7:30AM\n\n\n\n\n\n\nStart Location: Pacific Coast Highway & Main Steet\nFinish Location: Pacific Coast Highway & Sixth Street \nFinishers can redeem their complimentary post-race beer at the Post-Race Beach Bar!
URL:https://ainsleysangels.org/single-event/socal-surf-city-10/
CATEGORIES:California,Southern California
ATTACH;FMTTYPE=:
END:VEVENT
BEGIN:VEVENT
DTSTART;TZID=America/New_York:20230917T090000
DTEND;TZID=America/New_York:20230917T110000
DTSTAMP:20260421T114833
CREATED:20230215T022524Z
LAST-MODIFIED:20230215T022524Z
UID:10000602-1694941200-1694948400@ainsleysangels.org
SUMMARY:South Jersey: HollyDELL 5K\, Sewell\, NJ
DESCRIPTION:September 17\, 2023\n\n(rain or shine) 9 am – 5K Run | 9:30 am – 1 Mile Walk  \nPlease join us to Walk\, Run or Wheel through beautiful Washington Lake Park. Proceeds from the event will help fund HollyDELL programs and services for individuals with disabilities in our community. \nWashington Lake Park\, 626 Hurffville-Crosskeys Rd.\, Sewell\, NJ
URL:https://ainsleysangels.org/single-event/south-jersey-hollydell-5k-sewell-nj/
LOCATION:Washington Lake Park\, 626 Hurffville-Cross Keys Road\, Sewell\, NJ\, 08080\, United States
CATEGORIES:New Jersey,South Jersey
ATTACH;FMTTYPE=:
END:VEVENT
BEGIN:VEVENT
DTSTART;TZID=America/New_York:20230923T080000
DTEND;TZID=America/New_York:20230923T103000
DTSTAMP:20260421T114833
CREATED:20230818T143619Z
LAST-MODIFIED:20230818T143619Z
UID:10000714-1695456000-1695465000@ainsleysangels.org
SUMMARY:Dreams Come True 5K
DESCRIPTION:We are always honored to partner with Dreams Come True of Jacksonville\, Inc.!   This is one of our largest races of the year because there is a fun party for the whole family! \nRiders\, make sure you RSVP soon so we can ensure a chair and runners for you. Check your email or contact Ambassador Kim for your comp code before registering (jacksonville@ainsleysangels.org) \nRunners\, we appreciate you lending your legs to this  wonderful cause!  Register with our Ainsley’s Angels team here https://p2p.onecause.com/dreamscometrue5k/teams.
URL:https://ainsleysangels.org/single-event/dreams-come-true-5k/
LOCATION:UNF Coxwell Amphitheater\, University of North Fl Dr\, Jacksonville\, FL\, 32224\, United States
CATEGORIES:Jacksonville
ATTACH;FMTTYPE=:
ORGANIZER;CN="Dreams Come True":MAILTO:jud@dreamscometrue.org
END:VEVENT
BEGIN:VEVENT
DTSTART;TZID=America/New_York:20230923T120000
DTEND;TZID=America/New_York:20230923T170000
DTSTAMP:20260421T114833
CREATED:20230331T021553Z
LAST-MODIFIED:20230731T190212Z
UID:10000663-1695470400-1695488400@ainsleysangels.org
SUMMARY:9th Annual Cards for Kids Poker Tournament
DESCRIPTION:Saturday\, September 23\, 2023 – Registration at 11:30 and begins at noon. Come join us for the 9th Annual Cards 4 Kids Charity Poker Tournament hosted by the Lynnhaven Pub! This afternoon of fun includes a Texas Hold Em Tournament\, BBQ\, and Beer!  Your ticket includes your buy-in to the poker tournament\, t-shirt\, all-you-can-eat BBQ\, and beer…What’s better? There will also be raffles and give-aways you will not want to miss and CASH prizes (1st place $500/2nd place $300/3rd place $100). Limit 40 poker players. \n**From the proceeds of this event\, we will be granting a racing chariot to a very special angel rider at the tournament. **
URL:https://ainsleysangels.org/single-event/9th-annual-cards-for-kids-poker-tournament/
LOCATION:Lynnhaven Pub\, 2236 West Great Neck Road\, Virginia Beach\, VA\, 23451\, United States
CATEGORIES:Hampton Roads
ATTACH;FMTTYPE=:
ORGANIZER;CN="Ainsley's Angels Hampton Roads":MAILTO:hamptonroads@ainsleysangels.org
END:VEVENT
END:VCALENDAR