BEGIN:VCALENDAR
VERSION:2.0
PRODID:-//Ainsley&#039;s Angels of America - ECPv6.15.20//NONSGML v1.0//EN
CALSCALE:GREGORIAN
METHOD:PUBLISH
X-ORIGINAL-URL:https://ainsleysangels.org
X-WR-CALDESC:Events for Ainsley&#039;s Angels of America
REFRESH-INTERVAL;VALUE=DURATION:PT1H
X-Robots-Tag:noindex
X-PUBLISHED-TTL:PT1H
BEGIN:VTIMEZONE
TZID:America/New_York
BEGIN:DAYLIGHT
TZOFFSETFROM:-0500
TZOFFSETTO:-0400
TZNAME:EDT
DTSTART:20220313T070000
END:DAYLIGHT
BEGIN:STANDARD
TZOFFSETFROM:-0400
TZOFFSETTO:-0500
TZNAME:EST
DTSTART:20221106T060000
END:STANDARD
BEGIN:DAYLIGHT
TZOFFSETFROM:-0500
TZOFFSETTO:-0400
TZNAME:EDT
DTSTART:20230312T070000
END:DAYLIGHT
BEGIN:STANDARD
TZOFFSETFROM:-0400
TZOFFSETTO:-0500
TZNAME:EST
DTSTART:20231105T060000
END:STANDARD
BEGIN:DAYLIGHT
TZOFFSETFROM:-0500
TZOFFSETTO:-0400
TZNAME:EDT
DTSTART:20240310T070000
END:DAYLIGHT
BEGIN:STANDARD
TZOFFSETFROM:-0400
TZOFFSETTO:-0500
TZNAME:EST
DTSTART:20241103T060000
END:STANDARD
END:VTIMEZONE
BEGIN:VEVENT
DTSTART;TZID=America/New_York:20230909T093000
DTEND;TZID=America/New_York:20230909T120000
DTSTAMP:20260421T120115
CREATED:20230724T030519Z
LAST-MODIFIED:20230724T030519Z
UID:10000711-1694251800-1694260800@ainsleysangels.org
SUMMARY:NCI runs 9/11 Memorial Tribute Challenge
DESCRIPTION:Honor those who gave their lives in the Towers on 9/11 by participating in 1 of 4 events to take place on 9/09/2023 from 8:46AM to 5 pm at the Kokomo Jack Rabbits Stadium. The money raise will be split equally between the Marty Meyers Scholarship Foundation(Kokomo Fire Department)\, Carl Koontz (Howard County Sheriffs Department) Scholarship Foundation\, and the FOP Scholarship Foundation ( Kokomo Police Department). Please contact Kristy or Misty if you would like to participate in an angel team.
URL:https://ainsleysangels.org/single-event/nci-runs-9-11-memorial-tribute-challenge/
LOCATION:Kokomo Municipal Stadium\, 400 S Union St\, Kokomo\,  IN 46901\, 400 S Union St\, Kokomo\, IN\, 46901\, United States
CATEGORIES:Indiana,North Central Indiana
ATTACH;FMTTYPE=:
END:VEVENT
END:VCALENDAR