BEGIN:VCALENDAR
VERSION:2.0
PRODID:-//Ainsley&#039;s Angels of America - ECPv6.15.20//NONSGML v1.0//EN
CALSCALE:GREGORIAN
METHOD:PUBLISH
X-WR-CALNAME:Ainsley&#039;s Angels of America
X-ORIGINAL-URL:https://ainsleysangels.org
X-WR-CALDESC:Events for Ainsley&#039;s Angels of America
REFRESH-INTERVAL;VALUE=DURATION:PT1H
X-Robots-Tag:noindex
X-PUBLISHED-TTL:PT1H
BEGIN:VTIMEZONE
TZID:America/New_York
BEGIN:DAYLIGHT
TZOFFSETFROM:-0500
TZOFFSETTO:-0400
TZNAME:EDT
DTSTART:20220313T070000
END:DAYLIGHT
BEGIN:STANDARD
TZOFFSETFROM:-0400
TZOFFSETTO:-0500
TZNAME:EST
DTSTART:20221106T060000
END:STANDARD
BEGIN:DAYLIGHT
TZOFFSETFROM:-0500
TZOFFSETTO:-0400
TZNAME:EDT
DTSTART:20230312T070000
END:DAYLIGHT
BEGIN:STANDARD
TZOFFSETFROM:-0400
TZOFFSETTO:-0500
TZNAME:EST
DTSTART:20231105T060000
END:STANDARD
BEGIN:DAYLIGHT
TZOFFSETFROM:-0500
TZOFFSETTO:-0400
TZNAME:EDT
DTSTART:20240310T070000
END:DAYLIGHT
BEGIN:STANDARD
TZOFFSETFROM:-0400
TZOFFSETTO:-0500
TZNAME:EST
DTSTART:20241103T060000
END:STANDARD
END:VTIMEZONE
BEGIN:VEVENT
DTSTART;TZID=America/New_York:20230729T073000
DTEND;TZID=America/New_York:20230729T110000
DTSTAMP:20260421T205524
CREATED:20230706T003340Z
LAST-MODIFIED:20230706T003340Z
UID:10000706-1690615800-1690628400@ainsleysangels.org
SUMMARY:EASTERN CAROLINA: Running With the Law 10K/5K
DESCRIPTION:This race is a part of the Jacksonville Commons Sports Commission Race Series\, so be sure to register to earn your points towards the Series!  This race is a special one for us\, as it is in support of our local Law Enforcement Officers and the Special Olympics of NC! \nThis race takes place at the Jacksonville Commons Recreation Center.
URL:https://ainsleysangels.org/single-event/eastern-carolina-running-with-the-law-10k-5k/
CATEGORIES:Eastern Carolina,North Carolina
ATTACH;FMTTYPE=:
END:VEVENT
BEGIN:VEVENT
DTSTART;TZID=America/New_York:20230729T073000
DTEND;TZID=America/New_York:20230729T203000
DTSTAMP:20260421T205524
CREATED:20230527T033127Z
LAST-MODIFIED:20230527T033404Z
UID:10000700-1690615800-1690662600@ainsleysangels.org
SUMMARY:Flash in the Night 5k
DESCRIPTION:Description\n\n\nStart Time:  Firefly 1-Mile (8:30pm) & 5K (9:00pm)\nAddress: Canfield Fairgrounds (7265 Columbiana-Canfield Road\, Canfield\, Ohio 44406)\nCourse:  Participants will run on paved roads at the fairgrounds. The course will be lit by luminaries and streetlights.  Grandstand lights and music.\nRace Day Packet Pick-Up:  Event Canter @ Canfield Fairgrounds from 7:00pm-8:15pm.\nTshirts:  Guaranteed to the first 250 registered.\nAwards:  Top three overall men and women. Top three in age groups:  14 & Unde6pr\, 15-19\, 20-29\, 30-39\, 40-49\, 50-59\, 60-69\, 70 & Up.\n\nAthlete Riders and Angel Runners need to arrive @ 6:30P \nAthlete Riders message Tina @ 330-257-9993 for special promo code \n 
URL:https://ainsleysangels.org/single-event/flash-in-the-night-5k/
LOCATION:Canfield Fairgrounds\, 7265 Columbiana-Canfield Rd\, Canfield OH 44406\, Canfield\, OH\, 44406\, United States
ATTACH;FMTTYPE=:
ORGANIZER;CN="Ainsley's Angels in NE Ohio":MAILTO:neohio@ainsleysangels.org
END:VEVENT
BEGIN:VEVENT
DTSTART;TZID=America/New_York:20230729T080000
DTEND;TZID=America/New_York:20230729T120000
DTSTAMP:20260421T205524
CREATED:20230422T025708Z
LAST-MODIFIED:20230422T025708Z
UID:10000682-1690617600-1690632000@ainsleysangels.org
SUMMARY:Ainsley's Angels NCI runs Christmas in July
DESCRIPTION:Our friends at Fun Races are at it again! Come enjoy some summer fun!\nLive 5K or Live Half Marathon Registration Includes:\nChipped Timed Half Marathon or 5k\nVery Cool Sublimated Xmas Summer-themed Tech Shirts or Ladies Tank Tops\nReal Blinking Lights Finisher’s Medal Ornament\n*Half Marathon Includes Both a Christmas Running Hat & Sunglasses\n*5K Includes Sunglasses (Hat optional upgrade)\nCinch Sack\nCustom Bibs with Unique Surprising Christmas Names\nOverall and Age Group Medals/Prizes (Half & 5K)\nWater and Snacks Every mile (approx)\nFinish Line Elf’s Treats (Ice Cream\, Package Snacks\, Root Beer\, Etc)\nBeer or Wine (21+) – Half Marathon Includes 2 drink tickets – 5k includes 1 drink ticket.t
URL:https://ainsleysangels.org/single-event/ainsleys-angels-nci-runs-christmas-in-july/
LOCATION:White River State Park\, 650 West Washington Street\, Indianapolis\, IN\, 46204\, United States
CATEGORIES:North Central Indiana
ATTACH;FMTTYPE=:
END:VEVENT
END:VCALENDAR