BEGIN:VCALENDAR
VERSION:2.0
PRODID:-//Ainsley&#039;s Angels of America - ECPv6.15.20//NONSGML v1.0//EN
CALSCALE:GREGORIAN
METHOD:PUBLISH
X-WR-CALNAME:Ainsley&#039;s Angels of America
X-ORIGINAL-URL:https://ainsleysangels.org
X-WR-CALDESC:Events for Ainsley&#039;s Angels of America
REFRESH-INTERVAL;VALUE=DURATION:PT1H
X-Robots-Tag:noindex
X-PUBLISHED-TTL:PT1H
BEGIN:VTIMEZONE
TZID:America/New_York
BEGIN:DAYLIGHT
TZOFFSETFROM:-0500
TZOFFSETTO:-0400
TZNAME:EDT
DTSTART:20220313T070000
END:DAYLIGHT
BEGIN:STANDARD
TZOFFSETFROM:-0400
TZOFFSETTO:-0500
TZNAME:EST
DTSTART:20221106T060000
END:STANDARD
BEGIN:DAYLIGHT
TZOFFSETFROM:-0500
TZOFFSETTO:-0400
TZNAME:EDT
DTSTART:20230312T070000
END:DAYLIGHT
BEGIN:STANDARD
TZOFFSETFROM:-0400
TZOFFSETTO:-0500
TZNAME:EST
DTSTART:20231105T060000
END:STANDARD
BEGIN:DAYLIGHT
TZOFFSETFROM:-0500
TZOFFSETTO:-0400
TZNAME:EDT
DTSTART:20240310T070000
END:DAYLIGHT
BEGIN:STANDARD
TZOFFSETFROM:-0400
TZOFFSETTO:-0500
TZNAME:EST
DTSTART:20241103T060000
END:STANDARD
END:VTIMEZONE
BEGIN:VEVENT
DTSTART;TZID=America/New_York:20230625T090000
DTEND;TZID=America/New_York:20230625T103000
DTSTAMP:20260422T163753
CREATED:20230522T010500Z
LAST-MODIFIED:20230522T010500Z
UID:10000691-1687683600-1687689000@ainsleysangels.org
SUMMARY:South Jersey - Running The Ave 5k\, Vineland\, NJ
DESCRIPTION:Location of race: \n603 E Landis Avenue\nVineland\, NJ US 08360\n\nRiders roll for free. Just notify Ambassador Dave.\n\nRunners\, use the code SJANGELS for 25% off your registration. There is an Ainsley’s Angels team option on the registration.\n\nNEW Stroller & Racing Chair Divisions: Awards to the top 3 Stroller and Racing Chair Runners!
URL:https://ainsleysangels.org/single-event/south-jersey-running-the-ave-5k-vineland-nj/
CATEGORIES:New Jersey,South Jersey
ATTACH;FMTTYPE=:
END:VEVENT
BEGIN:VEVENT
DTSTART;TZID=America/New_York:20230701T080000
DTEND;TZID=America/New_York:20230701T110000
DTSTAMP:20260422T163753
CREATED:20230215T021606Z
LAST-MODIFIED:20230712T070832Z
UID:10000600-1688198400-1688209200@ainsleysangels.org
SUMMARY:South Jersey: Pineland Striders Independence Day 5k/10k\, Medford\, NJ
DESCRIPTION:Registration info coming soon
URL:https://ainsleysangels.org/single-event/south-jersey-pineland-striders-independence-day-5k-10k-medford-nj/
LOCATION:Shawee High School\, 600 Tabernacle Road\, Medford\, NJ\, 08055\, United States
CATEGORIES:South Jersey
ATTACH;FMTTYPE=:
END:VEVENT
END:VCALENDAR