BEGIN:VCALENDAR
VERSION:2.0
PRODID:-//Ainsley&#039;s Angels of America - ECPv6.15.20//NONSGML v1.0//EN
CALSCALE:GREGORIAN
METHOD:PUBLISH
X-WR-CALNAME:Ainsley&#039;s Angels of America
X-ORIGINAL-URL:https://ainsleysangels.org
X-WR-CALDESC:Events for Ainsley&#039;s Angels of America
REFRESH-INTERVAL;VALUE=DURATION:PT1H
X-Robots-Tag:noindex
X-PUBLISHED-TTL:PT1H
BEGIN:VTIMEZONE
TZID:America/New_York
BEGIN:DAYLIGHT
TZOFFSETFROM:-0500
TZOFFSETTO:-0400
TZNAME:EDT
DTSTART:20220313T070000
END:DAYLIGHT
BEGIN:STANDARD
TZOFFSETFROM:-0400
TZOFFSETTO:-0500
TZNAME:EST
DTSTART:20221106T060000
END:STANDARD
BEGIN:DAYLIGHT
TZOFFSETFROM:-0500
TZOFFSETTO:-0400
TZNAME:EDT
DTSTART:20230312T070000
END:DAYLIGHT
BEGIN:STANDARD
TZOFFSETFROM:-0400
TZOFFSETTO:-0500
TZNAME:EST
DTSTART:20231105T060000
END:STANDARD
BEGIN:DAYLIGHT
TZOFFSETFROM:-0500
TZOFFSETTO:-0400
TZNAME:EDT
DTSTART:20240310T070000
END:DAYLIGHT
BEGIN:STANDARD
TZOFFSETFROM:-0400
TZOFFSETTO:-0500
TZNAME:EST
DTSTART:20241103T060000
END:STANDARD
END:VTIMEZONE
BEGIN:VEVENT
DTSTART;TZID=America/New_York:20230520T080000
DTEND;TZID=America/New_York:20230520T100000
DTSTAMP:20260421T102151
CREATED:20230323T174713Z
LAST-MODIFIED:20230323T174713Z
UID:10000653-1684569600-1684576800@ainsleysangels.org
SUMMARY:Limitless 5K
DESCRIPTION:Ainsley’s Angels in Jacksonville is proud to be partnering with the Ability Tree First Coast\, in support of its mission to come alongside families impacted by disability.  Contact Ambassador Kim for runner and rider codes before registering!  (Jacksonville@AinsleysAngels.org)
URL:https://ainsleysangels.org/single-event/limitless-5k/
LOCATION:Beachwalk\, 100 Beachwalk Drive\, St Johns\, FL\, 32259\, United States
CATEGORIES:Jacksonville
ATTACH;FMTTYPE=:
ORGANIZER;CN="Ability Tree Florida First Coast":MAILTO:info@abilitytreefc.org
END:VEVENT
BEGIN:VEVENT
DTSTART;TZID=America/New_York:20230520T120000
DTEND;TZID=America/New_York:20230520T140000
DTSTAMP:20260421T102151
CREATED:20230422T112823Z
LAST-MODIFIED:20230422T112823Z
UID:10000685-1684584000-1684591200@ainsleysangels.org
SUMMARY:NCI fundraising event - Uncorked wine run
DESCRIPTION:Hey\, hey all you guardian angels – this is a perfect opportunity for you to volunteer. Please come help raise some money for Ainsley’s Angels. Volunteer your time to help during this race.  Contact Kristy if interested.  We will not have any riders in this event. Runners – consider running this event to support Fun-Races who support us in both welcoming our riders to many of their races and giving us fund raising opportunities like this.
URL:https://ainsleysangels.org/single-event/nci-fundraising-event-uncorked-wine-run/
LOCATION:Indiana State Museum\, 650 W Washington St\, Indianapolis\, IN\, 46204\, United States
CATEGORIES:North Central Indiana
ATTACH;FMTTYPE=:
END:VEVENT
BEGIN:VEVENT
DTSTART;TZID=America/New_York:20230520T150000
DTEND;TZID=America/New_York:20230520T170000
DTSTAMP:20260421T102151
CREATED:20230422T115212Z
LAST-MODIFIED:20230422T120003Z
UID:10000686-1684594800-1684602000@ainsleysangels.org
SUMMARY:NCI fundraising event - Truly Lit
DESCRIPTION:Guardian angels – have time to volunteer some time and good cheer to raise money for our ambassadorship? Contact Kristy if interested. Runners – looking for a fun race? Even though we don’t have riders in this event\, you can support Fun Races who welcomes us to many races and gives us opportunities like this to raise funds.
URL:https://ainsleysangels.org/single-event/nci-fundraising-event-truly-lit/
LOCATION:White River State Park\, 650 West Washington Street\, Indianapolis\, IN\, 46204\, United States
CATEGORIES:North Central Indiana
ATTACH;FMTTYPE=:
END:VEVENT
END:VCALENDAR