BEGIN:VCALENDAR
VERSION:2.0
PRODID:-//Ainsley&#039;s Angels of America - ECPv6.15.20//NONSGML v1.0//EN
CALSCALE:GREGORIAN
METHOD:PUBLISH
X-ORIGINAL-URL:https://ainsleysangels.org
X-WR-CALDESC:Events for Ainsley&#039;s Angels of America
REFRESH-INTERVAL;VALUE=DURATION:PT1H
X-Robots-Tag:noindex
X-PUBLISHED-TTL:PT1H
BEGIN:VTIMEZONE
TZID:America/New_York
BEGIN:DAYLIGHT
TZOFFSETFROM:-0500
TZOFFSETTO:-0400
TZNAME:EDT
DTSTART:20220313T070000
END:DAYLIGHT
BEGIN:STANDARD
TZOFFSETFROM:-0400
TZOFFSETTO:-0500
TZNAME:EST
DTSTART:20221106T060000
END:STANDARD
BEGIN:DAYLIGHT
TZOFFSETFROM:-0500
TZOFFSETTO:-0400
TZNAME:EDT
DTSTART:20230312T070000
END:DAYLIGHT
BEGIN:STANDARD
TZOFFSETFROM:-0400
TZOFFSETTO:-0500
TZNAME:EST
DTSTART:20231105T060000
END:STANDARD
BEGIN:DAYLIGHT
TZOFFSETFROM:-0500
TZOFFSETTO:-0400
TZNAME:EDT
DTSTART:20240310T070000
END:DAYLIGHT
BEGIN:STANDARD
TZOFFSETFROM:-0400
TZOFFSETTO:-0500
TZNAME:EST
DTSTART:20241103T060000
END:STANDARD
END:VTIMEZONE
BEGIN:VTIMEZONE
TZID:UTC
BEGIN:STANDARD
TZOFFSETFROM:+0000
TZOFFSETTO:+0000
TZNAME:UTC
DTSTART:20220101T000000
END:STANDARD
END:VTIMEZONE
BEGIN:VEVENT
DTSTART;TZID=America/New_York:20230305T080000
DTEND;TZID=America/New_York:20230305T170000
DTSTAMP:20260420T075340
CREATED:20230306T001951Z
LAST-MODIFIED:20230306T001951Z
UID:10000626-1678003200-1678035600@ainsleysangels.org
SUMMARY:Test Test
DESCRIPTION:Test Test
URL:https://ainsleysangels.org/single-event/test-test/
CATEGORIES:Upstate
ATTACH;FMTTYPE=:
END:VEVENT
BEGIN:VEVENT
DTSTART;TZID=UTC:20230311T073000
DTEND;TZID=UTC:20230311T103000
DTSTAMP:20260420T075340
CREATED:20230103T201713Z
LAST-MODIFIED:20230214T055003Z
UID:10000036-1678519800-1678530600@ainsleysangels.org
SUMMARY:Live Well Half Marathon\, Free 5k\, & 1 Mile Fun Run
DESCRIPTION:Live Well Half Marathon\, Free 5K & 1 Mile Fun Run (runsignup.com) \nMARCH 11\nStart Time: 9am 5k\, 7:30am Half Marathon\nLocation: Town Common\, 105 E 1st Street\, Greenville \nKinetic Physical Therapy and Wellness is hosting an event with local sponsors and support to help promote the health of the Pitt County area! We want to give competitive and first time runners a chance to experience the benefits of exercise and healthy living for FREE! Feel free to arrive early or hang around to visit local partners for health and wellness in our community. \nThe 5k is a Free Event. We still ask that you register in advance to ensure that you receive a T-shirt.
URL:https://ainsleysangels.org/single-event/live-well-half-marathon-free-5k-1-mile-fun-run/
LOCATION:Greenville Town Common\, 105 E. First Street\, Greenville\, 27858\, United States
CATEGORIES:Greenville
ATTACH;FMTTYPE=:
END:VEVENT
BEGIN:VEVENT
DTSTART;TZID=America/New_York:20230311T090000
DTEND;TZID=America/New_York:20230311T170000
DTSTAMP:20260420T075340
CREATED:20230215T204808Z
LAST-MODIFIED:20230215T212700Z
UID:10000606-1678525200-1678554000@ainsleysangels.org
SUMMARY:SoCal: San Diego Leprechaun Run
DESCRIPTION:San Diego Leprechaun Run • Event Details\n\nLeprechaun Run Details:\nJoin us for the 5th Annual San Diego Leprechaun Run 5K & Kids 1K on Saturday\, March 11\, 2023! All participants receive a Leprechaun Run t-shirt\, finisher medal\, chip timing\, free photos and a complimentary drink! Run through the streets of downtown Pacific Beach\, finish under the rainbow and enjoy your drink to start your St. Patrick’s Day party! Bonus: Complete Leprechaun Run\, Pacific Beach Half Marathon & 5K and San Diego Santa Run all in 2023 and receive the huge challenger finisher bling! \n\n\n\n\n\nDates/Time\nDate: Saturday\, March 11\, 2023 \n5K Run: 9:00am \nKids 1K Run: 10:30am \nLocation: Pacific Beach \n\n\nRegistration\n$45 | Leprechaun Run 5K \n$25 | Kids 1K Run
URL:https://ainsleysangels.org/single-event/socal-san-diego-leprechaun-run/
LOCATION:Pacific Beach
CATEGORIES:California,Southern California
ATTACH;FMTTYPE=:
END:VEVENT
END:VCALENDAR