BEGIN:VCALENDAR
VERSION:2.0
PRODID:-//Ainsley&#039;s Angels of America - ECPv6.15.20//NONSGML v1.0//EN
CALSCALE:GREGORIAN
METHOD:PUBLISH
X-ORIGINAL-URL:https://ainsleysangels.org
X-WR-CALDESC:Events for Ainsley&#039;s Angels of America
REFRESH-INTERVAL;VALUE=DURATION:PT1H
X-Robots-Tag:noindex
X-PUBLISHED-TTL:PT1H
BEGIN:VTIMEZONE
TZID:UTC
BEGIN:STANDARD
TZOFFSETFROM:+0000
TZOFFSETTO:+0000
TZNAME:UTC
DTSTART:20220101T000000
END:STANDARD
END:VTIMEZONE
BEGIN:VTIMEZONE
TZID:America/New_York
BEGIN:DAYLIGHT
TZOFFSETFROM:-0500
TZOFFSETTO:-0400
TZNAME:EDT
DTSTART:20220313T070000
END:DAYLIGHT
BEGIN:STANDARD
TZOFFSETFROM:-0400
TZOFFSETTO:-0500
TZNAME:EST
DTSTART:20221106T060000
END:STANDARD
BEGIN:DAYLIGHT
TZOFFSETFROM:-0500
TZOFFSETTO:-0400
TZNAME:EDT
DTSTART:20230312T070000
END:DAYLIGHT
BEGIN:STANDARD
TZOFFSETFROM:-0400
TZOFFSETTO:-0500
TZNAME:EST
DTSTART:20231105T060000
END:STANDARD
BEGIN:DAYLIGHT
TZOFFSETFROM:-0500
TZOFFSETTO:-0400
TZNAME:EDT
DTSTART:20240310T070000
END:DAYLIGHT
BEGIN:STANDARD
TZOFFSETFROM:-0400
TZOFFSETTO:-0500
TZNAME:EST
DTSTART:20241103T060000
END:STANDARD
END:VTIMEZONE
BEGIN:VEVENT
DTSTART;TZID=UTC:20230212T140000
DTEND;TZID=UTC:20230212T150000
DTSTAMP:20260421T154717
CREATED:20230118T071512Z
LAST-MODIFIED:20230214T055020Z
UID:10000003-1676210400-1676214000@ainsleysangels.org
SUMMARY:Red Coyote Puppy Love 5K
DESCRIPTION:Riders – register for the Push Chair division and there is no entry fee.  Runners – sign up for the regular 5K.
URL:https://ainsleysangels.org/single-event/red-coyote-puppy-love-5k/
LOCATION:Stars & Stripes Park\, 3701 S Lake Hefner Drive\, Oklahoma City\, Oklahoma\, 73116\, United States
CATEGORIES:Central Oklahoma
ATTACH;FMTTYPE=:
END:VEVENT
BEGIN:VEVENT
DTSTART;TZID=America/New_York:20230214T000000
DTEND;TZID=America/New_York:20230214T000000
DTSTAMP:20260421T154717
CREATED:20220603T235010Z
LAST-MODIFIED:20230214T081614Z
UID:10000585-1676332800-1676332800@ainsleysangels.org
SUMMARY:Amaya's Dream
DESCRIPTION:Angel Rider Amaya will be receiving an adaptive bike from Dreams Come True! She would love for you to join in on her Dream celebration. We will have our trailer there for anyone who would like to use a chair. Roll\, walk\, run\, or slog through the park…all paces are welcome! Refreshments will follow.
URL:https://ainsleysangels.org/single-event/amayas-dream/
CATEGORIES:Florida,Jacksonville
ATTACH;FMTTYPE=:
END:VEVENT
BEGIN:VEVENT
DTSTART;TZID=America/New_York:20230214T000000
DTEND;TZID=America/New_York:20230214T000000
DTSTAMP:20260421T154717
CREATED:20230214T081603Z
LAST-MODIFIED:20230214T081603Z
UID:10000581-1676332800-1676332800@ainsleysangels.org
SUMMARY:Red Coyote Puppy Love 5K
DESCRIPTION:
URL:https://ainsleysangels.org/single-event/red-coyote-puppy-love-5k-2/
ATTACH;FMTTYPE=:
END:VEVENT
BEGIN:VEVENT
DTSTART;TZID=America/New_York:20230214T000000
DTEND;TZID=America/New_York:20230214T000000
DTSTAMP:20260421T154717
CREATED:20230214T081606Z
LAST-MODIFIED:20230214T081606Z
UID:10000582-1676332800-1676332800@ainsleysangels.org
SUMMARY:Cupid's Crawl 5k & 10k
DESCRIPTION:Cupid’s Crawl 5K & 10K (runsignup.com) Click here to register\nFEBRUARY 11\nStart Time: 8:45am 10k; 9am 5k\nLocation: Elm Street Park\, 1058 S Elm St\, Greenville \nCome Join the Winter Tradition!\nCupid’s Crawl is back and better than ever for 2023\, featuring both in-person and virtual 5K & 10K races. Event highlights include: \n\nCertified courses with GPS tracking via RaceJoy\nChip timing & live online results\nCool Swag- finisher medals & sling bags for all finishers\, plus long sleeve shirt optional upgrade\nPost race food/refreshments
URL:https://ainsleysangels.org/single-event/cupids-crawl-5k-10k-2/
ATTACH;FMTTYPE=:
END:VEVENT
BEGIN:VEVENT
DTSTART;TZID=America/New_York:20230214T000000
DTEND;TZID=America/New_York:20230214T000000
DTSTAMP:20260421T154717
CREATED:20230214T081609Z
LAST-MODIFIED:20230214T081609Z
UID:10000583-1676332800-1676332800@ainsleysangels.org
SUMMARY:Wolfson Children's Challenge 55K Relay
DESCRIPTION:Our Angel Teams will be supporting our local children’s hospital by participating in the 55K Ultra Relay\, with 2 teams running/rolling 11 legs (each leg is a 5K and will have 1-2 riders per leg). Spots are limited\, so contact Ambassador Kim for registration instructions if you’re in! (Jacksonville@AinsleysAngels.org)
URL:https://ainsleysangels.org/single-event/wolfson-childrens-challenge-55k-relay-3/
ATTACH;FMTTYPE=:
END:VEVENT
BEGIN:VEVENT
DTSTART;TZID=America/New_York:20230214T000000
DTEND;TZID=America/New_York:20230214T000000
DTSTAMP:20260421T154717
CREATED:20230214T081611Z
LAST-MODIFIED:20230214T081611Z
UID:10000584-1676332800-1676332800@ainsleysangels.org
SUMMARY:Wolfson Children's Challenge 55K Relay
DESCRIPTION:Our Angel Teams will be supporting our local children’s hospital by participating in the 55K Ultra Relay\, with 2 teams running/rolling 11 legs (each leg is a 5K and will have 1-2 riders per leg). Spots are limited\, so contact Ambassador Kim for registration instructions if you’re in! (Jacksonville@AinsleysAngels.org)
URL:https://ainsleysangels.org/single-event/wolfson-childrens-challenge-55k-relay-4/
ATTACH;FMTTYPE=:
END:VEVENT
BEGIN:VEVENT
DTSTART;TZID=America/New_York:20230214T000000
DTEND;TZID=America/New_York:20230214T000000
DTSTAMP:20260421T154717
CREATED:20230214T081620Z
LAST-MODIFIED:20230214T081620Z
UID:10000587-1676332800-1676332800@ainsleysangels.org
SUMMARY:Festive 4-Miler-MB
DESCRIPTION:
URL:https://ainsleysangels.org/single-event/festive-4-miler-mb/
ATTACH;FMTTYPE=:
END:VEVENT
BEGIN:VEVENT
DTSTART;TZID=UTC:20230214T000000
DTEND;TZID=UTC:20230214T000000
DTSTAMP:20260421T154717
CREATED:20230214T081623Z
LAST-MODIFIED:20230214T081623Z
UID:10000588-1676332800-1676332800@ainsleysangels.org
SUMMARY:Beat The Bridge
DESCRIPTION:
URL:https://ainsleysangels.org/single-event/beat-the-bridge/
ATTACH;FMTTYPE=:
END:VEVENT
BEGIN:VEVENT
DTSTART;TZID=UTC:20230214T000000
DTEND;TZID=UTC:20230214T000000
DTSTAMP:20260421T154717
CREATED:20230214T081807Z
LAST-MODIFIED:20230214T081807Z
UID:10000589-1676332800-1676332800@ainsleysangels.org
SUMMARY:The Cupcake Run 5K
DESCRIPTION:Girls on the Run loves to partner with our Angels! Cupcakes served at the finish line!\nRunners: Register let Ambassador Kim know to add you to our planning sheet!\nRegistration is requested by March 1st to ensure t-shirts\, medals\, and all that swag!
URL:https://ainsleysangels.org/single-event/the-cupcake-run-5k/
ATTACH;FMTTYPE=:
END:VEVENT
BEGIN:VEVENT
DTSTART;TZID=UTC:20230214T000000
DTEND;TZID=UTC:20230214T000000
DTSTAMP:20260421T154717
CREATED:20230214T081811Z
LAST-MODIFIED:20230214T081811Z
UID:10000590-1676332800-1676332800@ainsleysangels.org
SUMMARY:Myrtle Beach Coastal 5K
DESCRIPTION:Starting at trendy Market Common\, the Coastal 5K features a loop course through this beautiful village setting\, finishing at majestic Grand Park Lake. \nAs with the half marathon\, this course is FLAT & FAST!
URL:https://ainsleysangels.org/single-event/myrtle-beach-coastal-5k/
ATTACH;FMTTYPE=:
END:VEVENT
BEGIN:VEVENT
DTSTART;TZID=UTC:20230214T000000
DTEND;TZID=UTC:20230214T000000
DTSTAMP:20260421T154717
CREATED:20230214T081813Z
LAST-MODIFIED:20230214T081813Z
UID:10000591-1676332800-1676332800@ainsleysangels.org
SUMMARY:Apryle Showers 10K
DESCRIPTION:
URL:https://ainsleysangels.org/single-event/apryle-showers-10k-2/
ATTACH;FMTTYPE=:
END:VEVENT
BEGIN:VEVENT
DTSTART;TZID=UTC:20230214T000000
DTEND;TZID=UTC:20230214T000000
DTSTAMP:20260421T154717
CREATED:20230214T081816Z
LAST-MODIFIED:20230214T081816Z
UID:10000592-1676332800-1676332800@ainsleysangels.org
SUMMARY:Running of the Knights 5K
DESCRIPTION:Join us for a fun\, family friendly race and after party in the stadium of Creekside High School. Another favorite race of ours because of the field activities and no getting up early! This race used to be in May\, but the date was moved to the fall and they are welcoming our Angel Teams back with open arms! Runners\, register under Ainsley’s Angels and please add on the Creekside boys track team as your sport. Angel Riders\, contact Ambassador Kim for your comp code (Jacksonville@AinsleysAngels.org).
URL:https://ainsleysangels.org/single-event/running-of-the-knights-5k/
ATTACH;FMTTYPE=:
END:VEVENT
BEGIN:VEVENT
DTSTART;TZID=UTC:20230214T000000
DTEND;TZID=UTC:20230214T000000
DTSTAMP:20260421T154717
CREATED:20230214T081818Z
LAST-MODIFIED:20230214T081818Z
UID:10000593-1676332800-1676332800@ainsleysangels.org
SUMMARY:SOCAL- GRUBBY'S POKE (CARLSBAD) FAMILY NIGHT
DESCRIPTION:
URL:https://ainsleysangels.org/single-event/socal-grubbys-poke-carlsbad-family-night/
ATTACH;FMTTYPE=:
END:VEVENT
BEGIN:VEVENT
DTSTART;TZID=UTC:20230214T000000
DTEND;TZID=UTC:20230214T000000
DTSTAMP:20260421T154718
CREATED:20230214T081821Z
LAST-MODIFIED:20230214T081821Z
UID:10000594-1676332800-1676332800@ainsleysangels.org
SUMMARY:SoCAL- Family Fun Run (CERRIOTS Area)
DESCRIPTION:Come join the Angels family for a FAMILY FUN RUN. \nFamilies can walk\, run\, roll and ride together in the beautiful Don Kanabe Community Regional Park in Cerritos California. South of Los Angeles and north or San Diego and Oceanside. \nEvent starts at 0900 am and will complete when all families are back from participating. \nClub Shwing in SoCal will be conducted after the event. Not sure what CLUB SHWING is? Contact Regional Ambassador Robin Totsch at socal@ainsleysangels.org for more information or check out our Facebook State page at Ainsley’s Angels in California. \nAinsley’s Angels gear from the Finish Line Store will be available for purchase. \nRSVP for all participants is a MUST. RSVP to Regional Ambassador at socal@ainsleysangels.org
URL:https://ainsleysangels.org/single-event/socal-family-fun-run-cerriots-area/
ATTACH;FMTTYPE=:
END:VEVENT
BEGIN:VEVENT
DTSTART;TZID=UTC:20230214T000000
DTEND;TZID=UTC:20230214T000000
DTSTAMP:20260421T154718
CREATED:20230214T081823Z
LAST-MODIFIED:20230214T081823Z
UID:10000595-1676332800-1676332800@ainsleysangels.org
SUMMARY:SoCal Fun Run in the Park
DESCRIPTION:Ainsley’s Angels of America in the Southern California\, Club Shwing and CoMoFun will be hosting their inaugural FAMILY FUN RUN on June 12\, 2021 in Poinsettia Park Carlsbad at 1pm-3pm. \nA fun run is a friendly race that involves either road running or walking with participants taking part for their own enjoyment rather than competition. \nPrior to the event\, CoMoFun and the Ainsley’s Club Shwing groups will
URL:https://ainsleysangels.org/single-event/socal-fun-run-in-the-park/
ATTACH;FMTTYPE=:
END:VEVENT
BEGIN:VEVENT
DTSTART;TZID=UTC:20230214T000000
DTEND;TZID=UTC:20230214T000000
DTSTAMP:20260421T154718
CREATED:20230214T081825Z
LAST-MODIFIED:20230214T081825Z
UID:10000596-1676332800-1676332800@ainsleysangels.org
SUMMARY:CASA Super Hero Virtual Run
DESCRIPTION:This is “Super September” you can take park in the 2020 Virtual CASA Super Hero Run\, Custom contest and fundraiser.  Run your race anytime before September 30th\, 2020 and receive a cool trucker hat.  They are also giving away several different prizes.  Race fee is $45.00.\nHosted by CASA of Travis County\, CASA of Williamson County & CASA of Central Texas (Caldwell\, Comal\, Guadalupe & Hays Counties). CASA speaks up for children who’ve been abused or neglected by empowering our community to volunteer as advocates for them in the court system.\nTo learn more go to https://www.casasuperherorun.com/\n 
URL:https://ainsleysangels.org/single-event/casa-super-hero-virtual-run/
ATTACH;FMTTYPE=:
END:VEVENT
BEGIN:VEVENT
DTSTART;TZID=America/New_York:20230214T080000
DTEND;TZID=America/New_York:20230214T170000
DTSTAMP:20260421T154718
CREATED:20230215T024939Z
LAST-MODIFIED:20230215T024939Z
UID:10000604-1676361600-1676394000@ainsleysangels.org
SUMMARY:South Jersey: Yellow Stairway 6k/12k\, Doylestown\, PA
DESCRIPTION:We will be supporting our friends Ainsley’s Angels in Southeast Pennsylvania once again as they put on this race as part of the Ainsley’s Angels Race Series. c\n\n***Location Change***\n\n\nThe race will be taking place at Peace Valley Park in Doylestown – start location is at\nthe Sailor’s Point entrance which is off of New Galena Road. This is not the park’s main entrance!\nThere isn’t a direct address to arrive to this location so you can either:\n Use coordinates: 40.324632\, -75.201059\n Search in your GPS for “Sailors Point – Peace Valley Park” it is off of New Galena Road. It is on\nthe north side of the park.
URL:https://ainsleysangels.org/single-event/south-jersey-yellow-stairway-6k-12k-doylestown-pa/
LOCATION:Peae Valley Park\, 399 Creek Rd\, Doylestown\, 18901
CATEGORIES:New Jersey,South Jersey
ATTACH;FMTTYPE=:
END:VEVENT
END:VCALENDAR