BEGIN:VCALENDAR
VERSION:2.0
PRODID:-//Ainsley&#039;s Angels of America - ECPv6.15.20//NONSGML v1.0//EN
CALSCALE:GREGORIAN
METHOD:PUBLISH
X-ORIGINAL-URL:https://ainsleysangels.org
X-WR-CALDESC:Events for Ainsley&#039;s Angels of America
REFRESH-INTERVAL;VALUE=DURATION:PT1H
X-Robots-Tag:noindex
X-PUBLISHED-TTL:PT1H
BEGIN:VTIMEZONE
TZID:America/New_York
BEGIN:DAYLIGHT
TZOFFSETFROM:-0500
TZOFFSETTO:-0400
TZNAME:EDT
DTSTART:20220313T070000
END:DAYLIGHT
BEGIN:STANDARD
TZOFFSETFROM:-0400
TZOFFSETTO:-0500
TZNAME:EST
DTSTART:20221106T060000
END:STANDARD
BEGIN:DAYLIGHT
TZOFFSETFROM:-0500
TZOFFSETTO:-0400
TZNAME:EDT
DTSTART:20230312T070000
END:DAYLIGHT
BEGIN:STANDARD
TZOFFSETFROM:-0400
TZOFFSETTO:-0500
TZNAME:EST
DTSTART:20231105T060000
END:STANDARD
BEGIN:DAYLIGHT
TZOFFSETFROM:-0500
TZOFFSETTO:-0400
TZNAME:EDT
DTSTART:20240310T070000
END:DAYLIGHT
BEGIN:STANDARD
TZOFFSETFROM:-0400
TZOFFSETTO:-0500
TZNAME:EST
DTSTART:20241103T060000
END:STANDARD
END:VTIMEZONE
BEGIN:VEVENT
DTSTART;TZID=America/New_York:20230603T080000
DTEND;TZID=America/New_York:20230603T123000
DTSTAMP:20260420T012423
CREATED:20230527T021119Z
LAST-MODIFIED:20230527T021119Z
UID:10000694-1685779200-1685795400@ainsleysangels.org
SUMMARY:Autism Warrior Run/ Special Needs Resource Fair  \, Canfield Fairgrounds \, Canfield Ohio
DESCRIPTION:Mahoning Valley Autism Society Run \nAUTISM COMMUNITY CELEBRATION \n\nWe are stronger together!\nYou are invited to jump\, stim\, and feel the joy at the biggest autism family event of the year!! \n\n• Family Fun Carnival with free games\, petting zoo\, and food trucks\n• Autism Family Fun Walk /Run\n• Special Needs Resource Fair \n\n\nSupport Warrior\nGet in on the action! Make a team! Raise funds!\nThen party together with your Autism Society family!\nAinsley’s Angels of Ohio will be one hand with VIP Future Rider / Runner sign ups and lanyard.  We will be providing Demo rides for anyone who wants to try out a short spin in a chariot.\n\nAthlete Riders watch for special parking information in email
URL:https://ainsleysangels.org/single-event/autism-warrior-run-special-needs-resource-fair-canfield-fairgrounds-canfield-ohio/
LOCATION:Canfield Fairgrounds\, 7265 Columbiana-Canfield Rd\, Canfield OH 44406\, Canfield\, OH\, 44406\, United States
ATTACH;FMTTYPE=:
END:VEVENT
END:VCALENDAR