BEGIN:VCALENDAR
VERSION:2.0
PRODID:-//Ainsley&#039;s Angels of America - ECPv6.15.20//NONSGML v1.0//EN
CALSCALE:GREGORIAN
METHOD:PUBLISH
X-WR-CALNAME:Ainsley&#039;s Angels of America
X-ORIGINAL-URL:https://ainsleysangels.org
X-WR-CALDESC:Events for Ainsley&#039;s Angels of America
REFRESH-INTERVAL;VALUE=DURATION:PT1H
X-Robots-Tag:noindex
X-PUBLISHED-TTL:PT1H
BEGIN:VTIMEZONE
TZID:America/New_York
BEGIN:DAYLIGHT
TZOFFSETFROM:-0500
TZOFFSETTO:-0400
TZNAME:EDT
DTSTART:20230312T070000
END:DAYLIGHT
BEGIN:STANDARD
TZOFFSETFROM:-0400
TZOFFSETTO:-0500
TZNAME:EST
DTSTART:20231105T060000
END:STANDARD
BEGIN:DAYLIGHT
TZOFFSETFROM:-0500
TZOFFSETTO:-0400
TZNAME:EDT
DTSTART:20240310T070000
END:DAYLIGHT
BEGIN:STANDARD
TZOFFSETFROM:-0400
TZOFFSETTO:-0500
TZNAME:EST
DTSTART:20241103T060000
END:STANDARD
BEGIN:DAYLIGHT
TZOFFSETFROM:-0500
TZOFFSETTO:-0400
TZNAME:EDT
DTSTART:20250309T070000
END:DAYLIGHT
BEGIN:STANDARD
TZOFFSETFROM:-0400
TZOFFSETTO:-0500
TZNAME:EST
DTSTART:20251102T060000
END:STANDARD
END:VTIMEZONE
BEGIN:VEVENT
DTSTART;VALUE=DATE:20240805
DTEND;VALUE=DATE:20240806
DTSTAMP:20260420T113923
CREATED:20240714T205925Z
LAST-MODIFIED:20240714T205925Z
UID:10000903-1722816000-1722902399@ainsleysangels.org
SUMMARY:Madison\, WI Never Miss a Monday! with Fleet Feet
DESCRIPTION:Never Miss a Monday! with Fleet Feet\nWhere: Fleet Feet (8440 Old Sauk Rd\, Middleton\, WI 53562)\nWhen: Mondays (starting May 13th) at 6pm\nRegister: Please email madison@ainsleysangels.org if you plan to attend!\n\nThis event will be recurring every Monday at 6pm weather permitting and not on holidays. Please let us know if you will be joining us!
URL:https://ainsleysangels.org/single-event/madison-wi-never-miss-a-monday-with-fleet-feet/2024-08-05/
ATTACH;FMTTYPE=:
END:VEVENT
BEGIN:VEVENT
DTSTART;VALUE=DATE:20240810
DTEND;VALUE=DATE:20240811
DTSTAMP:20260420T113923
CREATED:20240714T205426Z
LAST-MODIFIED:20240714T205426Z
UID:10000897-1723248000-1723334399@ainsleysangels.org
SUMMARY:Madison Mini 5k & Half Marathon
DESCRIPTION:Madison Mini 5k & Half Marathon Saturday\, August 10th\nWhere: The Memorial Union Terrace (800 Langdon St.\, Madison\, WI 53703)\nWhen: The Half Marathon will begin at 7am and the 5k will begin at 7:15am.\nRegistration: https://runsignup.com/Race/WI/Madison/MadisonMini Riders will receive waived registration fees. Please email to get your code!\n\nPlease additionally complete this form so we can create teams!
URL:https://ainsleysangels.org/single-event/madison-mini-5k-half-marathon/
ATTACH;FMTTYPE=:
END:VEVENT
BEGIN:VEVENT
DTSTART;TZID=America/New_York:20240810T090000
DTEND;TZID=America/New_York:20240810T100000
DTSTAMP:20260420T113923
CREATED:20240228T204323Z
LAST-MODIFIED:20240228T204323Z
UID:10000815-1723280400-1723284000@ainsleysangels.org
SUMMARY:CERVEZA SHUFFLE 5K / 10K / 1K Fun run
DESCRIPTION:The Glens Falls Medical Mission presents the 7th Annual CERVEZA SHUFFLE. \nAll entries 10 & over have a $25/$20 entry fee (10K/5K) Kids 10&Under are free for the 10K and 5K…..Family Fun Run 1K is FREE for all. Paid entrants will get a free draft on site from the Horseshoe Bar & Grill and a free draft ticket for Common Roots (21&Over). Treats for the kids will be available too! \nRUNNING’S NOT YOUR THING??? PLEASE see the registration link above for ways to support the event and the medical mission WITHOUT the run!!
URL:https://ainsleysangels.org/single-event/cerveza-shuffle-5k-10k-1k-fun-run/
LOCATION:Saratoga State Park\, Orenda Pavilion\, Saratoga Springs\, NY
CATEGORIES:Albany / ADK
ATTACH;FMTTYPE=:
ORGANIZER;CN="GLENS FALLS MEDICAL MISSION":MAILTO:glensfallsmission@gmail.com
END:VEVENT
BEGIN:VEVENT
DTSTART;VALUE=DATE:20240812
DTEND;VALUE=DATE:20240813
DTSTAMP:20260420T113923
CREATED:20240714T205925Z
LAST-MODIFIED:20240714T205925Z
UID:10000904-1723420800-1723507199@ainsleysangels.org
SUMMARY:Madison\, WI Never Miss a Monday! with Fleet Feet
DESCRIPTION:Never Miss a Monday! with Fleet Feet\nWhere: Fleet Feet (8440 Old Sauk Rd\, Middleton\, WI 53562)\nWhen: Mondays (starting May 13th) at 6pm\nRegister: Please email madison@ainsleysangels.org if you plan to attend!\n\nThis event will be recurring every Monday at 6pm weather permitting and not on holidays. Please let us know if you will be joining us!
URL:https://ainsleysangels.org/single-event/madison-wi-never-miss-a-monday-with-fleet-feet/2024-08-12/
ATTACH;FMTTYPE=:
END:VEVENT
BEGIN:VEVENT
DTSTART;TZID=America/New_York:20240817T183000
DTEND;TZID=America/New_York:20240817T210000
DTSTAMP:20260420T113923
CREATED:20240809T181019Z
LAST-MODIFIED:20240809T181331Z
UID:10001165-1723919400-1723928400@ainsleysangels.org
SUMMARY:Atomic Two Miler 8/17/24 Monroe\,LA
DESCRIPTION:NELA Ainsley’s monroe will be participating in the following race. Will it be hot? Yes so please hydrate. \nThis is a night run that will take place behind the levee across from Forsythe Park. Sleep late Saturday morning\, and then come out for a two mile PR that night! \nMedals will be awarded to overall male and female\, masters male and female as well as top three in ten year age groups. \nRiders will need to arrive early and we will have some watermellon/hydration snacks afterwords. \nRunners will need to register.https://runsignup.com/Race/LA/Monroe/TheAtomicTwoMiler \nRiders we will need to get a count preferably by the 14th the latest at the following Email Nelouisiana@ainsleysangels.org. \nPlace:Behind the Levee at Forsythe Park\nMonroe\, LA US 71201 \nSchedule: 6:30pm ish riders/runners/trailer arrive subject to change on numbers of signed up \n7:00pm pictures and final instructions \n7:15pm move to starting area \n7:30 pm race start \n  \n 
URL:https://ainsleysangels.org/single-event/atomic-two-miler-8-17-24-monroela/
LOCATION:Forsythe Boat Dock\, Monroe\, LA\, 2300 Sycamore Street\, Monroe\, LA\, 71203\, United States
CATEGORIES:Northeast Louisiana
ATTACH;FMTTYPE=:
END:VEVENT
BEGIN:VEVENT
DTSTART;TZID=America/New_York:20240818T020000
DTEND;TZID=America/New_York:20240818T040000
DTSTAMP:20260420T113923
CREATED:20240522T203543Z
LAST-MODIFIED:20240522T203543Z
UID:10000881-1723946400-1723953600@ainsleysangels.org
SUMMARY:Angels at the Igloo
DESCRIPTION:Join us at the Community First Igloo for an hour of ice skating followed by an hour of partying in their private party room!  All Angel Riders\, Runners\, Guardians\, and Allies (and their families) are welcome!  Only cost to you is the $5 skate rental per person.  Wheelchairs are welcome on the ice!  *RSVP helps us in ordering refreshments.
URL:https://ainsleysangels.org/single-event/angels-at-the-igloo/
LOCATION:Community First Igloo\, 3605 Philips Hwy\, Jacksonville\, FL\, 32207\, United States
CATEGORIES:Jacksonville
ATTACH;FMTTYPE=:
ORGANIZER;CN="Ainsley's Angels in Jacksonville":MAILTO:jacksonville@ainsleysangels.org
END:VEVENT
BEGIN:VEVENT
DTSTART;TZID=America/New_York:20240818T073000
DTEND;TZID=America/New_York:20240818T170000
DTSTAMP:20260420T113923
CREATED:20240508T114432Z
LAST-MODIFIED:20240508T114432Z
UID:10000865-1723966200-1724000400@ainsleysangels.org
SUMMARY:Hearts for RMHC 5k/10K
DESCRIPTION:A family-friendly 5K and 10k\, 1 mile walk\, and a kids fun run for Ronald McDonald house charities of Kansas City (RMHC). With the majority of the proceeds to benefit the local homes of Kansas City to make an impact for the families that use RMHC.
URL:https://ainsleysangels.org/single-event/hearts-for-rmhc-5k-10k/
LOCATION:RMHC\, 8701 McAfee St\, Parkville\, MO\, 64152\, United States
CATEGORIES:Kansas City
ATTACH;FMTTYPE=:
END:VEVENT
BEGIN:VEVENT
DTSTART;VALUE=DATE:20240819
DTEND;VALUE=DATE:20240820
DTSTAMP:20260420T113923
CREATED:20240714T205925Z
LAST-MODIFIED:20240714T205925Z
UID:10000905-1724025600-1724111999@ainsleysangels.org
SUMMARY:Madison\, WI Never Miss a Monday! with Fleet Feet
DESCRIPTION:Never Miss a Monday! with Fleet Feet\nWhere: Fleet Feet (8440 Old Sauk Rd\, Middleton\, WI 53562)\nWhen: Mondays (starting May 13th) at 6pm\nRegister: Please email madison@ainsleysangels.org if you plan to attend!\n\nThis event will be recurring every Monday at 6pm weather permitting and not on holidays. Please let us know if you will be joining us!
URL:https://ainsleysangels.org/single-event/madison-wi-never-miss-a-monday-with-fleet-feet/2024-08-19/
ATTACH;FMTTYPE=:
END:VEVENT
BEGIN:VEVENT
DTSTART;TZID=America/New_York:20240824T073000
DTEND;TZID=America/New_York:20240824T083000
DTSTAMP:20260420T113923
CREATED:20240608T181752Z
LAST-MODIFIED:20240608T181752Z
UID:10000896-1724484600-1724488200@ainsleysangels.org
SUMMARY:Hot Dam 5K On Saturday August 24th 2024 7:30 AM in Hartwell GA
DESCRIPTION:Join us for inaugural Hot Dam 5K  in Hartwell GA on Saturday August 24th 2024 at 7:30 AM. \n  \nhttps://runsignup.com/Race/GA/Hartwell/2024HotDam5K \n  \nInformation on registrations will be forthcoming. \nTo find out more\, reach out to Scooter Sayers at 479-461-1672 or northgeorgia@ainsleysangels.org
URL:https://ainsleysangels.org/single-event/hot-dam-5k-on-saturday-august-24th-2024-730-am-in-hartwell-ga/
LOCATION:5823 Dam Road Big Oaks Recreation Area Hartwell\, GA US 30643
CATEGORIES:North Georgia
ATTACH;FMTTYPE=:
END:VEVENT
BEGIN:VEVENT
DTSTART;VALUE=DATE:20240826
DTEND;VALUE=DATE:20240827
DTSTAMP:20260420T113923
CREATED:20240714T205925Z
LAST-MODIFIED:20240714T205925Z
UID:10000906-1724630400-1724716799@ainsleysangels.org
SUMMARY:Madison\, WI Never Miss a Monday! with Fleet Feet
DESCRIPTION:Never Miss a Monday! with Fleet Feet\nWhere: Fleet Feet (8440 Old Sauk Rd\, Middleton\, WI 53562)\nWhen: Mondays (starting May 13th) at 6pm\nRegister: Please email madison@ainsleysangels.org if you plan to attend!\n\nThis event will be recurring every Monday at 6pm weather permitting and not on holidays. Please let us know if you will be joining us!
URL:https://ainsleysangels.org/single-event/madison-wi-never-miss-a-monday-with-fleet-feet/2024-08-26/
ATTACH;FMTTYPE=:
END:VEVENT
END:VCALENDAR