BEGIN:VCALENDAR
VERSION:2.0
PRODID:-//Ainsley&#039;s Angels of America - ECPv6.15.20//NONSGML v1.0//EN
CALSCALE:GREGORIAN
METHOD:PUBLISH
X-ORIGINAL-URL:https://ainsleysangels.org
X-WR-CALDESC:Events for Ainsley&#039;s Angels of America
REFRESH-INTERVAL;VALUE=DURATION:PT1H
X-Robots-Tag:noindex
X-PUBLISHED-TTL:PT1H
BEGIN:VTIMEZONE
TZID:America/New_York
BEGIN:DAYLIGHT
TZOFFSETFROM:-0500
TZOFFSETTO:-0400
TZNAME:EDT
DTSTART:20220313T070000
END:DAYLIGHT
BEGIN:STANDARD
TZOFFSETFROM:-0400
TZOFFSETTO:-0500
TZNAME:EST
DTSTART:20221106T060000
END:STANDARD
BEGIN:DAYLIGHT
TZOFFSETFROM:-0500
TZOFFSETTO:-0400
TZNAME:EDT
DTSTART:20230312T070000
END:DAYLIGHT
BEGIN:STANDARD
TZOFFSETFROM:-0400
TZOFFSETTO:-0500
TZNAME:EST
DTSTART:20231105T060000
END:STANDARD
BEGIN:DAYLIGHT
TZOFFSETFROM:-0500
TZOFFSETTO:-0400
TZNAME:EDT
DTSTART:20240310T070000
END:DAYLIGHT
BEGIN:STANDARD
TZOFFSETFROM:-0400
TZOFFSETTO:-0500
TZNAME:EST
DTSTART:20241103T060000
END:STANDARD
END:VTIMEZONE
BEGIN:VEVENT
DTSTART;TZID=America/New_York:20231202T080000
DTEND;TZID=America/New_York:20231202T103000
DTSTAMP:20260420T180423
CREATED:20230818T160240Z
LAST-MODIFIED:20230818T160240Z
UID:10000717-1701504000-1701513000@ainsleysangels.org
SUMMARY:KidsHealth Run & Walk (10K/5K)
DESCRIPTION:This family-friendly starts at TIAA Bank Field with courses include scenic routes through downtown\, along the St. Johns River and over the iconic Hart Bridge.  RUNNERS AND RIDERS\, check our email for registration codes and instructions!!  Register before end of September to save with early bird pricing! \nAll proceeds will support the Nemours Children’s Compassionate Care Fund\, which restores the health of critically ill and injured children wherever the need is greatest.  \nParticipants of all ages will enjoy activities in the Runner’s Village as well as a Kid Zone with games and inflatables\, mascots\, and plenty of photo opportunities!
URL:https://ainsleysangels.org/single-event/kidshealth-run-walk-10k-5k/
LOCATION:EverBank Field\, 1 EverBank Field Drive\, Jacksonville\, FL\, 32202\, United States
CATEGORIES:Jacksonville
ATTACH;FMTTYPE=:
END:VEVENT
BEGIN:VEVENT
DTSTART;TZID=America/New_York:20231202T080000
DTEND;TZID=America/New_York:20231202T110000
DTSTAMP:20260420T180423
CREATED:20231009T012518Z
LAST-MODIFIED:20231009T012518Z
UID:10000724-1701504000-1701514800@ainsleysangels.org
SUMMARY:NCI runs Rudolph Family Fun Run
DESCRIPTION:Come join us for the last race of the season! \nThe Rudolph Family Fun 5K Run/Walk starts at 8 a.m. on Saturday\, Dec. 2. Doors open at 7 a.m. Play reindeer games and try to win a prize\, while supplies last\, before the race starts! \nPeople of all abilities are welcome! Well-behaved dogs on leashes are also welcome. \nThe cost will be $25 per adult (those who are 18 and older)\, and $15 for those ages 12 to 17. Kids 0 to 11 participate free. \nYou must register by Nov. 1 to receive a long-sleeve shirt. We will not be ordering shirts after that date. \nShirt sizes are as follows: adult – S\, M\, L\, XL\, 2XL\, 3XL\, and 4XL; and youth sizes – S\, M\, L. \nRegistration includes reindeer antlers and other fun items\, while supplies last. \nSpecial prizes: fastest stroller and best costume for adult\, child\, and dog. \nThere will be medals for all finishers\, while supplies last. \nTrophies for the 5K Run will be awarded to the overall male and female winners. Trophies for the 5k Walk will go to the overall male and female winners. \nFor your convenience\, you may pick up your race bib and shirt while KHCPL is open on Thursday\, Nov 30 Friday\, Dec. 1\, at KHCPL Main\, in addition to the day of the event. \nNo bad weather dates. No refunds.
URL:https://ainsleysangels.org/single-event/nci-runs-rudolph-family-fun-run/
LOCATION:Kokomo-Howard County Public Library Main Branch\, 220 North Union Street\, Kokomo\, IN\, 46901\, United States
CATEGORIES:Indiana,North Central Indiana
ATTACH;FMTTYPE=:
END:VEVENT
BEGIN:VEVENT
DTSTART;TZID=America/New_York:20231202T083000
DTEND;TZID=America/New_York:20231202T170000
DTSTAMP:20260420T180423
CREATED:20230412T183125Z
LAST-MODIFIED:20230412T183125Z
UID:10000679-1701505800-1701536400@ainsleysangels.org
SUMMARY:Ugly Sweater 5K\, WICHITA KANSAS
DESCRIPTION:Place\nHorseshoe Shelter – Sedgwick County Park\n6501 W 21st St\nWichita\, KS US 67205\n\n\n\n\nDescription\n\n\nJoin us on Saturday\, December 2\, 2023at Sedgwick Co. Park – Horseshoe Shelter – Wichita\, KS. for the Ugly Sweater 5K Run & Little Dashers Run presented by Patterson Legal Group. \nAs the title says\, start prepping for your ugliest sweater! \nThe Little Dashers Run begins at 8:30am \nThe Ugly Sweater 5K begins at 9:00am \nRunners & Walkers in the Ugly Sweater 5K & Littler Dashers Run will receive a long sleeve shirt\, custom bib\, chip timing\, finisher’s medal\, hot chocolate and donuts.
URL:https://ainsleysangels.org/single-event/ugly-sweater-5k-wichita-kansas/
CATEGORIES:Kansas,Wichita
ATTACH;FMTTYPE=:
END:VEVENT
BEGIN:VEVENT
DTSTART;TZID=America/New_York:20231209T070000
DTEND;TZID=America/New_York:20231209T090000
DTSTAMP:20260420T180423
CREATED:20230319T030958Z
LAST-MODIFIED:20230319T030958Z
UID:10000649-1702105200-1702112400@ainsleysangels.org
SUMMARY:East TN: Pigeon Forge 5k
DESCRIPTION:
URL:https://ainsleysangels.org/single-event/east-tn-pigeon-forge-5k/
LOCATION:The Island\, 131 Island Dr\, Pigeon Forge\, TN\, 37863
CATEGORIES:East Tennessee,Tennessee
ATTACH;FMTTYPE=:
END:VEVENT
BEGIN:VEVENT
DTSTART;TZID=America/New_York:20231209T090000
DTEND;TZID=America/New_York:20231209T170000
DTSTAMP:20260420T180423
CREATED:20230215T212207Z
LAST-MODIFIED:20230215T212207Z
UID:10000613-1702112400-1702141200@ainsleysangels.org
SUMMARY:SoCal: Santa Run San Diego
DESCRIPTION:San Diego’s Most Festive 5K\n  \nWe are excited to announce that registration is now open for 11th Annual San Diego Santa Run on Saturday\, December 9th! Nearly 25\,000 Santas have participated in previous years but we are preparing to make this year our LARGEST Santa Run yet! Tell your friends\, family and neighbors we are filling the streets of Pacific Beach with a Sea of Santas this December! \n\n\n\n\n\nDates/Time\nDate: Saturday\, December 9\, 2023 \n5K Run: 9:00am \nKids 1 Mile: 11:00am \nDog 1 Mile: 11:30am \nPB Holiday Parade: 12:00pm \nStart Line Location: 912 Garnet Ave. San Diego\, CA 92109
URL:https://ainsleysangels.org/single-event/socal-santa-run-san-diego/
LOCATION:912 Garnet Ave. San Diego\, CA 92109\, 912 Garnet Ave\, San Diego\, CA\, 92109\, United States
CATEGORIES:California,Southern California
ATTACH;FMTTYPE=:
END:VEVENT
BEGIN:VEVENT
DTSTART;TZID=America/New_York:20231216T090000
DTEND;TZID=America/New_York:20231216T110000
DTSTAMP:20260420T180423
CREATED:20230319T031213Z
LAST-MODIFIED:20230319T031213Z
UID:10000650-1702717200-1702724400@ainsleysangels.org
SUMMARY:East TN: Sunshine Santa 5k
DESCRIPTION:
URL:https://ainsleysangels.org/single-event/east-tn-sunshine-santa-5k/
LOCATION:Victor Ashe Park\, 4901 Bradshaw Rd\,\, Knoxville\, TN\, 37912
CATEGORIES:East Tennessee,Tennessee
ATTACH;FMTTYPE=:
END:VEVENT
BEGIN:VEVENT
DTSTART;TZID=America/New_York:20231216T090000
DTEND;TZID=America/New_York:20231216T110000
DTSTAMP:20260420T180423
CREATED:20231022T141323Z
LAST-MODIFIED:20231022T141323Z
UID:10000727-1702717200-1702724400@ainsleysangels.org
SUMMARY:EASTERN CAROLINA: New River YMCA's Merry Fitness 5K
DESCRIPTION:Join us as we support our local Girls on the Run and STRIDE programs to show your youngest group of runners what “Inclusion without Limits” is all about! This race is a part of the Jacksonville Onslow Sports Commission’s Race Series\, so come out to support a great cause while earing your Race Series points! \nThis race starts at 9:00am at the Jacksonville Commons Recreation Center! Angel meet up details will be emailed out as race day approaches! Angel Runners should register as you typically would at the race website and Angel Riders should email Local Ambassador Michelle to let her know that you will be in attendance and this information will be provided to the race staff!
URL:https://ainsleysangels.org/single-event/eastern-carolina-new-river-ymcas-merry-fitness-5k/
CATEGORIES:Eastern Carolina,North Carolina
ATTACH;FMTTYPE=:
END:VEVENT
END:VCALENDAR