BEGIN:VCALENDAR
VERSION:2.0
PRODID:-//Ainsley&#039;s Angels of America - ECPv6.15.20//NONSGML v1.0//EN
CALSCALE:GREGORIAN
METHOD:PUBLISH
X-WR-CALNAME:Ainsley&#039;s Angels of America
X-ORIGINAL-URL:https://ainsleysangels.org
X-WR-CALDESC:Events for Ainsley&#039;s Angels of America
REFRESH-INTERVAL;VALUE=DURATION:PT1H
X-Robots-Tag:noindex
X-PUBLISHED-TTL:PT1H
BEGIN:VTIMEZONE
TZID:America/New_York
BEGIN:DAYLIGHT
TZOFFSETFROM:-0500
TZOFFSETTO:-0400
TZNAME:EDT
DTSTART:20220313T070000
END:DAYLIGHT
BEGIN:STANDARD
TZOFFSETFROM:-0400
TZOFFSETTO:-0500
TZNAME:EST
DTSTART:20221106T060000
END:STANDARD
BEGIN:DAYLIGHT
TZOFFSETFROM:-0500
TZOFFSETTO:-0400
TZNAME:EDT
DTSTART:20230312T070000
END:DAYLIGHT
BEGIN:STANDARD
TZOFFSETFROM:-0400
TZOFFSETTO:-0500
TZNAME:EST
DTSTART:20231105T060000
END:STANDARD
BEGIN:DAYLIGHT
TZOFFSETFROM:-0500
TZOFFSETTO:-0400
TZNAME:EDT
DTSTART:20240310T070000
END:DAYLIGHT
BEGIN:STANDARD
TZOFFSETFROM:-0400
TZOFFSETTO:-0500
TZNAME:EST
DTSTART:20241103T060000
END:STANDARD
END:VTIMEZONE
BEGIN:VTIMEZONE
TZID:UTC
BEGIN:STANDARD
TZOFFSETFROM:+0000
TZOFFSETTO:+0000
TZNAME:UTC
DTSTART:20220101T000000
END:STANDARD
END:VTIMEZONE
BEGIN:VEVENT
DTSTART;TZID=America/New_York:20230801T050000
DTEND;TZID=America/New_York:20230801T090000
DTSTAMP:20260421T115812
CREATED:20230706T003653Z
LAST-MODIFIED:20230706T003653Z
UID:10000707-1690866000-1690880400@ainsleysangels.org
SUMMARY:EASTERN CAROLINA: National Night Out
DESCRIPTION:We are excited to once again be a “vendor” and share the Ainsley’s Angels vision of “Inclusion Without Limits” at this annual\, heavily attended community event! \nJacksonville’s National Night\nAugust 1\, 2023\n5PM-9PM\nRiverwalk Park\, 421 Court St\nJoin us for our annual public safety festival event with demos\, vendors\, bike raffle and more!\nBicycle Giveaway\nBackpacks with school supplies\nDemonstrations\nExhibits\nFood Vendors\nPublic Safety Themed Vendors\nChildren’s Activities\nLive Music\nand more
URL:https://ainsleysangels.org/single-event/eastern-carolina-national-night-out/
CATEGORIES:Eastern Carolina,North Carolina
ATTACH;FMTTYPE=:
END:VEVENT
BEGIN:VEVENT
DTSTART;TZID=America/New_York:20230805T080000
DTEND;TZID=America/New_York:20230805T100000
DTSTAMP:20260421T115812
CREATED:20230412T180728Z
LAST-MODIFIED:20230412T180728Z
UID:10000671-1691222400-1691229600@ainsleysangels.org
SUMMARY:First Responders 5K Run & Walk - WICHITA KS
DESCRIPTION:The First Responders 5K Run & Walk Foundation is a locally created and registered non-profit organization operated by a Board of Directors comprised of First Responders and community members. \nThe Foundations mission and goals are to organize and host an Annual First Responders 5k Run/Walk and Community Day\, along with other various community-oriented fund-raising endeavors. \nThe annual event’s intent is to raise financial support and to partner with local First Responder agencies & Non-Profits to support their mission. These goals are accomplished by providing donations received during the fund-raising events to help support other non-profit organizations to minimize financial burdens\, critical to the operation of those organizations. \nThis Year our Beneficiaries are The Wichita Police & Fire Foundation and The Butler County Sheriff’s Office K-9 Unit.
URL:https://ainsleysangels.org/single-event/first-responders-5k-run-walk-wichita-ks/
CATEGORIES:Kansas,Wichita
ATTACH;FMTTYPE=:
END:VEVENT
BEGIN:VEVENT
DTSTART;TZID=UTC:20230805T080000
DTEND;TZID=UTC:20230805T170000
DTSTAMP:20260421T115812
CREATED:20230119T050120Z
LAST-MODIFIED:20230214T053924Z
UID:10000017-1691222400-1691254800@ainsleysangels.org
SUMMARY:Kayla O'Mara Memorial 5k-Goodrich
DESCRIPTION:Our longest event that we have been apart of.  This race is Goodrich is a great run.
URL:https://ainsleysangels.org/single-event/kayla-omara-memorial-5k-goodrich/
CATEGORIES:Michigan,Southeast Michigan
ATTACH;FMTTYPE=:
END:VEVENT
BEGIN:VEVENT
DTSTART;TZID=America/New_York:20230812T080000
DTEND;TZID=America/New_York:20230812T110000
DTSTAMP:20260421T115812
CREATED:20230315T003544Z
LAST-MODIFIED:20230315T003544Z
UID:10000638-1691827200-1691838000@ainsleysangels.org
SUMMARY:Albany-Adirondacks August -TBA - Jailhouse Rock 5K - Ballston Spa
DESCRIPTION:Ballston Spa
URL:https://ainsleysangels.org/single-event/albany-adirondacks-august-tba-jailhouse-rock-5k-ballston-spa/
CATEGORIES:Albany / ADK
ATTACH;FMTTYPE=:
END:VEVENT
BEGIN:VEVENT
DTSTART;TZID=UTC:20230818T180000
DTEND;TZID=UTC:20230818T180000
DTSTAMP:20260421T115812
CREATED:20230119T050236Z
LAST-MODIFIED:20230214T053904Z
UID:10000016-1692381600-1692381600@ainsleysangels.org
SUMMARY:Howell Melon Run 5k
DESCRIPTION:A Friday evening run in Howell to kick of the Melon Festival.
URL:https://ainsleysangels.org/single-event/howell-melon-run-5k-2/
CATEGORIES:Michigan,Southeast Michigan
ATTACH;FMTTYPE=:
END:VEVENT
BEGIN:VEVENT
DTSTART;TZID=America/New_York:20230819T080000
DTEND;TZID=America/New_York:20230819T120000
DTSTAMP:20260421T115812
CREATED:20230331T020928Z
LAST-MODIFIED:20230331T020928Z
UID:10000661-1692432000-1692446400@ainsleysangels.org
SUMMARY:Surfer's Healing 5k - DATE TBD
DESCRIPTION:
URL:https://ainsleysangels.org/single-event/surfers-healing-5k-date-tbd/
LOCATION:31 Atlantic Ave – Oceanfront\, Virginia Beach\, 3001 Atlantic Avenue\, Virginia Beach\, VA\, 23451\, United States
CATEGORIES:Hampton Roads
ATTACH;FMTTYPE=:
END:VEVENT
BEGIN:VEVENT
DTSTART;TZID=America/New_York:20230819T080000
DTEND;TZID=America/New_York:20230819T130000
DTSTAMP:20260421T115812
CREATED:20230422T030814Z
LAST-MODIFIED:20230422T030814Z
UID:10000683-1692432000-1692450000@ainsleysangels.org
SUMMARY:Ainsley's Angels NCI at Eagle Creek Triathlon
DESCRIPTION:Tuxedo Brothers has invited 4 teams to participate in the Eagle Creek Triathlon. It is a great way to spend a day swim/bike/run.  Tris require practice participation.  Reach out if interested.
URL:https://ainsleysangels.org/single-event/ainsleys-angels-nci-at-eagle-creek-triathlon/
LOCATION:Eagle Creek Park 7840 W 56th Indianapolis\, IN 46254\, 7840 W 56th Street\, Indianapolis\, IN\, 46254\, United States
CATEGORIES:North Central Indiana
ATTACH;FMTTYPE=:
END:VEVENT
BEGIN:VEVENT
DTSTART;TZID=America/New_York:20230819T083000
DTEND;TZID=America/New_York:20230819T103000
DTSTAMP:20260421T115812
CREATED:20230412T181101Z
LAST-MODIFIED:20230412T181101Z
UID:10000672-1692433800-1692441000@ainsleysangels.org
SUMMARY:Gold Rush 10K\, 5K\, and 1K - EL DORADO KANSAS
DESCRIPTION:Place\nEast Park\n100 S. Woodland\nEl Dorado\, KS US 67042\n\n\n\n\nDescription\n\n\nGold Rush 10K\, 5K & 1K has 3 races! 8:00am will begin the non-chipped timed 1K! This is a perfect race for all the little runners! Upon completion of the out and back race\, they will receive a finishers medal and post-race food. \nThe 5K & 10K is an out and back starting and ending at East Park. The 5K and 10K  will be along the bike path and wind through a ravine\, horses\, wooden bridges\, and natural scenery. \nWe will have an aid station at the 5K turnaround and the 10K turnaround. Finishers will receive a finishers medal and we will place age groups for male and female.
URL:https://ainsleysangels.org/single-event/gold-rush-10k-5k-and-1k-el-dorado-kansas/
CATEGORIES:Kansas,Wichita
ATTACH;FMTTYPE=:
END:VEVENT
BEGIN:VEVENT
DTSTART;TZID=America/New_York:20230827T023000
DTEND;TZID=America/New_York:20230827T043000
DTSTAMP:20260421T115812
CREATED:20230818T142827Z
LAST-MODIFIED:20230818T142827Z
UID:10000713-1693103400-1693110600@ainsleysangels.org
SUMMARY:Angels at the Igloo (Private Skating Event)
DESCRIPTION:Join us for an hour of skating followed by an hour of partying in their private party room!  Only cost to you is the $5 skate rental per person.  Wheelchairs are welcome on the ice!\nWe will have a special guest join us for our private party…Caleb Prewitt\, the youngest person with Down Syndrome to complete a full sprint triathlon!\nRSVP helps us in ordering refreshments (jacksonville@ainsleysangels.org)
URL:https://ainsleysangels.org/single-event/angels-at-the-igloo-private-skating-event/
LOCATION:Community First Igloo\, 3605 Philips Hwy\, Jacksonville\, FL\, 32207\, United States
CATEGORIES:Jacksonville
ATTACH;FMTTYPE=:
ORGANIZER;CN="Ainsley's Angels in Jacksonville":MAILTO:jacksonville@ainsleysangels.org
END:VEVENT
END:VCALENDAR