BEGIN:VCALENDAR
VERSION:2.0
PRODID:-//Ainsley&#039;s Angels of America - ECPv6.15.20//NONSGML v1.0//EN
CALSCALE:GREGORIAN
METHOD:PUBLISH
X-ORIGINAL-URL:https://ainsleysangels.org
X-WR-CALDESC:Events for Ainsley&#039;s Angels of America
REFRESH-INTERVAL;VALUE=DURATION:PT1H
X-Robots-Tag:noindex
X-PUBLISHED-TTL:PT1H
BEGIN:VTIMEZONE
TZID:America/New_York
BEGIN:DAYLIGHT
TZOFFSETFROM:-0500
TZOFFSETTO:-0400
TZNAME:EDT
DTSTART:20230312T070000
END:DAYLIGHT
BEGIN:STANDARD
TZOFFSETFROM:-0400
TZOFFSETTO:-0500
TZNAME:EST
DTSTART:20231105T060000
END:STANDARD
BEGIN:DAYLIGHT
TZOFFSETFROM:-0500
TZOFFSETTO:-0400
TZNAME:EDT
DTSTART:20240310T070000
END:DAYLIGHT
BEGIN:STANDARD
TZOFFSETFROM:-0400
TZOFFSETTO:-0500
TZNAME:EST
DTSTART:20241103T060000
END:STANDARD
BEGIN:DAYLIGHT
TZOFFSETFROM:-0500
TZOFFSETTO:-0400
TZNAME:EDT
DTSTART:20250309T070000
END:DAYLIGHT
BEGIN:STANDARD
TZOFFSETFROM:-0400
TZOFFSETTO:-0500
TZNAME:EST
DTSTART:20251102T060000
END:STANDARD
END:VTIMEZONE
BEGIN:VTIMEZONE
TZID:America/Chicago
BEGIN:DAYLIGHT
TZOFFSETFROM:-0600
TZOFFSETTO:-0500
TZNAME:CDT
DTSTART:20230312T080000
END:DAYLIGHT
BEGIN:STANDARD
TZOFFSETFROM:-0500
TZOFFSETTO:-0600
TZNAME:CST
DTSTART:20231105T070000
END:STANDARD
BEGIN:DAYLIGHT
TZOFFSETFROM:-0600
TZOFFSETTO:-0500
TZNAME:CDT
DTSTART:20240310T080000
END:DAYLIGHT
BEGIN:STANDARD
TZOFFSETFROM:-0500
TZOFFSETTO:-0600
TZNAME:CST
DTSTART:20241103T070000
END:STANDARD
BEGIN:DAYLIGHT
TZOFFSETFROM:-0600
TZOFFSETTO:-0500
TZNAME:CDT
DTSTART:20250309T080000
END:DAYLIGHT
BEGIN:STANDARD
TZOFFSETFROM:-0500
TZOFFSETTO:-0600
TZNAME:CST
DTSTART:20251102T070000
END:STANDARD
END:VTIMEZONE
BEGIN:VEVENT
DTSTART;VALUE=DATE:20241013
DTEND;VALUE=DATE:20241014
DTSTAMP:20260420T015420
CREATED:20240714T205729Z
LAST-MODIFIED:20240714T205729Z
UID:10000899-1728777600-1728863999@ainsleysangels.org
SUMMARY:Madison\, WI Trick or Trot 5k
DESCRIPTION:Trick or Trot 5k Sunday\, October 13th\nWhere: Franklin Elementary School (305 W Lakeside St Madison\, WI 53713)\nWhen: 1pm\nRegistration: https://runscore.runsignup.com/Race/WI/Madison/GSAFE Riders and runners can use the code ‘AA2024‘ to receive 50% off registration!\n\nPlease additionally complete this form so we can create teams! 
URL:https://ainsleysangels.org/single-event/madison-wi-trick-or-trot-5k/
ATTACH;FMTTYPE=:
END:VEVENT
BEGIN:VEVENT
DTSTART;TZID=America/New_York:20241013T070000
DTEND;TZID=America/New_York:20241013T170000
DTSTAMP:20260420T015420
CREATED:20240524T164533Z
LAST-MODIFIED:20240524T164533Z
UID:10000886-1728802800-1728838800@ainsleysangels.org
SUMMARY:Prairie Fire Marathon\, Half Marathon\, and 5k
DESCRIPTION:Fall Prairie Fire \nDowntown Wichita
URL:https://ainsleysangels.org/single-event/prairie-fire-marathon-half-marathon-and-5k/
CATEGORIES:Kansas,Wichita
ATTACH;FMTTYPE=:
END:VEVENT
BEGIN:VEVENT
DTSTART;VALUE=DATE:20241014
DTEND;VALUE=DATE:20241015
DTSTAMP:20260420T015420
CREATED:20240714T205925Z
LAST-MODIFIED:20240714T205925Z
UID:10000913-1728864000-1728950399@ainsleysangels.org
SUMMARY:Madison\, WI Never Miss a Monday! with Fleet Feet
DESCRIPTION:Never Miss a Monday! with Fleet Feet\nWhere: Fleet Feet (8440 Old Sauk Rd\, Middleton\, WI 53562)\nWhen: Mondays (starting May 13th) at 6pm\nRegister: Please email madison@ainsleysangels.org if you plan to attend!\n\nThis event will be recurring every Monday at 6pm weather permitting and not on holidays. Please let us know if you will be joining us!
URL:https://ainsleysangels.org/single-event/madison-wi-never-miss-a-monday-with-fleet-feet/2024-10-14/
ATTACH;FMTTYPE=:
END:VEVENT
BEGIN:VEVENT
DTSTART;TZID=America/New_York:20241019T070000
DTEND;TZID=America/New_York:20241019T120000
DTSTAMP:20260420T015420
CREATED:20240507T160702Z
LAST-MODIFIED:20240507T160702Z
UID:10000861-1729321200-1729339200@ainsleysangels.org
SUMMARY:Halloween Hustle
DESCRIPTION:Conway actually changes the name of the town to “Halloween” for the month of October – how fun!  Picture witch hats and jack-o-lanterns hanging over the road and a giant skeleton in front of town hall; Conway (or the city of Halloween) does it right!  This will the 1st Annual Halloween Hustle. Ainsley’s Angels Family how cool is this 10K medal\, it spins\, it glows in the dark\, and it’s HUGE!!  Coastal Race Production’s Race Directors have opened up their race and are allowing us to come and have some fun. For Safety of the rider and runner\, Coastal Race Productions has asked that we roll in the 10K\, due to narrow roads and space on the course being limited. Let me know if your rider would like to roll so we can make arrangements.
URL:https://ainsleysangels.org/single-event/halloween-hustle/
LOCATION:Conway\, SC\, Conway\, SC\, United States
CATEGORIES:Coastal Carolina,South Carolina
ATTACH;FMTTYPE=:
END:VEVENT
BEGIN:VEVENT
DTSTART;TZID=America/New_York:20241019T070000
DTEND;TZID=America/New_York:20241019T170000
DTSTAMP:20260420T015420
CREATED:20240508T113503Z
LAST-MODIFIED:20240508T113503Z
UID:10000864-1729321200-1729357200@ainsleysangels.org
SUMMARY:Garmin Kansas City Marathon
DESCRIPTION:Don’t miss your chance to participate in Kansas City’s largest and most exciting annual race event that takes runners on a tour through the coolest neighborhoods and pass the most beautiful landmarks\, including the World War I museum and memorial the country club Plaza\, the Nelson Atkins\, Museum of Art\, Waldo\, Westport\, 18th and Vine and more!
URL:https://ainsleysangels.org/single-event/garmin-kansas-city-marathon/
LOCATION:Garmin Kansas City Marathon\, 4525 Oak St\, Kansas City\, MO\, 64111\, United States
CATEGORIES:Kansas City
ATTACH;FMTTYPE=:
END:VEVENT
BEGIN:VEVENT
DTSTART;TZID=America/New_York:20241019T073000
DTEND;TZID=America/New_York:20241019T120000
DTSTAMP:20260420T015420
CREATED:20240228T210805Z
LAST-MODIFIED:20240228T210805Z
UID:10000819-1729323000-1729339200@ainsleysangels.org
SUMMARY:Mother Earth Brewing Ironclad Races-Half Marathon/5k
DESCRIPTION:Description\nThe 9th annual Mother Earth Brewing Ironclad Half-Marathon & 5k\, brought to you via Ironclad Races Inc and title sponsor Mother Earth Brewing. Ironclad Races Inc is a Kinston based non-profit corporation with a mission to produce sporting events in Kinston and donate all proceeds to local non-profit organizations and charities benefiting our community. If you are looking for a friendly hometown race\, this is an amazing race to do! Crowd support is awesome!
URL:https://ainsleysangels.org/single-event/mother-earth-brewing-ironclad-races-half-marathon-5k/
LOCATION:Grainger Stadium\, 400 E. Grainger Ave\, Kinston\, NC\, United States
CATEGORIES:Greenville
ATTACH;FMTTYPE=:
END:VEVENT
BEGIN:VEVENT
DTSTART;TZID=America/New_York:20241019T080000
DTEND;TZID=America/New_York:20241019T170000
DTSTAMP:20260420T015420
CREATED:20240524T164753Z
LAST-MODIFIED:20240524T164753Z
UID:10000887-1729324800-1729357200@ainsleysangels.org
SUMMARY:First Responders 5k Run - Andover
DESCRIPTION:  \n\n\nPlace\n1008 E 13th St\nAndover\, KS US 67002\n\n\n\n\nDescription\n\n\nThe First Responders 5K Run & Walk Foundation is a locally created and registered non-profit organization operated by a Board of Directors comprised of First Responders and community members. \nThe Foundations mission and goals are to organize and host an Annual First Responders 5k Run/Walk and Community Day\, along with other various community-oriented fund-raising endeavors. \nThe annual event’s intent is to raise financial support and to partner with local First Responder agencies & Non-Profits to support their mission. These goals are accomplished by providing donations received during the fund-raising events to help support other non-profit organizations to minimize financial burdens\, critical to the operation of those organizations. \nThis Year our Beneficiaries are The Andover Police & Fire Foundation and The Butler County Sheriff’s Office K-9 Unit.
URL:https://ainsleysangels.org/single-event/first-responders-5k-run-andover/
CATEGORIES:Kansas,Wichita
ATTACH;FMTTYPE=:
END:VEVENT
BEGIN:VEVENT
DTSTART;TZID=America/New_York:20241019T120000
DTEND;TZID=America/New_York:20241019T160000
DTSTAMP:20260420T015420
CREATED:20240822T012217Z
LAST-MODIFIED:20240822T142506Z
UID:10001167-1729339200-1729353600@ainsleysangels.org
SUMMARY:10th Annual Cards 4 Kids Charity Poker Tournament
DESCRIPTION:Join us for the 10th Annual Cards 4 Kids Charity Poker Tournament\, hosted by the Lynnhaven Pub!\nOne-Day Only: Fun\, Food\, and Fortune! \nIndulge in a thrilling Texas Hold ‘Em Tournament\, savor all-you-can-eat Famous Pub BBQ\, and enjoy cold beers with friends! \nYour Ticket Includes: \n\nPoker Tournament buy-in\nExclusive T-shirt\nFamous Pub BBQ\nBeer\n\nPlus: \n\nExciting raffles and giveaways\nCASH prizes: $600/400/200\nDoor prizes available to all players\nRaffle prizes available to all attendees\nNon-players can register\n\n  \nLimited to 40 players! Secure your spot now! \nSponsorship Available! \nSupport a Great Cause: Proceeds benefit Ainsley’s Angels of Hampton Roads.
URL:https://ainsleysangels.org/single-event/10th-annual-cards-4-kids-charity-poker-tournament/
LOCATION:Lynnhaven Pub\, 2236 West Great Neck Road\, Virginia Beach\, VA\, 23451\, United States
CATEGORIES:Hampton Roads
ATTACH;FMTTYPE=:
ORGANIZER;CN="Ainsley's Angels Hampton Roads":MAILTO:hamptonroads@ainsleysangels.org
END:VEVENT
BEGIN:VEVENT
DTSTART;TZID=America/New_York:20241019T150000
DTEND;TZID=America/New_York:20241019T170000
DTSTAMP:20260420T015420
CREATED:20240917T174453Z
LAST-MODIFIED:20240917T174453Z
UID:10001170-1729350000-1729357200@ainsleysangels.org
SUMMARY:Oktoberfest Beer and Brats 5K
DESCRIPTION:Join us for an Oktoberfest evening in San Marco Square for a festive 5K through scenic San Marco followed by free beer and brats.  This event will feature interactive games for participants to enjoy before and after the race.  Pre and Post Race Games will include axe throwing\, basketball shoot\, football pass and kick and more traditional Oktoberfest games.  Costumes welcome!  Women dress up in a traditional dirndl (Deern-dul) (dress) and men sport your lederhosen (Lay-der-hozen) shorts.
URL:https://ainsleysangels.org/single-event/oktoberfest-beer-and-brats-5k/
LOCATION:San Marco Square\, San Marco Blvd\, Jacksonville\, FL\, 32207\, United States
CATEGORIES:Jacksonville
ATTACH;FMTTYPE=:
ORGANIZER;CN="1st Place Sports":MAILTO:events@1stplacesports.com
END:VEVENT
BEGIN:VEVENT
DTSTART;TZID=America/New_York:20241020T070000
DTEND;TZID=America/New_York:20241020T103000
DTSTAMP:20260420T015420
CREATED:20240917T174820Z
LAST-MODIFIED:20240917T175002Z
UID:10001171-1729407600-1729420200@ainsleysangels.org
SUMMARY:The Ultimate Tri
DESCRIPTION:Triathlon Angel Teams will complete ¼ mile swim\, 8 mile bike ride\, and a 3.1 mile run!  Angel Riders will glide in inflatable boats attached to their swimmers\, in a manmade lagoon (no waves or sea creatures)!  Our Axiom chairs are built with a bike boom to hook to the bike for a smooth ride.  Run portion is just like our usual races.  Two triathletes per rider (you can share the pulling and pushing).\nhttps://www.ultimateracinginc.com/ultimate-tri1.html\nRiders and Runners: RSVP before registering!
URL:https://ainsleysangels.org/single-event/the-ultimate-tri/
LOCATION:Beach Walk\, 100 Beachwalk Club Drive\, St Johns\, FL\, 32259\, United States
CATEGORIES:Jacksonville
ATTACH;FMTTYPE=:
ORGANIZER;CN="Ultimate Racing%2C Inc.":MAILTO:Info@UltimateRacingInc.com
END:VEVENT
BEGIN:VEVENT
DTSTART;TZID=America/New_York:20241020T080000
DTEND;TZID=America/New_York:20241020T110000
DTSTAMP:20260420T015420
CREATED:20240310T210306Z
LAST-MODIFIED:20240310T210306Z
UID:10000834-1729411200-1729422000@ainsleysangels.org
SUMMARY:Atlantic City Half Marathon
DESCRIPTION:Taking runners on a tour of Absecon Island\, the Atlantic City Marathon & Half Marathon cover ground in the cities of Atlantic City\, Ventnor\, Margate and Longport. From Boardwalk Casinos to the Marina District and sleepy beach towns\, the course offers something for every runner. \n 
URL:https://ainsleysangels.org/single-event/atlantic-city-half-marathon/
LOCATION:Atlantic City Boardwalk\, 1133 Boardwalk\, Atlantic City\, New Jersey\, 08401
CATEGORIES:New Jersey,South Jersey
ATTACH;FMTTYPE=:
END:VEVENT
BEGIN:VEVENT
DTSTART;VALUE=DATE:20241021
DTEND;VALUE=DATE:20241022
DTSTAMP:20260420T015420
CREATED:20240714T205925Z
LAST-MODIFIED:20240714T205925Z
UID:10000914-1729468800-1729555199@ainsleysangels.org
SUMMARY:Madison\, WI Never Miss a Monday! with Fleet Feet
DESCRIPTION:Never Miss a Monday! with Fleet Feet\nWhere: Fleet Feet (8440 Old Sauk Rd\, Middleton\, WI 53562)\nWhen: Mondays (starting May 13th) at 6pm\nRegister: Please email madison@ainsleysangels.org if you plan to attend!\n\nThis event will be recurring every Monday at 6pm weather permitting and not on holidays. Please let us know if you will be joining us!
URL:https://ainsleysangels.org/single-event/madison-wi-never-miss-a-monday-with-fleet-feet/2024-10-21/
ATTACH;FMTTYPE=:
END:VEVENT
BEGIN:VEVENT
DTSTART;TZID=America/New_York:20241026T070000
DTEND;TZID=America/New_York:20241026T120000
DTSTAMP:20260420T015420
CREATED:20240507T154752Z
LAST-MODIFIED:20240507T154752Z
UID:10000860-1729926000-1729944000@ainsleysangels.org
SUMMARY:Run Ocean Isle Beach 2024
DESCRIPTION:https://runsignup.com/Race/Register/?raceId=63575   Options to choose from range from Half Marathon\, 10K\, 5k\, and 1-mile. Let me know if you have any questions and what distance your rider would like to participate in.
URL:https://ainsleysangels.org/single-event/run-ocean-isle-beach-2024/
LOCATION:Ocean Isle Beach\, NC\, 8 East 2nd Ave\, Ocean Isle Beach\, NC\, 28469\, United States
CATEGORIES:Coastal Carolina,South Carolina
ATTACH;FMTTYPE=:
END:VEVENT
BEGIN:VEVENT
DTSTART;VALUE=DATE:20241028
DTEND;VALUE=DATE:20241029
DTSTAMP:20260420T015420
CREATED:20240714T205925Z
LAST-MODIFIED:20240714T205925Z
UID:10000915-1730073600-1730159999@ainsleysangels.org
SUMMARY:Madison\, WI Never Miss a Monday! with Fleet Feet
DESCRIPTION:Never Miss a Monday! with Fleet Feet\nWhere: Fleet Feet (8440 Old Sauk Rd\, Middleton\, WI 53562)\nWhen: Mondays (starting May 13th) at 6pm\nRegister: Please email madison@ainsleysangels.org if you plan to attend!\n\nThis event will be recurring every Monday at 6pm weather permitting and not on holidays. Please let us know if you will be joining us!
URL:https://ainsleysangels.org/single-event/madison-wi-never-miss-a-monday-with-fleet-feet/2024-10-28/
ATTACH;FMTTYPE=:
END:VEVENT
BEGIN:VEVENT
DTSTART;TZID=America/Chicago:20241102T030000
DTEND;TZID=America/Chicago:20241102T080000
DTSTAMP:20260420T015420
CREATED:20240323T085424Z
LAST-MODIFIED:20240323T092211Z
UID:10000838-1730516400-1730534400@ainsleysangels.org
SUMMARY:Rollin On The River 5K
DESCRIPTION:Come join us for a family friendly 5k at the Ike Hamilton Expo Center Parking Lot in West Monroe\, LA. Race Day packet pick up is onsite from 3:00 pm to 5:00 pm. The race starts at 5:30 pm. Packets consist of a race specific shirt and each finisher will receive a race specific medal. The race is open to all runners and walkers. Several hotels are located near the race venue. This is one of many Race Series Races put on by Ainsley’s Angels of America. \nTo register: click the Website link below. \nFor race questions email: nelouisiana@AinsleysAngels.org \nFor more information about Ainsley’s Angels visit: https://AinsleysAngels.org.
URL:https://ainsleysangels.org/single-event/rollin-on-the-river/
LOCATION:West Monroe\, LA
CATEGORIES:Louisiana,Northeast Louisiana
ATTACH;FMTTYPE=:
END:VEVENT
BEGIN:VEVENT
DTSTART;TZID=America/New_York:20241102T070000
DTEND;TZID=America/New_York:20241102T170000
DTSTAMP:20260420T015420
CREATED:20231114T002824Z
LAST-MODIFIED:20231114T002824Z
UID:10000738-1730530800-1730566800@ainsleysangels.org
SUMMARY:Thrive Half Marathon/5K
DESCRIPTION:
URL:https://ainsleysangels.org/single-event/thrive-half-marathon-5k/
LOCATION:1600 Vacation Road\, San Diego
ATTACH;FMTTYPE=:
END:VEVENT
BEGIN:VEVENT
DTSTART;TZID=America/New_York:20241102T073000
DTEND;TZID=America/New_York:20241102T110000
DTSTAMP:20260420T015420
CREATED:20241020T194801Z
LAST-MODIFIED:20241020T194801Z
UID:10001181-1730532600-1730545200@ainsleysangels.org
SUMMARY:The Fuzzy Peach Trail Run 5K (JOSC Race Series Event)
DESCRIPTION:Due to the nature of the course (being a trail)\, we are only able to utilzie certain styles of our race chairs. Please let our Local Ambassador Michelle know as soon as possible if you are a Rider who is interested in rolling in this trail event!
URL:https://ainsleysangels.org/single-event/the-fuzzy-peach-trail-run-5k-josc-race-series-event/
CATEGORIES:Eastern Carolina,North Carolina
ATTACH;FMTTYPE=:
END:VEVENT
BEGIN:VEVENT
DTSTART;TZID=America/New_York:20241103T083000
DTEND;TZID=America/New_York:20241103T103000
DTSTAMP:20260420T015420
CREATED:20240310T232632Z
LAST-MODIFIED:20240310T232632Z
UID:10000835-1730622600-1730629800@ainsleysangels.org
SUMMARY:Run The Bridge 10k
DESCRIPTION:Join us for this amazing event that has racers doing the first 3 miles running on the bridge to Philly & back into Camden. \nThis race benefits LARC school\, a school in Bellmawr for special needs kids & adults. \nRegistration information coming soon. \n 
URL:https://ainsleysangels.org/single-event/run-the-bridge-10k/
CATEGORIES:New Jersey,South Jersey
ATTACH;FMTTYPE=:
END:VEVENT
BEGIN:VEVENT
DTSTART;VALUE=DATE:20241104
DTEND;VALUE=DATE:20241105
DTSTAMP:20260420T015420
CREATED:20240714T205925Z
LAST-MODIFIED:20240714T205925Z
UID:10000916-1730678400-1730764799@ainsleysangels.org
SUMMARY:Madison\, WI Never Miss a Monday! with Fleet Feet
DESCRIPTION:Never Miss a Monday! with Fleet Feet\nWhere: Fleet Feet (8440 Old Sauk Rd\, Middleton\, WI 53562)\nWhen: Mondays (starting May 13th) at 6pm\nRegister: Please email madison@ainsleysangels.org if you plan to attend!\n\nThis event will be recurring every Monday at 6pm weather permitting and not on holidays. Please let us know if you will be joining us!
URL:https://ainsleysangels.org/single-event/madison-wi-never-miss-a-monday-with-fleet-feet/2024-11-04/
ATTACH;FMTTYPE=:
END:VEVENT
BEGIN:VEVENT
DTSTART;VALUE=DATE:20241111
DTEND;VALUE=DATE:20241112
DTSTAMP:20260420T015420
CREATED:20240714T205925Z
LAST-MODIFIED:20240714T205925Z
UID:10000917-1731283200-1731369599@ainsleysangels.org
SUMMARY:Madison\, WI Never Miss a Monday! with Fleet Feet
DESCRIPTION:Never Miss a Monday! with Fleet Feet\nWhere: Fleet Feet (8440 Old Sauk Rd\, Middleton\, WI 53562)\nWhen: Mondays (starting May 13th) at 6pm\nRegister: Please email madison@ainsleysangels.org if you plan to attend!\n\nThis event will be recurring every Monday at 6pm weather permitting and not on holidays. Please let us know if you will be joining us!
URL:https://ainsleysangels.org/single-event/madison-wi-never-miss-a-monday-with-fleet-feet/2024-11-11/
ATTACH;FMTTYPE=:
END:VEVENT
BEGIN:VEVENT
DTSTART;TZID=America/New_York:20241116T071500
DTEND;TZID=America/New_York:20241116T140000
DTSTAMP:20260420T015420
CREATED:20241003T180923Z
LAST-MODIFIED:20241003T180923Z
UID:10001178-1731741300-1731765600@ainsleysangels.org
SUMMARY:Richmond Half Marathon
DESCRIPTION:Come join us for the inaugural event for Ainsley’s Angels in Richmond.
URL:https://ainsleysangels.org/single-event/richmond-half-marathon/
CATEGORIES:Richmond
ATTACH;FMTTYPE=:
END:VEVENT
BEGIN:VEVENT
DTSTART;TZID=America/New_York:20241116T080000
DTEND;TZID=America/New_York:20241116T103000
DTSTAMP:20260420T015420
CREATED:20240917T175522Z
LAST-MODIFIED:20240917T175522Z
UID:10001172-1731744000-1731753000@ainsleysangels.org
SUMMARY:Wounded Warrior Jacksonville Carry Forward 5K
DESCRIPTION:Honor and empower wounded warriors by joining in on this inspiring race\, as participants carry flags\, weights\, and each other to the finish line!  Our Angel Teams always “carry” (push) each other\, so this race fits our mission to a tee!  Check with Ambassador Kim for Runner and Rider registration codes (jacksonville@ainsleysangels.org)
URL:https://ainsleysangels.org/single-event/wounded-warrior-jacksonville-carry-forward-5k/
LOCATION:Jacksonville Wounded Warrior Project Headquarters\, 4899 Belfort Road\, Suite 300\, Jacksonville\, FL\, 32256\, United States
CATEGORIES:Jacksonville
ATTACH;FMTTYPE=:
ORGANIZER;CN="Wounded Warrior Project":MAILTO:carryforward@woundedwarriorproject.org
END:VEVENT
BEGIN:VEVENT
DTSTART;VALUE=DATE:20241118
DTEND;VALUE=DATE:20241119
DTSTAMP:20260420T015420
CREATED:20240714T205925Z
LAST-MODIFIED:20240714T205925Z
UID:10000918-1731888000-1731974399@ainsleysangels.org
SUMMARY:Madison\, WI Never Miss a Monday! with Fleet Feet
DESCRIPTION:Never Miss a Monday! with Fleet Feet\nWhere: Fleet Feet (8440 Old Sauk Rd\, Middleton\, WI 53562)\nWhen: Mondays (starting May 13th) at 6pm\nRegister: Please email madison@ainsleysangels.org if you plan to attend!\n\nThis event will be recurring every Monday at 6pm weather permitting and not on holidays. Please let us know if you will be joining us!
URL:https://ainsleysangels.org/single-event/madison-wi-never-miss-a-monday-with-fleet-feet/2024-11-18/
ATTACH;FMTTYPE=:
END:VEVENT
BEGIN:VEVENT
DTSTART;TZID=America/New_York:20241123T080000
DTEND;TZID=America/New_York:20241123T170000
DTSTAMP:20260420T015420
CREATED:20240131T045814Z
LAST-MODIFIED:20240131T045814Z
UID:10000788-1732348800-1732381200@ainsleysangels.org
SUMMARY:Davis Turkey Trot
DESCRIPTION:Our Thanksgiving Holiday tradition. Easy Peasy 5k through downtown Davis.
URL:https://ainsleysangels.org/single-event/davis-turkey-trot/
LOCATION:Civic Center Field\, 6th & B St\, Davis\, CA\, 95616\, United States
CATEGORIES:Sacramento
ATTACH;FMTTYPE=:
END:VEVENT
BEGIN:VEVENT
DTSTART;TZID=America/New_York:20241123T080000
DTEND;TZID=America/New_York:20241123T170000
DTSTAMP:20260420T015420
CREATED:20240524T165026Z
LAST-MODIFIED:20240524T165026Z
UID:10000888-1732348800-1732381200@ainsleysangels.org
SUMMARY:Honeysuckle White Wichita Turkey Trot 10k and 5k
DESCRIPTION: 
URL:https://ainsleysangels.org/single-event/honeysuckle-white-wichita-turkey-trot-10k-and-5k/
CATEGORIES:Kansas,Wichita
ATTACH;FMTTYPE=:
END:VEVENT
BEGIN:VEVENT
DTSTART;VALUE=DATE:20241125
DTEND;VALUE=DATE:20241126
DTSTAMP:20260420T015420
CREATED:20240714T205925Z
LAST-MODIFIED:20240714T205925Z
UID:10000919-1732492800-1732579199@ainsleysangels.org
SUMMARY:Madison\, WI Never Miss a Monday! with Fleet Feet
DESCRIPTION:Never Miss a Monday! with Fleet Feet\nWhere: Fleet Feet (8440 Old Sauk Rd\, Middleton\, WI 53562)\nWhen: Mondays (starting May 13th) at 6pm\nRegister: Please email madison@ainsleysangels.org if you plan to attend!\n\nThis event will be recurring every Monday at 6pm weather permitting and not on holidays. Please let us know if you will be joining us!
URL:https://ainsleysangels.org/single-event/madison-wi-never-miss-a-monday-with-fleet-feet/2024-11-25/
ATTACH;FMTTYPE=:
END:VEVENT
BEGIN:VEVENT
DTSTART;TZID=America/New_York:20241128T070000
DTEND;TZID=America/New_York:20241128T090000
DTSTAMP:20260420T015420
CREATED:20240329T122036Z
LAST-MODIFIED:20240329T122036Z
UID:10000847-1732777200-1732784400@ainsleysangels.org
SUMMARY:Turkey Trot 5k
DESCRIPTION:
URL:https://ainsleysangels.org/single-event/turkey-trot-5k/
LOCATION:Avery Trace Middle School
CATEGORIES:Tennessee,Upper Cumberland
ATTACH;FMTTYPE=:
END:VEVENT
BEGIN:VEVENT
DTSTART;TZID=America/New_York:20241128T070000
DTEND;TZID=America/New_York:20241128T110000
DTSTAMP:20260420T015420
CREATED:20240507T172846Z
LAST-MODIFIED:20240507T172847Z
UID:10000862-1732777200-1732791600@ainsleysangels.org
SUMMARY:Calabash Turkey Trot
DESCRIPTION:YOUR FAVORITE TURKEY TROT IN CALABASH
URL:https://ainsleysangels.org/single-event/calabash-turkey-trot/
LOCATION:Calabash\, NC\, 9899 Oak St.\, Calabash\, NC\, 28467\, United States
CATEGORIES:Coastal Carolina,South Carolina
ATTACH;FMTTYPE=:
END:VEVENT
BEGIN:VEVENT
DTSTART;TZID=America/New_York:20241128T073000
DTEND;TZID=America/New_York:20241128T110000
DTSTAMP:20260420T015420
CREATED:20241020T195428Z
LAST-MODIFIED:20241020T195428Z
UID:10001182-1732779000-1732791600@ainsleysangels.org
SUMMARY:Onslow Community Outreach Turkey Trot 5K
DESCRIPTION:Join us on Thanksgiving morning to “gobble til you wobble” in support of our local Community Outreach Program benefitting Christmas Cheer! We have FREE codes for our Angel Riders\, so just let our Local Ambassador Michelle Smith (easterncarolina@ainsleysangels.org) know if you are in need of the code! \nThis is the FIRST time a “Turkey Trot” event is taking place locally\, so get your Thanksgiving day off to a great start by joining us!
URL:https://ainsleysangels.org/single-event/onslow-community-outreach-turkey-trot-5k/
CATEGORIES:Eastern Carolina,North Carolina
ATTACH;FMTTYPE=:
END:VEVENT
BEGIN:VEVENT
DTSTART;TZID=America/New_York:20241128T080000
DTEND;TZID=America/New_York:20241128T100000
DTSTAMP:20260420T015420
CREATED:20240228T211129Z
LAST-MODIFIED:20240228T211129Z
UID:10000820-1732780800-1732788000@ainsleysangels.org
SUMMARY:Beau's Buddies Turkey Trot 5k
DESCRIPTION:Description\nBeau’s Buddies Cancer Fund is back again with our annual Turkey Trot for Tots. All money raised stays in eastern NC to assist families that are battling cancer. Our race will be held on Thanksgiving Day (11/28/24)\, starting at 8:00 am. \nHosted by Fleet Feet Greenville.
URL:https://ainsleysangels.org/single-event/beaus-buddies-turkey-trot-5k/
LOCATION:Fleet Feet Greenville\, 207 E. Arlington Blvd\, Greenville\, NC
CATEGORIES:Greenville
ATTACH;FMTTYPE=:
END:VEVENT
END:VCALENDAR