BEGIN:VCALENDAR
VERSION:2.0
PRODID:-//Ainsley&#039;s Angels of America - ECPv6.15.20//NONSGML v1.0//EN
CALSCALE:GREGORIAN
METHOD:PUBLISH
X-ORIGINAL-URL:https://ainsleysangels.org
X-WR-CALDESC:Events for Ainsley&#039;s Angels of America
REFRESH-INTERVAL;VALUE=DURATION:PT1H
X-Robots-Tag:noindex
X-PUBLISHED-TTL:PT1H
BEGIN:VTIMEZONE
TZID:America/New_York
BEGIN:DAYLIGHT
TZOFFSETFROM:-0500
TZOFFSETTO:-0400
TZNAME:EDT
DTSTART:20230312T070000
END:DAYLIGHT
BEGIN:STANDARD
TZOFFSETFROM:-0400
TZOFFSETTO:-0500
TZNAME:EST
DTSTART:20231105T060000
END:STANDARD
BEGIN:DAYLIGHT
TZOFFSETFROM:-0500
TZOFFSETTO:-0400
TZNAME:EDT
DTSTART:20240310T070000
END:DAYLIGHT
BEGIN:STANDARD
TZOFFSETFROM:-0400
TZOFFSETTO:-0500
TZNAME:EST
DTSTART:20241103T060000
END:STANDARD
BEGIN:DAYLIGHT
TZOFFSETFROM:-0500
TZOFFSETTO:-0400
TZNAME:EDT
DTSTART:20250309T070000
END:DAYLIGHT
BEGIN:STANDARD
TZOFFSETFROM:-0400
TZOFFSETTO:-0500
TZNAME:EST
DTSTART:20251102T060000
END:STANDARD
BEGIN:DAYLIGHT
TZOFFSETFROM:-0500
TZOFFSETTO:-0400
TZNAME:EDT
DTSTART:20260308T070000
END:DAYLIGHT
BEGIN:STANDARD
TZOFFSETFROM:-0400
TZOFFSETTO:-0500
TZNAME:EST
DTSTART:20261101T060000
END:STANDARD
BEGIN:DAYLIGHT
TZOFFSETFROM:-0500
TZOFFSETTO:-0400
TZNAME:EDT
DTSTART:20270314T070000
END:DAYLIGHT
BEGIN:STANDARD
TZOFFSETFROM:-0400
TZOFFSETTO:-0500
TZNAME:EST
DTSTART:20271107T060000
END:STANDARD
END:VTIMEZONE
BEGIN:VEVENT
DTSTART;TZID=America/New_York:20260418T070000
DTEND;TZID=America/New_York:20260418T170000
DTSTAMP:20260421T124131
CREATED:20260206T180803Z
LAST-MODIFIED:20260206T181104Z
UID:10001381-1776495600-1776531600@ainsleysangels.org
SUMMARY:Monument Avenue 10k
DESCRIPTION:The Ukrop’s Monument Avenue 10k presented by Kroger is RVA’s favorite spring tradition! Since 2000\, people from around the Richmond region and beyond have gathered to share in the journey of crossing the 10k finish line. \nContact us for a registration code if you’d like to push.  Riders please let us know you’re interested and we’ll register for you.
URL:https://ainsleysangels.org/single-event/monument-avenue-10k/
CATEGORIES:Richmond
ATTACH;FMTTYPE=:
END:VEVENT
BEGIN:VEVENT
DTSTART;TZID=America/New_York:20260328T080000
DTEND;TZID=America/New_York:20260328T170000
DTSTAMP:20260421T124131
CREATED:20260206T180423Z
LAST-MODIFIED:20260206T180423Z
UID:10001380-1774684800-1774717200@ainsleysangels.org
SUMMARY:RRRC Fool's Run Fest
DESCRIPTION:Join us March 28\, 2026 for the second annual RRRC Fools Fest at Dorey Park! Working with the Va. Capital Trail and with distances ranging from the ultra-challenging No Foolin’ 50K to the playful Mischief One Miler (a charity race benefiting our Richmond Ambassadorship)\, there’s something for everyone. The RRRC Fools Fest is more than just a race; it’s a gathering of community with a focus on joy and giving back. Whether you’re tackling the No Foolin’ Marathon or cheering on the Mischief One Miler\, you’ll find laughter and camaraderie every step of the way.
URL:https://ainsleysangels.org/single-event/rrrc-fools-run-fest/
CATEGORIES:Richmond
ATTACH;FMTTYPE=:
END:VEVENT
BEGIN:VEVENT
DTSTART;TZID=America/New_York:20251115T070000
DTEND;TZID=America/New_York:20251115T130000
DTSTAMP:20260421T124131
CREATED:20241121T134704Z
LAST-MODIFIED:20241121T134704Z
UID:10001197-1763190000-1763211600@ainsleysangels.org
SUMMARY:Richmond 8k\, Half\, and Full Marathon
DESCRIPTION:Wrap up running season with the Richmond 8k\, Half\, and Full.
URL:https://ainsleysangels.org/single-event/richmond-8k-half-and-full-marathon/
CATEGORIES:Richmond
ATTACH;FMTTYPE=:
END:VEVENT
BEGIN:VEVENT
DTSTART;TZID=America/New_York:20251026T070000
DTEND;TZID=America/New_York:20251026T100000
DTSTAMP:20260421T124131
CREATED:20241210T134728Z
LAST-MODIFIED:20241210T134728Z
UID:10001205-1761462000-1761472800@ainsleysangels.org
SUMMARY:Regency Mile
DESCRIPTION:Come help support The Live Red Foundation produce free fitness programs in RVA while spreading the message of inclusion. \n\n\nAfter the race\, stick around for the fun Harvest Festival.\n\n\n 
URL:https://ainsleysangels.org/single-event/regency-mile/
CATEGORIES:Richmond
ATTACH;FMTTYPE=:
END:VEVENT
BEGIN:VEVENT
DTSTART;TZID=America/New_York:20250920T090000
DTEND;TZID=America/New_York:20250920T120000
DTSTAMP:20260421T124131
CREATED:20241121T135324Z
LAST-MODIFIED:20241121T135324Z
UID:10001198-1758358800-1758369600@ainsleysangels.org
SUMMARY:Give a Dog a Job 5k
DESCRIPTION:Come spend your morning with us and help give a Dog a job!
URL:https://ainsleysangels.org/single-event/give-a-dog-a-job-5k/
CATEGORIES:Richmond
ATTACH;FMTTYPE=:
END:VEVENT
BEGIN:VEVENT
DTSTART;TZID=America/New_York:20250628T080000
DTEND;TZID=America/New_York:20250628T123000
DTSTAMP:20260421T124131
CREATED:20241121T131051Z
LAST-MODIFIED:20241121T131354Z
UID:10001196-1751097600-1751113800@ainsleysangels.org
SUMMARY:Luau 1 mile\, 5k\, 10k\, and Half
DESCRIPTION:Come run along the Appomattox River! \nPlease email richmond@ainsleysangels.org or call Chris Wray at (804)481-0337 to register.
URL:https://ainsleysangels.org/single-event/luau-1-mile-5k-10k-and-half/
CATEGORIES:Richmond
ATTACH;FMTTYPE=:
END:VEVENT
BEGIN:VEVENT
DTSTART;TZID=America/New_York:20250601T080000
DTEND;TZID=America/New_York:20250601T110000
DTSTAMP:20260421T124131
CREATED:20241120T175916Z
LAST-MODIFIED:20241120T175916Z
UID:10001195-1748764800-1748775600@ainsleysangels.org
SUMMARY:Kings Dominion Run and Ride 5k and 1 mile
DESCRIPTION:Come for run\, stay for the fun! \nEnjoy spreading the message of inclusion while running through Kings Dominion.  The half marathon and 10k are being held on May 31\, 2025.  The 5k and 1 mile run are being held June 1\, 2025. \nFor riders\, we have free entry to the race AND entry to the park! \nPlease email richmond@ainsleysangels.org or call Chris Wray at (804)481-0337 to register.
URL:https://ainsleysangels.org/single-event/kings-dominion-run-and-ride-5k-and-1-mile/
CATEGORIES:Richmond
ATTACH;FMTTYPE=:
END:VEVENT
BEGIN:VEVENT
DTSTART;TZID=America/New_York:20250531T080000
DTEND;TZID=America/New_York:20250531T110000
DTSTAMP:20260421T124131
CREATED:20241120T175559Z
LAST-MODIFIED:20241120T180243Z
UID:10001194-1748678400-1748689200@ainsleysangels.org
SUMMARY:Kings Dominion Run and Ride Half Marathon and 10k
DESCRIPTION:Come for run\, stay for the fun! \nEnjoy spreading the message of inclusion while running through Kings Dominion.  The half marathon and 10k are being held on May 31\, 2025.  The 5k and 1 mile run are being held June 1\, 2025. \nFor riders\, we have free entry to the race AND entry to the park! \nPlease email richmond@ainsleysangels.org or call Chris Wray at (804)481-0337 to register. \n 
URL:https://ainsleysangels.org/single-event/kings-dominion-run-and-ride-half-marathon-and-10k/
CATEGORIES:Richmond
ATTACH;FMTTYPE=:
END:VEVENT
BEGIN:VEVENT
DTSTART;TZID=America/New_York:20250503T160000
DTEND;TZID=America/New_York:20250503T183000
DTSTAMP:20260421T124131
CREATED:20241120T001755Z
LAST-MODIFIED:20241120T002019Z
UID:10001193-1746288000-1746297000@ainsleysangels.org
SUMMARY:Innsbrook Mile
DESCRIPTION:Come run and ride to promote inclusion. \nIn addition to providing a fun family night of racing\, the proceeds of this event go directly to producing free fitness programs in Richmond’s lowest-opportunity neighborhoods and $1\,000+ will be donated back to local school’s physical education departments. \nEmail richmond@ainsleysangels.org or call Chris Wray at 804-481-0337 to signup. \n 
URL:https://ainsleysangels.org/single-event/innsbrook-mile/
CATEGORIES:Richmond,Virginia
ATTACH;FMTTYPE=:
END:VEVENT
BEGIN:VEVENT
DTSTART;TZID=America/New_York:20250412T073000
DTEND;TZID=America/New_York:20250412T130000
DTSTAMP:20260421T124131
CREATED:20241119T134330Z
LAST-MODIFIED:20241119T134330Z
UID:10001192-1744443000-1744462800@ainsleysangels.org
SUMMARY:Monument Ave 10k
DESCRIPTION:Join us to help spread the message of inclusion while running one of RVA’s premier road races! \nContact us at richmond@ainsleysangels.org or contact Chris Wray at (804)481-0337 to register.
URL:https://ainsleysangels.org/single-event/monument-ave-10k/
CATEGORIES:Richmond
ATTACH;FMTTYPE=:
END:VEVENT
BEGIN:VEVENT
DTSTART;TZID=America/New_York:20250308T063000
DTEND;TZID=America/New_York:20250308T130000
DTSTAMP:20260421T124131
CREATED:20241119T131826Z
LAST-MODIFIED:20241119T131826Z
UID:10001191-1741415400-1741438800@ainsleysangels.org
SUMMARY:River City Half and 5k
DESCRIPTION:Come celebrate why RVA is known as the River City while running through U of R and along the rivah\, all while also celebrating inclusion! \nContact us at richmond@ainsleysangels.org or contact Chris Wray at (804)481-0337.
URL:https://ainsleysangels.org/single-event/river-city-half-and-5k/
CATEGORIES:Richmond
ATTACH;FMTTYPE=:
END:VEVENT
BEGIN:VEVENT
DTSTART;TZID=America/New_York:20250223T123000
DTEND;TZID=America/New_York:20250223T170000
DTSTAMP:20260421T124131
CREATED:20241114T191355Z
LAST-MODIFIED:20241114T191355Z
UID:10001189-1740313800-1740330000@ainsleysangels.org
SUMMARY:Inaugural Cornhole Fundraiser for AA in RVA
DESCRIPTION:Come on down to have a blast while helping with our mission to spread inclusion throughout the RVA! \nOur Cornhole tournament is a double elimination blind draw cornhole tourney.  There will be prizes for 1st\, 2nd\, and 3rd place. \nWe also will have a 50/50 raffle. \nRegister using the link below: \nhttps://donate.ainsleysangels.org/event/richmond-cornhole/e641039 \n  \n 
URL:https://ainsleysangels.org/single-event/inaugural-cornhole-fundraiser-for-aa-in-rva/
LOCATION:NES Cornhole Lounge\, 2443 Old Brick Rd\, Glen Allen\, VA\, 23060\, United States
CATEGORIES:Richmond
ATTACH;FMTTYPE=:
END:VEVENT
BEGIN:VEVENT
DTSTART;TZID=America/New_York:20250101T110000
DTEND;TZID=America/New_York:20250101T130000
DTSTAMP:20260421T124131
CREATED:20241119T124911Z
LAST-MODIFIED:20241119T124911Z
UID:10001190-1735729200-1735736400@ainsleysangels.org
SUMMARY:First Day 5k
DESCRIPTION:Start your year off right with brisk 5k to celebrate inclusion! \nPlease send reach out to richmond@ainsleysangels.com or  to Chris Wray at (804) 481-0337 to register.
URL:https://ainsleysangels.org/single-event/first-day-5k/
LOCATION:ACAC – Midlothian\, 11621 Robious Rd\, Midlothian\, VA\, 23113\, United States
CATEGORIES:Richmond
ATTACH;FMTTYPE=:
END:VEVENT
BEGIN:VEVENT
DTSTART;TZID=America/New_York:20241214T170000
DTEND;TZID=America/New_York:20241214T210000
DTSTAMP:20260421T124131
CREATED:20241031T122345Z
LAST-MODIFIED:20241031T122345Z
UID:10001186-1734195600-1734210000@ainsleysangels.org
SUMMARY:CarMax Tacky Light Run
DESCRIPTION:Come check out the tackiest of Tacky lights while joining Ainsley’s Angels of Richmond in this fun end of season 6k!
URL:https://ainsleysangels.org/single-event/carmax-tacky-light-run/
CATEGORIES:Richmond
ATTACH;FMTTYPE=:
END:VEVENT
BEGIN:VEVENT
DTSTART;TZID=America/New_York:20241116T071500
DTEND;TZID=America/New_York:20241116T140000
DTSTAMP:20260421T124131
CREATED:20241003T180923Z
LAST-MODIFIED:20241003T180923Z
UID:10001178-1731741300-1731765600@ainsleysangels.org
SUMMARY:Richmond Half Marathon
DESCRIPTION:Come join us for the inaugural event for Ainsley’s Angels in Richmond.
URL:https://ainsleysangels.org/single-event/richmond-half-marathon/
CATEGORIES:Richmond
ATTACH;FMTTYPE=:
END:VEVENT
END:VCALENDAR