BEGIN:VCALENDAR
VERSION:2.0
PRODID:-//Ainsley&#039;s Angels of America - ECPv6.15.20//NONSGML v1.0//EN
CALSCALE:GREGORIAN
METHOD:PUBLISH
X-WR-CALNAME:Ainsley&#039;s Angels of America
X-ORIGINAL-URL:https://ainsleysangels.org
X-WR-CALDESC:Events for Ainsley&#039;s Angels of America
REFRESH-INTERVAL;VALUE=DURATION:PT1H
X-Robots-Tag:noindex
X-PUBLISHED-TTL:PT1H
BEGIN:VTIMEZONE
TZID:America/New_York
BEGIN:DAYLIGHT
TZOFFSETFROM:-0500
TZOFFSETTO:-0400
TZNAME:EDT
DTSTART:20250309T070000
END:DAYLIGHT
BEGIN:STANDARD
TZOFFSETFROM:-0400
TZOFFSETTO:-0500
TZNAME:EST
DTSTART:20251102T060000
END:STANDARD
BEGIN:DAYLIGHT
TZOFFSETFROM:-0500
TZOFFSETTO:-0400
TZNAME:EDT
DTSTART:20260308T070000
END:DAYLIGHT
BEGIN:STANDARD
TZOFFSETFROM:-0400
TZOFFSETTO:-0500
TZNAME:EST
DTSTART:20261101T060000
END:STANDARD
BEGIN:DAYLIGHT
TZOFFSETFROM:-0500
TZOFFSETTO:-0400
TZNAME:EDT
DTSTART:20270314T070000
END:DAYLIGHT
BEGIN:STANDARD
TZOFFSETFROM:-0400
TZOFFSETTO:-0500
TZNAME:EST
DTSTART:20271107T060000
END:STANDARD
END:VTIMEZONE
BEGIN:VEVENT
DTSTART;TZID=America/New_York:20260214T080000
DTEND;TZID=America/New_York:20260214T103000
DTSTAMP:20260422T185617
CREATED:20260212T165706Z
LAST-MODIFIED:20260212T165706Z
UID:10001384-1771056000-1771065000@ainsleysangels.org
SUMMARY:Love Run
DESCRIPTION:Race Date/Location: February 14th\, 2026 Thalia Elementary School (412 Thalia Road Virginia Beach\, VA 23452); registration will be in the cafeteria (entrance closest to the start line) \nRegistration Time: 8am to 8:45am in school parking lot (can pick up race packet or sign up for the race during this time\, please note-shirts are NOT guaranteed to any participant who signs up on race day). Any and all shirts will be sold to same day registrants so we can no longer hold onto shirts after the race (please have someone pick up your shirt in advance). \nSame Day Registration: Same Day Race registration will be a $5.00 increase in all packages. Shirts are NOT guaranteed.  \nPacket Pick Up: Friday February 13th at Princess Anne High School from 3:30pm – 6:00pm.  Pull up in front of the school and a someone will come out to get your information and then bring you your packet. Please make arrangements for someone to get your shirt if you are unable to attend.  \nRace Information:  We will allow competitive racers to go first\, then the second heat of the race Feel free to walk\, run\, skate\, ride\, the possibilities are endless! The race is stroller friendly\, dog friendly and family friendly!  \nRace Start Time: 5k/Love Row starts promptly at 9am\, One Mile Fun Run/Walk starts at 9:30am
URL:https://ainsleysangels.org/single-event/love-run/
LOCATION:Thalia Elementary School\, 421 Thalia Road\, Virginia Beach\, VA\, 23452\, United States
CATEGORIES:Hampton Roads
ATTACH;FMTTYPE=:
END:VEVENT
BEGIN:VEVENT
DTSTART;TZID=America/New_York:20260228T173000
DTEND;TZID=America/New_York:20260228T193000
DTSTAMP:20260422T185617
CREATED:20260105T160044Z
LAST-MODIFIED:20260105T161734Z
UID:10001352-1772299800-1772307000@ainsleysangels.org
SUMMARY:Inclusion Skate Night
DESCRIPTION:Join us at Cavalier Family Skating Center for a night of roller skating. \nAddress: 1920 Richmond Hwy in Stafford\, VA \nTime: 5:30-7:30 pm
URL:https://ainsleysangels.org/single-event/inclusion-skate-night/
CATEGORIES:Fredericksburg
ATTACH;FMTTYPE=:
END:VEVENT
BEGIN:VEVENT
DTSTART;VALUE=DATE:20260308
DTEND;VALUE=DATE:20260309
DTSTAMP:20260422T185617
CREATED:20260105T160143Z
LAST-MODIFIED:20260105T160143Z
UID:10001353-1772928000-1773014399@ainsleysangels.org
SUMMARY:Donut Run
DESCRIPTION:
URL:https://ainsleysangels.org/single-event/donut-run-2/
CATEGORIES:Fredericksburg
ATTACH;FMTTYPE=:
END:VEVENT
BEGIN:VEVENT
DTSTART;TZID=America/New_York:20260320T130000
DTEND;TZID=America/New_York:20260322T160000
DTSTAMP:20260422T185617
CREATED:20260212T172300Z
LAST-MODIFIED:20260212T172844Z
UID:10001385-1774011600-1774195200@ainsleysangels.org
SUMMARY:Shamrock Marathon Weekend
DESCRIPTION:The 54th running of the Yuengling Shamrock Marathon Weekend will take place in Virginia Beach\, Virginia on March 21-22\, 2026.  This St. Paddy’s Day tradition has a race distance for every goal: Marathon\, Half Marathon\, 8K\, and challenges. No matter the distance\, you’ll experience the best of Coastal Virginia on our flat\, fast\, and scenic course before you cross the finish line overlooking the Atlantic Ocean. The party continues after the race at our post race celebration on the beach with Yuengling Beer and live music.
URL:https://ainsleysangels.org/single-event/shamrock-marathon-weekend/
LOCATION:31 Atlantic Ave – Oceanfront\, Virginia Beach\, 3001 Atlantic Avenue\, Virginia Beach\, VA\, 23451\, United States
CATEGORIES:Hampton Roads
ATTACH;FMTTYPE=:
END:VEVENT
BEGIN:VEVENT
DTSTART;TZID=America/New_York:20260328T080000
DTEND;TZID=America/New_York:20260328T120000
DTSTAMP:20260422T185617
CREATED:20260212T175527Z
LAST-MODIFIED:20260212T175527Z
UID:10001386-1774684800-1774699200@ainsleysangels.org
SUMMARY:Ainsley's Angels Heart and Sole 5k
DESCRIPTION:Ainsley’s Angels of America is happy to announce the inaugural 2026 Heart and Sole 5K Race with virtual option.  Hosted by our Hampton Roads Ambassadorship\, we are seeking your support to help us raise awareness of America’s special needs and physically challenged community and giving them the gift of mobility. This road race is a family friendly event welcoming all members of the community to run\, walk and ROLL with us.  \nCOURSE ROUTE Featuring a flat\, fast course with a small-town feel. The 5K Run/Walk/Roll is a welcoming course to athletes of all abilities. The route will begin and end at Mount Trashmore located at 310 Edwin Dr\, Virginia Beach\, VA 23462.
URL:https://ainsleysangels.org/single-event/ainsleys-angels-heart-and-sole-5k/
CATEGORIES:Hampton Roads
ATTACH;FMTTYPE=:
ORGANIZER;CN="Ainsley's Angels Hampton Roads":MAILTO:hamptonroads@ainsleysangels.org
END:VEVENT
BEGIN:VEVENT
DTSTART;TZID=America/New_York:20260328T080000
DTEND;TZID=America/New_York:20260328T170000
DTSTAMP:20260422T185617
CREATED:20260206T180423Z
LAST-MODIFIED:20260206T180423Z
UID:10001380-1774684800-1774717200@ainsleysangels.org
SUMMARY:RRRC Fool's Run Fest
DESCRIPTION:Join us March 28\, 2026 for the second annual RRRC Fools Fest at Dorey Park! Working with the Va. Capital Trail and with distances ranging from the ultra-challenging No Foolin’ 50K to the playful Mischief One Miler (a charity race benefiting our Richmond Ambassadorship)\, there’s something for everyone. The RRRC Fools Fest is more than just a race; it’s a gathering of community with a focus on joy and giving back. Whether you’re tackling the No Foolin’ Marathon or cheering on the Mischief One Miler\, you’ll find laughter and camaraderie every step of the way.
URL:https://ainsleysangels.org/single-event/rrrc-fools-run-fest/
CATEGORIES:Richmond
ATTACH;FMTTYPE=:
END:VEVENT
BEGIN:VEVENT
DTSTART;VALUE=DATE:20260329
DTEND;VALUE=DATE:20260330
DTSTAMP:20260422T185617
CREATED:20260105T160227Z
LAST-MODIFIED:20260105T160227Z
UID:10001354-1774742400-1774828799@ainsleysangels.org
SUMMARY:Easter at the Farm
DESCRIPTION:
URL:https://ainsleysangels.org/single-event/easter-at-the-farm/
CATEGORIES:Fredericksburg
ATTACH;FMTTYPE=:
END:VEVENT
BEGIN:VEVENT
DTSTART;VALUE=DATE:20260404
DTEND;VALUE=DATE:20260405
DTSTAMP:20260422T185617
CREATED:20260105T160314Z
LAST-MODIFIED:20260105T160314Z
UID:10001355-1775260800-1775347199@ainsleysangels.org
SUMMARY:Sheetz to Sheetz
DESCRIPTION:
URL:https://ainsleysangels.org/single-event/sheetz-to-sheetz/
CATEGORIES:Fredericksburg
ATTACH;FMTTYPE=:
END:VEVENT
BEGIN:VEVENT
DTSTART;VALUE=DATE:20260418
DTEND;VALUE=DATE:20260419
DTSTAMP:20260422T185617
CREATED:20260105T160355Z
LAST-MODIFIED:20260105T160355Z
UID:10001356-1776470400-1776556799@ainsleysangels.org
SUMMARY:Cooking Autism Race
DESCRIPTION:
URL:https://ainsleysangels.org/single-event/cooking-autism-race/
CATEGORIES:Fredericksburg
ATTACH;FMTTYPE=:
END:VEVENT
BEGIN:VEVENT
DTSTART;TZID=America/New_York:20260418T070000
DTEND;TZID=America/New_York:20260418T170000
DTSTAMP:20260422T185617
CREATED:20260206T180803Z
LAST-MODIFIED:20260206T181104Z
UID:10001381-1776495600-1776531600@ainsleysangels.org
SUMMARY:Monument Avenue 10k
DESCRIPTION:The Ukrop’s Monument Avenue 10k presented by Kroger is RVA’s favorite spring tradition! Since 2000\, people from around the Richmond region and beyond have gathered to share in the journey of crossing the 10k finish line. \nContact us for a registration code if you’d like to push.  Riders please let us know you’re interested and we’ll register for you.
URL:https://ainsleysangels.org/single-event/monument-avenue-10k/
CATEGORIES:Richmond
ATTACH;FMTTYPE=:
END:VEVENT
BEGIN:VEVENT
DTSTART;VALUE=DATE:20260517
DTEND;VALUE=DATE:20260518
DTSTAMP:20260422T185617
CREATED:20260105T160447Z
LAST-MODIFIED:20260105T160447Z
UID:10001357-1778976000-1779062399@ainsleysangels.org
SUMMARY:USMC Historic Half Marathon
DESCRIPTION:
URL:https://ainsleysangels.org/single-event/usmc-historic-half-marathon-2/
CATEGORIES:Fredericksburg
ATTACH;FMTTYPE=:
END:VEVENT
BEGIN:VEVENT
DTSTART;TZID=America/New_York:20260531T080000
DTEND;TZID=America/New_York:20260531T170000
DTSTAMP:20260422T185617
CREATED:20260206T181707Z
LAST-MODIFIED:20260206T181707Z
UID:10001382-1780214400-1780246800@ainsleysangels.org
SUMMARY:Run & Ride at King's Dominion 5k
DESCRIPTION:Come for the run\, stay for the fun! Get a behind-the-scenes look at your favorite rides and attractions as you experience a course unlike any other with a run through Kings Dominion! Watch the sun rise over roller coasters\, run alongside park rides and activities\, high-five Snoopy\, earn a medal and enjoy some fabulous swag\, including free parking at the park the day of the race and a ticket to the park! \nBonus with this new addition of the Run & Ride.  You have the option to use the park entry ticket for 30 days post event.  You can also include spectator entry passes at a discount when you register for the race!! \nWe are participating in the 5k again this year.  If you’d like to push\, please contact us for a registration code.  Riders please let us know if you’re interested and we will register you.
URL:https://ainsleysangels.org/single-event/run-ride-at-kings-dominion-5k/
CATEGORIES:Richmond
ATTACH;FMTTYPE=:
END:VEVENT
BEGIN:VEVENT
DTSTART;VALUE=DATE:20260724
DTEND;VALUE=DATE:20260725
DTSTAMP:20260422T185617
CREATED:20260105T160721Z
LAST-MODIFIED:20260125T202305Z
UID:10001360-1784851200-1784937599@ainsleysangels.org
SUMMARY:FredNats Baseball Game
DESCRIPTION:
URL:https://ainsleysangels.org/single-event/frednats-baseball-game-2/
CATEGORIES:Fredericksburg
ATTACH;FMTTYPE=:
END:VEVENT
BEGIN:VEVENT
DTSTART;TZID=America/New_York:20260823T130000
DTEND;TZID=America/New_York:20260823T153000
DTSTAMP:20260422T185617
CREATED:20260105T160920Z
LAST-MODIFIED:20260105T160920Z
UID:10001362-1787490000-1787499000@ainsleysangels.org
SUMMARY:Movie
DESCRIPTION:
URL:https://ainsleysangels.org/single-event/movie/
CATEGORIES:Fredericksburg
ATTACH;FMTTYPE=:
END:VEVENT
BEGIN:VEVENT
DTSTART;VALUE=DATE:20260912
DTEND;VALUE=DATE:20260913
DTSTAMP:20260422T185617
CREATED:20260105T161013Z
LAST-MODIFIED:20260105T161013Z
UID:10001363-1789171200-1789257599@ainsleysangels.org
SUMMARY:Go For Bo Race
DESCRIPTION:
URL:https://ainsleysangels.org/single-event/go-for-bo-race/
CATEGORIES:Fredericksburg
ATTACH;FMTTYPE=:
END:VEVENT
BEGIN:VEVENT
DTSTART;VALUE=DATE:20260919
DTEND;VALUE=DATE:20260920
DTSTAMP:20260422T185617
CREATED:20260105T161057Z
LAST-MODIFIED:20260105T161057Z
UID:10001364-1789776000-1789862399@ainsleysangels.org
SUMMARY:Give a Dog a Job
DESCRIPTION:
URL:https://ainsleysangels.org/single-event/give-a-dog-a-job/
CATEGORIES:Fredericksburg
ATTACH;FMTTYPE=:
END:VEVENT
BEGIN:VEVENT
DTSTART;VALUE=DATE:20261018
DTEND;VALUE=DATE:20261019
DTSTAMP:20260422T185617
CREATED:20260105T161142Z
LAST-MODIFIED:20260105T161142Z
UID:10001365-1792281600-1792367999@ainsleysangels.org
SUMMARY:Hopyard 5k
DESCRIPTION:
URL:https://ainsleysangels.org/single-event/hopyard-5k/
CATEGORIES:Fredericksburg
ATTACH;FMTTYPE=:
END:VEVENT
BEGIN:VEVENT
DTSTART;VALUE=DATE:20261111
DTEND;VALUE=DATE:20261112
DTSTAMP:20260422T185617
CREATED:20260105T161431Z
LAST-MODIFIED:20260105T161431Z
UID:10001366-1794355200-1794441599@ainsleysangels.org
SUMMARY:DECA Race
DESCRIPTION:
URL:https://ainsleysangels.org/single-event/deca-race-2/
CATEGORIES:Fredericksburg
ATTACH;FMTTYPE=:
END:VEVENT
BEGIN:VEVENT
DTSTART;TZID=America/New_York:20261114T070000
DTEND;TZID=America/New_York:20261114T170000
DTSTAMP:20260422T185618
CREATED:20260206T183034Z
LAST-MODIFIED:20260206T183034Z
UID:10001383-1794639600-1794675600@ainsleysangels.org
SUMMARY:Richmond 8k
DESCRIPTION:Get in on the race day fun by conquering an 8k (4.97 miles) run or walk through downtown Richmond and Virginia Commonwealth University. You’ll be the first on the course to experience our awesome crowd support and enthusiastic spectators. Go your own speed\, as this race welcomes all paces\, from the super-fast\, to those just starting out\, and walkers as well! \nFor those that would like to push\, please contact us for a registration code.   Riders please let us know you’re interested and we will register you.
URL:https://ainsleysangels.org/single-event/richmond-8k/
CATEGORIES:Richmond
ATTACH;FMTTYPE=:
END:VEVENT
BEGIN:VEVENT
DTSTART;VALUE=DATE:20261206
DTEND;VALUE=DATE:20261207
DTSTAMP:20260422T185618
CREATED:20260105T161514Z
LAST-MODIFIED:20260105T161514Z
UID:10001367-1796515200-1796601599@ainsleysangels.org
SUMMARY:Joy Run
DESCRIPTION:
URL:https://ainsleysangels.org/single-event/joy-run/
CATEGORIES:Fredericksburg
ATTACH;FMTTYPE=:
END:VEVENT
END:VCALENDAR