BEGIN:VCALENDAR
VERSION:2.0
PRODID:-//Ainsley&#039;s Angels of America - ECPv6.15.20//NONSGML v1.0//EN
CALSCALE:GREGORIAN
METHOD:PUBLISH
X-ORIGINAL-URL:https://ainsleysangels.org
X-WR-CALDESC:Events for Ainsley&#039;s Angels of America
REFRESH-INTERVAL;VALUE=DURATION:PT1H
X-Robots-Tag:noindex
X-PUBLISHED-TTL:PT1H
BEGIN:VTIMEZONE
TZID:America/New_York
BEGIN:DAYLIGHT
TZOFFSETFROM:-0500
TZOFFSETTO:-0400
TZNAME:EDT
DTSTART:20220313T070000
END:DAYLIGHT
BEGIN:STANDARD
TZOFFSETFROM:-0400
TZOFFSETTO:-0500
TZNAME:EST
DTSTART:20221106T060000
END:STANDARD
BEGIN:DAYLIGHT
TZOFFSETFROM:-0500
TZOFFSETTO:-0400
TZNAME:EDT
DTSTART:20230312T070000
END:DAYLIGHT
BEGIN:STANDARD
TZOFFSETFROM:-0400
TZOFFSETTO:-0500
TZNAME:EST
DTSTART:20231105T060000
END:STANDARD
BEGIN:DAYLIGHT
TZOFFSETFROM:-0500
TZOFFSETTO:-0400
TZNAME:EDT
DTSTART:20240310T070000
END:DAYLIGHT
BEGIN:STANDARD
TZOFFSETFROM:-0400
TZOFFSETTO:-0500
TZNAME:EST
DTSTART:20241103T060000
END:STANDARD
END:VTIMEZONE
BEGIN:VEVENT
DTSTART;TZID=America/New_York:20230924T160000
DTEND;TZID=America/New_York:20230924T190000
DTSTAMP:20260421T102416
CREATED:20230319T030232Z
LAST-MODIFIED:20230319T030232Z
UID:10000647-1695571200-1695582000@ainsleysangels.org
SUMMARY:East TN: Ainsley's Angels 6th Annual Rollin On Rocky Top 5K
DESCRIPTION:Join us for the Ainsley’s Angels Race Series 5th Annual Virtual Rollin’ On Rocky Top 5K Run/Walk/Roll hosted by Ainsley’s Angels in East Tennessee.
URL:https://ainsleysangels.org/single-event/east-tn-ainsleys-angels-6th-annual-rollin-on-rocky-top-5k/
LOCATION:UT Gardens\, 2518 Jacob Drive\, Knoxville\, TN\, 37996\, United States
CATEGORIES:East Tennessee,Tennessee
ATTACH;FMTTYPE=:
END:VEVENT
END:VCALENDAR