BEGIN:VCALENDAR
VERSION:2.0
PRODID:-//Ainsley&#039;s Angels of America - ECPv6.15.20//NONSGML v1.0//EN
CALSCALE:GREGORIAN
METHOD:PUBLISH
X-ORIGINAL-URL:https://ainsleysangels.org
X-WR-CALDESC:Events for Ainsley&#039;s Angels of America
REFRESH-INTERVAL;VALUE=DURATION:PT1H
X-Robots-Tag:noindex
X-PUBLISHED-TTL:PT1H
BEGIN:VTIMEZONE
TZID:America/New_York
BEGIN:DAYLIGHT
TZOFFSETFROM:-0500
TZOFFSETTO:-0400
TZNAME:EDT
DTSTART:20220313T070000
END:DAYLIGHT
BEGIN:STANDARD
TZOFFSETFROM:-0400
TZOFFSETTO:-0500
TZNAME:EST
DTSTART:20221106T060000
END:STANDARD
BEGIN:DAYLIGHT
TZOFFSETFROM:-0500
TZOFFSETTO:-0400
TZNAME:EDT
DTSTART:20230312T070000
END:DAYLIGHT
BEGIN:STANDARD
TZOFFSETFROM:-0400
TZOFFSETTO:-0500
TZNAME:EST
DTSTART:20231105T060000
END:STANDARD
BEGIN:DAYLIGHT
TZOFFSETFROM:-0500
TZOFFSETTO:-0400
TZNAME:EDT
DTSTART:20240310T070000
END:DAYLIGHT
BEGIN:STANDARD
TZOFFSETFROM:-0400
TZOFFSETTO:-0500
TZNAME:EST
DTSTART:20241103T060000
END:STANDARD
BEGIN:DAYLIGHT
TZOFFSETFROM:-0500
TZOFFSETTO:-0400
TZNAME:EDT
DTSTART:20250309T070000
END:DAYLIGHT
BEGIN:STANDARD
TZOFFSETFROM:-0400
TZOFFSETTO:-0500
TZNAME:EST
DTSTART:20251102T060000
END:STANDARD
END:VTIMEZONE
BEGIN:VEVENT
DTSTART;TZID=America/New_York:20241128T070000
DTEND;TZID=America/New_York:20241128T090000
DTSTAMP:20260421T153416
CREATED:20240329T122036Z
LAST-MODIFIED:20240329T122036Z
UID:10000847-1732777200-1732784400@ainsleysangels.org
SUMMARY:Turkey Trot 5k
DESCRIPTION:
URL:https://ainsleysangels.org/single-event/turkey-trot-5k/
LOCATION:Avery Trace Middle School
CATEGORIES:Tennessee,Upper Cumberland
ATTACH;FMTTYPE=:
END:VEVENT
BEGIN:VEVENT
DTSTART;TZID=America/New_York:20240921T070000
DTEND;TZID=America/New_York:20240921T090000
DTSTAMP:20260421T153416
CREATED:20240329T122403Z
LAST-MODIFIED:20240329T122403Z
UID:10000848-1726902000-1726909200@ainsleysangels.org
SUMMARY:Run 4 Don 5k
DESCRIPTION:
URL:https://ainsleysangels.org/single-event/run-4-don-5k/
LOCATION:KY
CATEGORIES:Tennessee,Upper Cumberland
ATTACH;FMTTYPE=:
END:VEVENT
BEGIN:VEVENT
DTSTART;TZID=America/New_York:20240622T180000
DTEND;TZID=America/New_York:20240622T193000
DTSTAMP:20260421T153416
CREATED:20240329T121621Z
LAST-MODIFIED:20240329T121816Z
UID:10000846-1719079200-1719084600@ainsleysangels.org
SUMMARY:Summer Splash 5k
DESCRIPTION:
URL:https://ainsleysangels.org/single-event/summer-splash-5k/
LOCATION:Dogwood Park Cookeville\, TN
CATEGORIES:Tennessee,Upper Cumberland
ATTACH;FMTTYPE=:
END:VEVENT
BEGIN:VEVENT
DTSTART;TZID=America/New_York:20231216T090000
DTEND;TZID=America/New_York:20231216T110000
DTSTAMP:20260421T153416
CREATED:20230319T031213Z
LAST-MODIFIED:20230319T031213Z
UID:10000650-1702717200-1702724400@ainsleysangels.org
SUMMARY:East TN: Sunshine Santa 5k
DESCRIPTION:
URL:https://ainsleysangels.org/single-event/east-tn-sunshine-santa-5k/
LOCATION:Victor Ashe Park\, 4901 Bradshaw Rd\,\, Knoxville\, TN\, 37912
CATEGORIES:East Tennessee,Tennessee
ATTACH;FMTTYPE=:
END:VEVENT
BEGIN:VEVENT
DTSTART;TZID=America/New_York:20231209T070000
DTEND;TZID=America/New_York:20231209T090000
DTSTAMP:20260421T153416
CREATED:20230319T030958Z
LAST-MODIFIED:20230319T030958Z
UID:10000649-1702105200-1702112400@ainsleysangels.org
SUMMARY:East TN: Pigeon Forge 5k
DESCRIPTION:
URL:https://ainsleysangels.org/single-event/east-tn-pigeon-forge-5k/
LOCATION:The Island\, 131 Island Dr\, Pigeon Forge\, TN\, 37863
CATEGORIES:East Tennessee,Tennessee
ATTACH;FMTTYPE=:
END:VEVENT
BEGIN:VEVENT
DTSTART;TZID=America/New_York:20231123T083000
DTEND;TZID=America/New_York:20231123T103000
DTSTAMP:20260421T153416
CREATED:20230319T030547Z
LAST-MODIFIED:20230319T030547Z
UID:10000648-1700728200-1700735400@ainsleysangels.org
SUMMARY:East TN: Regal Knoxville Turkey Trot 5K + Little Gobbler Kids Run
DESCRIPTION:
URL:https://ainsleysangels.org/single-event/east-tn-regal-knoxville-turkey-trot-5k-little-gobbler-kids-run/
LOCATION:The Mill and Mine\, 227 W Depot Ave\,\, Knoxville\, TN\, 37917\, United States
CATEGORIES:East Tennessee,Tennessee
ATTACH;FMTTYPE=:
END:VEVENT
BEGIN:VEVENT
DTSTART;TZID=America/New_York:20230924T160000
DTEND;TZID=America/New_York:20230924T190000
DTSTAMP:20260421T153416
CREATED:20230319T030232Z
LAST-MODIFIED:20230319T030232Z
UID:10000647-1695571200-1695582000@ainsleysangels.org
SUMMARY:East TN: Ainsley's Angels 6th Annual Rollin On Rocky Top 5K
DESCRIPTION:Join us for the Ainsley’s Angels Race Series 5th Annual Virtual Rollin’ On Rocky Top 5K Run/Walk/Roll hosted by Ainsley’s Angels in East Tennessee.
URL:https://ainsleysangels.org/single-event/east-tn-ainsleys-angels-6th-annual-rollin-on-rocky-top-5k/
LOCATION:UT Gardens\, 2518 Jacob Drive\, Knoxville\, TN\, 37996\, United States
CATEGORIES:East Tennessee,Tennessee
ATTACH;FMTTYPE=:
END:VEVENT
BEGIN:VEVENT
DTSTART;TZID=America/New_York:20230715T180000
DTEND;TZID=America/New_York:20230715T180000
DTSTAMP:20260421T153416
CREATED:20230319T025501Z
LAST-MODIFIED:20230319T025823Z
UID:10000646-1689444000-1689444000@ainsleysangels.org
SUMMARY:East TN: Crazy 8's
DESCRIPTION:
URL:https://ainsleysangels.org/single-event/east-tn-crazy-8s/
LOCATION:Dobyns-Bennett High School\, 1 Tribe Way\, Kingsport\, TN\, 37664\, United States
CATEGORIES:East Tennessee,Tennessee
ATTACH;FMTTYPE=:
END:VEVENT
BEGIN:VEVENT
DTSTART;TZID=America/New_York:20230703T170000
DTEND;TZID=America/New_York:20230703T190000
DTSTAMP:20260421T153416
CREATED:20230319T024957Z
LAST-MODIFIED:20230319T024957Z
UID:10000645-1688403600-1688410800@ainsleysangels.org
SUMMARY:East TN: Pilot Fireball Moonlight Classic 5K
DESCRIPTION:Kickoff your 4th of July festivities with a fast 5k on Neyland Drive – it’s the Pilot Fireball Moonlight Classic 5k and Little Firecracker Mile!
URL:https://ainsleysangels.org/single-event/east-tn-pilot-fireball-moonlight-classic-5k/
LOCATION:University of Tennessee Vet School\, 2407 River Dr.\, Knoxville\, TN\, 37796
CATEGORIES:East Tennessee,Tennessee
ATTACH;FMTTYPE=:
END:VEVENT
BEGIN:VEVENT
DTSTART;TZID=America/New_York:20230603T080000
DTEND;TZID=America/New_York:20230603T100000
DTSTAMP:20260421T153416
CREATED:20230319T024625Z
LAST-MODIFIED:20230319T024625Z
UID:10000644-1685779200-1685786400@ainsleysangels.org
SUMMARY:East TN: Alexis Thompson 5k
DESCRIPTION:Please join us for the 7th Annual Alexis Thompson Memorial 10K/5k.
URL:https://ainsleysangels.org/single-event/east-tn-alexis-thompson-5k/
LOCATION:Winchester First Church of God\, 2500 Colby Road\, Winchester\, KY\, 40391\, United States
CATEGORIES:East Tennessee,Tennessee
ATTACH;FMTTYPE=:
END:VEVENT
BEGIN:VEVENT
DTSTART;TZID=America/New_York:20230527T073000
DTEND;TZID=America/New_York:20230527T093000
DTSTAMP:20260421T153416
CREATED:20230319T024152Z
LAST-MODIFIED:20230319T032209Z
UID:10000643-1685172600-1685179800@ainsleysangels.org
SUMMARY:East TN: Expo 5k
DESCRIPTION:
URL:https://ainsleysangels.org/single-event/east-tn-expo-5k/
LOCATION:Crafty Bastard Brewery\, Knoxville\, TN
CATEGORIES:East Tennessee,Tennessee
ATTACH;FMTTYPE=:
END:VEVENT
BEGIN:VEVENT
DTSTART;TZID=America/New_York:20230408T160000
DTEND;TZID=America/New_York:20230408T190000
DTSTAMP:20260421T153416
CREATED:20230319T023836Z
LAST-MODIFIED:20230319T032305Z
UID:10000642-1680969600-1680980400@ainsleysangels.org
SUMMARY:East TN: Miles 4 Missions 5k
DESCRIPTION:
URL:https://ainsleysangels.org/single-event/east-tn-miles-4-missions-5k/
LOCATION:Greenville\, TN
CATEGORIES:East Tennessee,Tennessee
ATTACH;FMTTYPE=:
END:VEVENT
BEGIN:VEVENT
DTSTART;VALUE=DATE:20230401
DTEND;VALUE=DATE:20230403
DTSTAMP:20260421T153416
CREATED:20230319T023407Z
LAST-MODIFIED:20230319T023407Z
UID:10000641-1680307200-1680479999@ainsleysangels.org
SUMMARY:East TN: Knoxville Marathon Weekend
DESCRIPTION:
URL:https://ainsleysangels.org/single-event/east-tn-knoxville-marathon-weekend/
LOCATION:World’s Fair Park\, 963 World's Fair Park\, Knoxville\, TN\, 37916\, United States
CATEGORIES:East Tennessee,Tennessee
ATTACH;FMTTYPE=:
END:VEVENT
END:VCALENDAR