BEGIN:VCALENDAR
VERSION:2.0
PRODID:-//Ainsley&#039;s Angels of America - ECPv6.15.20//NONSGML v1.0//EN
CALSCALE:GREGORIAN
METHOD:PUBLISH
X-WR-CALNAME:Ainsley&#039;s Angels of America
X-ORIGINAL-URL:https://ainsleysangels.org
X-WR-CALDESC:Events for Ainsley&#039;s Angels of America
REFRESH-INTERVAL;VALUE=DURATION:PT1H
X-Robots-Tag:noindex
X-PUBLISHED-TTL:PT1H
BEGIN:VTIMEZONE
TZID:America/Halifax
BEGIN:DAYLIGHT
TZOFFSETFROM:-0400
TZOFFSETTO:-0300
TZNAME:ADT
DTSTART:20240310T060000
END:DAYLIGHT
BEGIN:STANDARD
TZOFFSETFROM:-0300
TZOFFSETTO:-0400
TZNAME:AST
DTSTART:20241103T050000
END:STANDARD
BEGIN:DAYLIGHT
TZOFFSETFROM:-0400
TZOFFSETTO:-0300
TZNAME:ADT
DTSTART:20250309T060000
END:DAYLIGHT
BEGIN:STANDARD
TZOFFSETFROM:-0300
TZOFFSETTO:-0400
TZNAME:AST
DTSTART:20251102T050000
END:STANDARD
BEGIN:DAYLIGHT
TZOFFSETFROM:-0400
TZOFFSETTO:-0300
TZNAME:ADT
DTSTART:20260308T060000
END:DAYLIGHT
BEGIN:STANDARD
TZOFFSETFROM:-0300
TZOFFSETTO:-0400
TZNAME:AST
DTSTART:20261101T050000
END:STANDARD
END:VTIMEZONE
BEGIN:VEVENT
DTSTART;TZID=America/Halifax:20251102T060000
DTEND;TZID=America/Halifax:20251102T120000
DTSTAMP:20260421T092938
CREATED:20250605T155227Z
LAST-MODIFIED:20250605T155227Z
UID:10001319-1762063200-1762084800@ainsleysangels.org
SUMMARY:Run The Bridge 2025
DESCRIPTION:Run The Bridge is a 10k race that starts in Camden at the base of the Ben Franklin Bridge. This event runs across the bridge and back\, and then finishes along the Camden waterfront in Campbell’s Field. We will be joining the South Jersey Ainsley’s Angels group for this race!
URL:https://ainsleysangels.org/single-event/run-the-bridge-2025/
LOCATION:campbell’s Field\, 401 Delaware Ave\, Camden\, NJ\, 08102\, United States
CATEGORIES:Pennsylvania,Southeast Pennsylvania
ATTACH;FMTTYPE=:
END:VEVENT
END:VCALENDAR