BEGIN:VCALENDAR
VERSION:2.0
PRODID:-//Ainsley&#039;s Angels of America - ECPv6.15.20//NONSGML v1.0//EN
CALSCALE:GREGORIAN
METHOD:PUBLISH
X-ORIGINAL-URL:https://ainsleysangels.org
X-WR-CALDESC:Events for Ainsley&#039;s Angels of America
REFRESH-INTERVAL;VALUE=DURATION:PT1H
X-Robots-Tag:noindex
X-PUBLISHED-TTL:PT1H
BEGIN:VTIMEZONE
TZID:America/New_York
BEGIN:DAYLIGHT
TZOFFSETFROM:-0500
TZOFFSETTO:-0400
TZNAME:EDT
DTSTART:20220313T070000
END:DAYLIGHT
BEGIN:STANDARD
TZOFFSETFROM:-0400
TZOFFSETTO:-0500
TZNAME:EST
DTSTART:20221106T060000
END:STANDARD
BEGIN:DAYLIGHT
TZOFFSETFROM:-0500
TZOFFSETTO:-0400
TZNAME:EDT
DTSTART:20230312T070000
END:DAYLIGHT
BEGIN:STANDARD
TZOFFSETFROM:-0400
TZOFFSETTO:-0500
TZNAME:EST
DTSTART:20231105T060000
END:STANDARD
BEGIN:DAYLIGHT
TZOFFSETFROM:-0500
TZOFFSETTO:-0400
TZNAME:EDT
DTSTART:20240310T070000
END:DAYLIGHT
BEGIN:STANDARD
TZOFFSETFROM:-0400
TZOFFSETTO:-0500
TZNAME:EST
DTSTART:20241103T060000
END:STANDARD
END:VTIMEZONE
BEGIN:VEVENT
DTSTART;TZID=America/New_York:20231007T080000
DTEND;TZID=America/New_York:20231007T170000
DTSTAMP:20260423T113633
CREATED:20230706T004735Z
LAST-MODIFIED:20230706T004735Z
UID:10000709-1696665600-1696698000@ainsleysangels.org
SUMMARY:EASTERN CAROLINA: Movin' Mullet 5K Run
DESCRIPTION:This event is a part of our Jacksonville Onslow Sports Commission Race Series and we are so excited to “roll” in it for the first time! Taking place in Swansboro at 109 N. Front St.\, you will get a tour of beautiful Swansboro while you “roll with the wind”…and while sporting a “Mullet” hairstyle…if you dare! \nMovin’ Mullet 5k Run presented by Bob Mills Mitsubishi \nWhen you hear the word mullet\, do you think of the fish or the rockin’ hairstyle? With our race\, we hope your future answer will be both. To help Swansboro kick off their Mullet Festival\, we will hold the Movin’ Mullet 5K the Saturday before the festival on October 7th. \nWe hope that you will use this opportunity to show off your fun clothing and awesome mullet hairstyles. Whether it is the North Carolina Neck Warmer\, the Kentucky Waterfall\, the Camero Crash Helmet\, the Tennessee Top Hat\, the Beaver Paddle\, the El Camino Headrest\, or even the Mississippi Mudflap\, all mullets are welcomed…and actually encouraged. \nWe know that you will be all business in the front at the start line but that it will be a party in the back when you receive your medal as you cross the finish line. So channel your inner Billy Ray Cyrus\, Wayne and Garth\, John Daly\, Andrew Agassi\, Mel Gibson\, every ’80’s wrestler or Tina Turner and go ahead and register now and claim your spot.
URL:https://ainsleysangels.org/single-event/eastern-carolina-movin-mullet-5k-run/
CATEGORIES:Eastern Carolina,North Carolina
ATTACH;FMTTYPE=:
END:VEVENT
BEGIN:VEVENT
DTSTART;TZID=America/New_York:20231007T083000
DTEND;TZID=America/New_York:20231007T083000
DTSTAMP:20260423T113633
CREATED:20230706T002400Z
LAST-MODIFIED:20230706T002400Z
UID:10000704-1696667400-1696667400@ainsleysangels.org
SUMMARY:EASTERN CAROLINA: Buddy Walk and 5K Color Run
DESCRIPTION:Come out and support a great cause! Down Syndrome Network of Onslow and Carteret Counties. Our 4th Annual Color Run will be professionally timed this year! We just LOVE supporting this great organization\, whose mission aligns with the Ainsley’s Angels vision and mission\, as well! \nThe race will be located at Jacksonville Commons Recreation Center! There are options to participate in the 5K Color Run or the Buddy Walk…there is something for everyone!
URL:https://ainsleysangels.org/single-event/eastern-carolina-buddy-walk-and-5k-color-run/
CATEGORIES:Eastern Carolina,North Carolina
ATTACH;FMTTYPE=:
END:VEVENT
END:VCALENDAR