BEGIN:VCALENDAR
VERSION:2.0
PRODID:-//Ainsley&#039;s Angels of America - ECPv6.15.20//NONSGML v1.0//EN
CALSCALE:GREGORIAN
METHOD:PUBLISH
X-WR-CALNAME:Ainsley&#039;s Angels of America
X-ORIGINAL-URL:https://ainsleysangels.org
X-WR-CALDESC:Events for Ainsley&#039;s Angels of America
REFRESH-INTERVAL;VALUE=DURATION:PT1H
X-Robots-Tag:noindex
X-PUBLISHED-TTL:PT1H
BEGIN:VTIMEZONE
TZID:America/New_York
BEGIN:DAYLIGHT
TZOFFSETFROM:-0500
TZOFFSETTO:-0400
TZNAME:EDT
DTSTART:20220313T070000
END:DAYLIGHT
BEGIN:STANDARD
TZOFFSETFROM:-0400
TZOFFSETTO:-0500
TZNAME:EST
DTSTART:20221106T060000
END:STANDARD
BEGIN:DAYLIGHT
TZOFFSETFROM:-0500
TZOFFSETTO:-0400
TZNAME:EDT
DTSTART:20230312T070000
END:DAYLIGHT
BEGIN:STANDARD
TZOFFSETFROM:-0400
TZOFFSETTO:-0500
TZNAME:EST
DTSTART:20231105T060000
END:STANDARD
BEGIN:DAYLIGHT
TZOFFSETFROM:-0500
TZOFFSETTO:-0400
TZNAME:EDT
DTSTART:20240310T070000
END:DAYLIGHT
BEGIN:STANDARD
TZOFFSETFROM:-0400
TZOFFSETTO:-0500
TZNAME:EST
DTSTART:20241103T060000
END:STANDARD
END:VTIMEZONE
BEGIN:VEVENT
DTSTART;TZID=America/New_York:20230715T080000
DTEND;TZID=America/New_York:20230715T110000
DTSTAMP:20260421T172703
CREATED:20230706T003015Z
LAST-MODIFIED:20230706T003015Z
UID:10000705-1689408000-1689418800@ainsleysangels.org
SUMMARY:EASTERN CAROLINA: Wingman Foundation Coastal Carolina Memorial 5K & Fun Run
DESCRIPTION:This will be the very first time that our Ambassadorship participates in this event\, which is in support of such an amazing cause and has very special ties to our local military community. The 5th Annual Coastal Carolina Memorial 5K and Kid’s Fun Run will be in memory of the crew of Ghost 31\, Captain Matthew J. Tomkiewicz\, Captain Ross A. Reynolds\, Gunnery Sergeant James W. Speedy\, and Corporal Jacob M. Moore. The crew were members of the VMM-261 Raging Bulls from Marine Corps Air Station New River. This year’s race will be held in the Jacksonville Commons in Jacksonville\, NC. There is also an option to participate virtually to support The Wingman Foundation from wherever you are. The missions of The Wingman Foundation continue: 1) Supporting families in the immediate aftermath of the mishap and 2) Continuing to remember those air warriors we have lost to Navy and Marine Corps aviation mishaps. \nThe race will take place at the Jacksonville Commons Recreation Center.
URL:https://ainsleysangels.org/single-event/eastern-carolina-wingman-foundation-coastal-carolina-memorial-5k-fun-run/
CATEGORIES:Eastern Carolina,North Carolina
ATTACH;FMTTYPE=:
END:VEVENT
END:VCALENDAR