BEGIN:VCALENDAR
VERSION:2.0
PRODID:-//Ainsley&#039;s Angels of America - ECPv6.15.20//NONSGML v1.0//EN
CALSCALE:GREGORIAN
METHOD:PUBLISH
X-ORIGINAL-URL:https://ainsleysangels.org
X-WR-CALDESC:Events for Ainsley&#039;s Angels of America
REFRESH-INTERVAL;VALUE=DURATION:PT1H
X-Robots-Tag:noindex
X-PUBLISHED-TTL:PT1H
BEGIN:VTIMEZONE
TZID:UTC
BEGIN:STANDARD
TZOFFSETFROM:+0000
TZOFFSETTO:+0000
TZNAME:UTC
DTSTART:20250101T000000
END:STANDARD
END:VTIMEZONE
BEGIN:VEVENT
DTSTART;TZID=UTC:20260704T073000
DTEND;TZID=UTC:20260704T090000
DTSTAMP:20260420T035349
CREATED:20260203T204641Z
LAST-MODIFIED:20260203T204641Z
UID:10001377-1783150200-1783155600@ainsleysangels.org
SUMMARY:SENC - Battle for Independence Road Race
DESCRIPTION:The Fleet Feet Wilmington Battle for Independence Road Race \nKick off your Independence Day with a race!\nThe Battle for Independence is a 4th of July race in Wilmington\, NC\, giving participants the chance to battle it out along Independence Blvd. on Wilmington’s scenic Cross City Trail. The race is flat and fast\, helping draw in the best athletes in our region\, but is also family friendly for runners of all ages.\nWe treat each Battle for Independence Race participant with southern hospitality as we celebrate the birth of our nation and honor those who serve. \n5K Run or Walk  |  This event is timed\nWHEN\nTuesday\, July 4\, 2026 \n\nSTART / FINISH LINE LOCATION\nThe Pointe at Barclay\n1450 Barclay Pointe Blvd.\nWilmington\, NC 28412 \nPARKING\nParking is available in any legal parking spot at the Pointe at Barclay. \nRegister at https://runsignup.com/Race/NC/Wilmington/BattleforIndependenceRoadRace
URL:https://ainsleysangels.org/single-event/senc-battle-for-independence-road-race/
CATEGORIES:Southeast North Carolina
ATTACH;FMTTYPE=:
END:VEVENT
END:VCALENDAR