BEGIN:VCALENDAR
VERSION:2.0
PRODID:-//Ainsley&#039;s Angels of America - ECPv6.15.20//NONSGML v1.0//EN
CALSCALE:GREGORIAN
METHOD:PUBLISH
X-ORIGINAL-URL:https://ainsleysangels.org
X-WR-CALDESC:Events for Ainsley&#039;s Angels of America
REFRESH-INTERVAL;VALUE=DURATION:PT1H
X-Robots-Tag:noindex
X-PUBLISHED-TTL:PT1H
BEGIN:VTIMEZONE
TZID:America/New_York
BEGIN:DAYLIGHT
TZOFFSETFROM:-0500
TZOFFSETTO:-0400
TZNAME:EDT
DTSTART:20230312T070000
END:DAYLIGHT
BEGIN:STANDARD
TZOFFSETFROM:-0400
TZOFFSETTO:-0500
TZNAME:EST
DTSTART:20231105T060000
END:STANDARD
BEGIN:DAYLIGHT
TZOFFSETFROM:-0500
TZOFFSETTO:-0400
TZNAME:EDT
DTSTART:20240310T070000
END:DAYLIGHT
BEGIN:STANDARD
TZOFFSETFROM:-0400
TZOFFSETTO:-0500
TZNAME:EST
DTSTART:20241103T060000
END:STANDARD
BEGIN:DAYLIGHT
TZOFFSETFROM:-0500
TZOFFSETTO:-0400
TZNAME:EDT
DTSTART:20250309T070000
END:DAYLIGHT
BEGIN:STANDARD
TZOFFSETFROM:-0400
TZOFFSETTO:-0500
TZNAME:EST
DTSTART:20251102T060000
END:STANDARD
END:VTIMEZONE
BEGIN:VEVENT
DTSTART;VALUE=DATE:20240505
DTEND;VALUE=DATE:20240506
DTSTAMP:20260423T103518
CREATED:20240228T204945Z
LAST-MODIFIED:20240228T204945Z
UID:10000816-1714867200-1714953599@ainsleysangels.org
SUMMARY:Spartan Sprint Race- Fayetteville Weekend
DESCRIPTION:Ainsley’s Angels has a partnership with Spartan and we will be taking part in our first ever Spartan event for our Greenville Ambassadorship!  All are welcome to join us for a Spartan 5k Sprint Obstacle Course event in Fayetteville\, NC! We will be teaming up with the non-profit group More Heart than Scars to assist us with moving our Angel Athletes safely through the obstacles.  We are excited to offer this exciting adventure to our Angels! Please contact Laura Owens\, ambassador of Greenville\, if you are interested in joining us. Our race time is TBA. \ngreenville@ainsleysangels.org
URL:https://ainsleysangels.org/single-event/spartan-sprint-race-fayetteville-weekend/
LOCATION:McCormick Farms\, 7765 McCormick Bridge Road\, Spring Lake\, NC
CATEGORIES:Greenville
ATTACH;FMTTYPE=:
END:VEVENT
END:VCALENDAR