BEGIN:VCALENDAR
VERSION:2.0
PRODID:-//Ainsley&#039;s Angels of America - ECPv6.15.20//NONSGML v1.0//EN
CALSCALE:GREGORIAN
METHOD:PUBLISH
X-ORIGINAL-URL:https://ainsleysangels.org
X-WR-CALDESC:Events for Ainsley&#039;s Angels of America
REFRESH-INTERVAL;VALUE=DURATION:PT1H
X-Robots-Tag:noindex
X-PUBLISHED-TTL:PT1H
BEGIN:VTIMEZONE
TZID:America/New_York
BEGIN:DAYLIGHT
TZOFFSETFROM:-0500
TZOFFSETTO:-0400
TZNAME:EDT
DTSTART:20230312T070000
END:DAYLIGHT
BEGIN:STANDARD
TZOFFSETFROM:-0400
TZOFFSETTO:-0500
TZNAME:EST
DTSTART:20231105T060000
END:STANDARD
BEGIN:DAYLIGHT
TZOFFSETFROM:-0500
TZOFFSETTO:-0400
TZNAME:EDT
DTSTART:20240310T070000
END:DAYLIGHT
BEGIN:STANDARD
TZOFFSETFROM:-0400
TZOFFSETTO:-0500
TZNAME:EST
DTSTART:20241103T060000
END:STANDARD
BEGIN:DAYLIGHT
TZOFFSETFROM:-0500
TZOFFSETTO:-0400
TZNAME:EDT
DTSTART:20250309T070000
END:DAYLIGHT
BEGIN:STANDARD
TZOFFSETFROM:-0400
TZOFFSETTO:-0500
TZNAME:EST
DTSTART:20251102T060000
END:STANDARD
END:VTIMEZONE
BEGIN:VEVENT
DTSTART;TZID=America/New_York:20240406T090000
DTEND;TZID=America/New_York:20240406T110000
DTSTAMP:20260421T113902
CREATED:20240228T202103Z
LAST-MODIFIED:20240228T202103Z
UID:10000812-1712394000-1712401200@ainsleysangels.org
SUMMARY:Eastern Run/Walk for Autism
DESCRIPTION:Description\nAs many as 1 in 54 children may be diagnosed with autism in the United States. You can make a difference in the lives of children with autism and their families by registering for the Virtual Run/Walk for Autism. Even though we cannot celebrate in person this year\, you can make an even bigger impact by recruiting family members\, friends\, and co-workers from across the country to form a team and raise donations. Now more than ever\, individuals with autism and their families need you! \nProceeds from the Virtual Run/Walk for Autism will fund local programs of the Autism Society of North Carolina\, the leading statewide resource organization serving the people in NC across the spectrum throughout their lifespans. Participation in this event has helped ASNC to open a Social Recreation Centers in Eastern NC that offers summer day camps\, afterschool care\, and adult programs. Funding from the Run/Walk also enabled ASNC to bring other programs to the region\, including LifeLong Interventions\, ASNC’s comprehensive treatment program for children and adults\, and workshops with ASNC clinical experts.
URL:https://ainsleysangels.org/single-event/eastern-run-walk-for-autism-2/
LOCATION:Greenville Town Common\, 105 E. First Street\, Greenville\, 27858\, United States
CATEGORIES:Greenville
ATTACH;FMTTYPE=:
END:VEVENT
END:VCALENDAR