BEGIN:VCALENDAR
VERSION:2.0
PRODID:-//Ainsley&#039;s Angels of America - ECPv6.15.20//NONSGML v1.0//EN
CALSCALE:GREGORIAN
METHOD:PUBLISH
X-ORIGINAL-URL:https://ainsleysangels.org
X-WR-CALDESC:Events for Ainsley&#039;s Angels of America
REFRESH-INTERVAL;VALUE=DURATION:PT1H
X-Robots-Tag:noindex
X-PUBLISHED-TTL:PT1H
BEGIN:VTIMEZONE
TZID:America/New_York
BEGIN:DAYLIGHT
TZOFFSETFROM:-0500
TZOFFSETTO:-0400
TZNAME:EDT
DTSTART:20230312T070000
END:DAYLIGHT
BEGIN:STANDARD
TZOFFSETFROM:-0400
TZOFFSETTO:-0500
TZNAME:EST
DTSTART:20231105T060000
END:STANDARD
BEGIN:DAYLIGHT
TZOFFSETFROM:-0500
TZOFFSETTO:-0400
TZNAME:EDT
DTSTART:20240310T070000
END:DAYLIGHT
BEGIN:STANDARD
TZOFFSETFROM:-0400
TZOFFSETTO:-0500
TZNAME:EST
DTSTART:20241103T060000
END:STANDARD
BEGIN:DAYLIGHT
TZOFFSETFROM:-0500
TZOFFSETTO:-0400
TZNAME:EDT
DTSTART:20250309T070000
END:DAYLIGHT
BEGIN:STANDARD
TZOFFSETFROM:-0400
TZOFFSETTO:-0500
TZNAME:EST
DTSTART:20251102T060000
END:STANDARD
END:VTIMEZONE
BEGIN:VEVENT
DTSTART;TZID=America/New_York:20241019T073000
DTEND;TZID=America/New_York:20241019T120000
DTSTAMP:20260423T044116
CREATED:20240228T210805Z
LAST-MODIFIED:20240228T210805Z
UID:10000819-1729323000-1729339200@ainsleysangels.org
SUMMARY:Mother Earth Brewing Ironclad Races-Half Marathon/5k
DESCRIPTION:Description\nThe 9th annual Mother Earth Brewing Ironclad Half-Marathon & 5k\, brought to you via Ironclad Races Inc and title sponsor Mother Earth Brewing. Ironclad Races Inc is a Kinston based non-profit corporation with a mission to produce sporting events in Kinston and donate all proceeds to local non-profit organizations and charities benefiting our community. If you are looking for a friendly hometown race\, this is an amazing race to do! Crowd support is awesome!
URL:https://ainsleysangels.org/single-event/mother-earth-brewing-ironclad-races-half-marathon-5k/
LOCATION:Grainger Stadium\, 400 E. Grainger Ave\, Kinston\, NC\, United States
CATEGORIES:Greenville
ATTACH;FMTTYPE=:
END:VEVENT
END:VCALENDAR