BEGIN:VCALENDAR
VERSION:2.0
PRODID:-//Ainsley&#039;s Angels of America - ECPv6.15.20//NONSGML v1.0//EN
CALSCALE:GREGORIAN
METHOD:PUBLISH
X-WR-CALNAME:Ainsley&#039;s Angels of America
X-ORIGINAL-URL:https://ainsleysangels.org
X-WR-CALDESC:Events for Ainsley&#039;s Angels of America
REFRESH-INTERVAL;VALUE=DURATION:PT1H
X-Robots-Tag:noindex
X-PUBLISHED-TTL:PT1H
BEGIN:VTIMEZONE
TZID:America/New_York
BEGIN:DAYLIGHT
TZOFFSETFROM:-0500
TZOFFSETTO:-0400
TZNAME:EDT
DTSTART:20230312T070000
END:DAYLIGHT
BEGIN:STANDARD
TZOFFSETFROM:-0400
TZOFFSETTO:-0500
TZNAME:EST
DTSTART:20231105T060000
END:STANDARD
BEGIN:DAYLIGHT
TZOFFSETFROM:-0500
TZOFFSETTO:-0400
TZNAME:EDT
DTSTART:20240310T070000
END:DAYLIGHT
BEGIN:STANDARD
TZOFFSETFROM:-0400
TZOFFSETTO:-0500
TZNAME:EST
DTSTART:20241103T060000
END:STANDARD
BEGIN:DAYLIGHT
TZOFFSETFROM:-0500
TZOFFSETTO:-0400
TZNAME:EDT
DTSTART:20250309T070000
END:DAYLIGHT
BEGIN:STANDARD
TZOFFSETFROM:-0400
TZOFFSETTO:-0500
TZNAME:EST
DTSTART:20251102T060000
END:STANDARD
END:VTIMEZONE
BEGIN:VEVENT
DTSTART;TZID=America/New_York:20241208T130000
DTEND;TZID=America/New_York:20241208T153000
DTSTAMP:20260424T111145
CREATED:20240228T211501Z
LAST-MODIFIED:20240228T211501Z
UID:10000821-1733662800-1733671800@ainsleysangels.org
SUMMARY:Reindeer Dash for Cash 10miler & 4miler
DESCRIPTION:Description\nJoin us for the 20th annual Reindeer Dash for Cash 10 Miler & 4 mile run. Our patriotic\, Christmas-themed run offers a custom-designed finisher medal\, keeping in theme with our purpose. Our uniquely designed t-shirt is one you will not want to miss. But\, just in case you do not want a shirt\, we have decreased our fee and are giving you the option to purchase our shirt. It’s a win-win. \nThe Reindeer Dash for Cash is a fundraising event to benefit the Captain Christopher Cash Memorial Foundation of NC\, Inc. All proceeds are awarded as college scholarships at East Carolina University\, ECU Army ROTC\, ECU Air Force ROTC\, NCNG Association Educational Foundation\, and NC Wesleyan College.
URL:https://ainsleysangels.org/single-event/reindeer-dash-for-cash-10miler-4miler/
LOCATION:Greenville Town Common\, 105 E. First Street\, Greenville\, 27858\, United States
CATEGORIES:Greenville
ATTACH;FMTTYPE=:
END:VEVENT
END:VCALENDAR